{ "extent": { "ymin": 5822194.2497189827, "xmin": -13738700.842799999, "ymax": 6460179.251199998, "xmax": -12798578.677714732, "spatialReference": { "latestWkid": 3857, "wkid": 102100 } }, "blockWidth": 2048, "mosaicOperator": "First", "serviceSourceType": "esriImageServiceSourceTypeMosaicDataset", "hasMultidimensions": false, "maxImageWidth": 15000, "maxRecordCount": 1000, "meanValues": [ 72.431213295730061, 72.933010675259595, 50.333899467238908 ], "hasColormap": false, "compressionType": "None", "defaultCompressionQuality": 75, "maxValues": [ 255, 255, 255 ], "hasHistograms": true, "datasetFormat": "AMD", "maxImageHeight": 4100, "sortField": "", "bandNames": [ "Band_1", "Band_2", "Band_3" ], "spatialReference": { "latestWkid": 3857, "wkid": 102100 }, "fullExtent": { "ymin": 5822194.2497189827, "xmin": -13738700.842799999, "ymax": 6460179.251199998, "xmax": -12798578.677714732, "spatialReference": { "latestWkid": 3857, "wkid": 102100 } }, "bandCount": 3, "rasterFunctionInfos": [{ "help": "", "name": "None", "description": "" }], "supportsStatistics": true, "sortableFields": "", "minValues": [ 0, 0, 0 ], "allowRasterFunction": true, "allowComputeTiePoints": false, "serviceDataType": "esriImageServiceDataTypeRGB", "supportsAdvancedQueries": true, "maxDownloadSizeLimit": 2048, "currentVersion": 12, "sortValue": null, "objectIdField": "objectid", "blockHeight": 256, "initialExtent": { "ymin": 5822194.2497189827, "xmin": -13738700.842799999, "ymax": 6460179.251199998, "xmax": -12798578.677714732, "spatialReference": { "latestWkid": 3857, "wkid": 102100 } }, "pixelSizeX": 34.969579120862491, "pixelSizeY": 34.969579120862491, "defaultMosaicMethod": "Northwest", "name": "DISASTERS_202608_FIRE_WA/202619_landsat", "allowedMosaicMethods": "NorthWest,Center,LockRaster,ByAttribute,Nadir,Viewpoint,Seamline,None", "maxDownloadImageCount": 20, "fields": [ { "domain": null, "name": "objectid", "alias": "OBJECTID", "type": "esriFieldTypeOID" }, { "domain": null, "name": "name", "length": 200, "alias": "Name", "type": "esriFieldTypeString" }, { "domain": null, "name": "minps", "alias": "MinPS", "type": "esriFieldTypeDouble" }, { "domain": null, "name": "maxps", "alias": "MaxPS", "type": "esriFieldTypeDouble" }, { "domain": null, "name": "lowps", "alias": "LowPS", "type": "esriFieldTypeDouble" }, { "domain": null, "name": "highps", "alias": "HighPS", "type": "esriFieldTypeDouble" }, { "domain": { "splitPolicy": "esriSPTDefaultValue", "name": "MosaicCatalogItemCategoryDomain", "description": "Catalog item categories.", "type": "codedValue", "codedValues": [ { "code": 0, "name": "Unknown" }, { "code": 1, "name": "Primary" }, { "code": 2, "name": "Overview" }, { "code": 3, "name": "Unprocessed Overview" }, { "code": 4, "name": "Partial Overview" }, { "code": 5, "name": "Inactive" }, { "code": 253, "name": "Uploaded" }, { "code": 254, "name": "Incomplete" }, { "code": 255, "name": "Custom" } ], "mergePolicy": "esriMPTDefaultValue" }, "name": "category", "alias": "Category", "type": "esriFieldTypeInteger" }, { "domain": null, "name": "tag", "length": 100, "alias": "Tag", "type": "esriFieldTypeString" }, { "domain": null, "name": "groupname", "length": 100, "alias": "GroupName", "type": "esriFieldTypeString" }, { "domain": null, "name": "productname", "length": 100, "alias": "ProductName", "type": "esriFieldTypeString" }, { "domain": null, "name": "centerx", "alias": "CenterX", "type": "esriFieldTypeDouble" }, { "domain": null, "name": "centery", "alias": "CenterY", "type": "esriFieldTypeDouble" }, { "domain": null, "name": "zorder", "alias": "ZOrder", "type": "esriFieldTypeInteger" }, { "domain": null, "name": "date", "alias": "Date", "type": "esriFieldTypeDateOnly" }, { "domain": null, "name": "shape", "alias": "Shape", "type": "esriFieldTypeGeometry" } ], "allowAnalysis": true, "hasRasterAttributeTable": false, "useStandardizedQueries": true, "description": "
Dates of Images:<\/SPAN><\/P> <\/P> Date of Next Image:<\/SPAN><\/P> Unknown<\/SPAN><\/P> Summary:<\/SPAN><\/P> The True Color RGB composite provides a product of how the surface would look to the naked eye from space. The RGB is created using the red, green, and blue channels of the respective instrument.<\/SPAN><\/P> These pre-fire and post-fire images pair were analyzed for normalized burn ratio (NBR). The input images were generated from the Landsat dataset at 10m resolution.<\/SPAN><\/P> NBR is defined mathematically as (NIR \u2013 SWIR)/(NIR + SWIR) where NIR is near-infrared and SWIR is short-wave infrared. dNBR is computed by the difference between the pre-fire NBR and the post-fire NBR. More information on dNBR can be found here: https://un-spider.org/advisory-support/recommended-practices/recommended-practice-burn-severity/in-detail/normalized-burn-ratio.<\/SPAN><\/P> dNBR is computed by the difference between the pre-fire NBR and the post-fire NBR. More information on dNBR can be found here: https://un-spider.org/advisory-support/recommended-practices/recommended-practice-burn-severity/in-detail/normalized-burn-ratio. A threshold of the dNBR raster flagged all the pixels that had values of -0.15 or less. This threshold was manually defined through different iterations in an effort to balance the detection of actual burned areas compared to agricultural activities and other unwanted change detections. The resulting vector was clipped to include detections that were near known fires to further reduce noise and false detections. This was done with cloud masked data, which automatically excluded areas obscured by clouds or thick smoke<\/SPAN><\/P> dNBR data may be computed while the fire is in progress. This is intentionally done to prioritize rapid data availability for proactive disaster response but means data can change over the course of the fire. Check fire containment and image dates for further context on image timing.<\/SPAN><\/P> Suggested Use:<\/SPAN><\/P> The True Color RGB provides a product of how the surface would look to the naked eye from space. The True Color RGB is produced using the 3 visible wavelength bands (red, green, and blue) from the respective sensor. Some minor atmospheric corrections have occurred.<\/SPAN><\/P> NBR is commonly used as a proxy to indicate areas which have charred vegetation. Darker areas (more negative values) in the NBR image more strongly represent the presence of burned vegetation. <\/SPAN><\/P> dNBR is commonly used as a proxy to identify fire-affected areas. Higher dNBR value are statistically correlated with greater burn severity, where negative dNBR values may represent a re-greening of or growth of vegetation in between pre and post-vegetation.<\/SPAN><\/P> The use of this dNBR product as a quantitative metric of burn severity at the time of posting this dataset should be strongly caveated. This is due to several dNBR limitations:<\/SPAN><\/P> The spectral band selections used for dNBR calculations, and the implication of changes observed following fire in those wavelengths, primarily pertain to how vegetation spectral signatures change in NIR and SWIR wavelengths following charring. Because of this, dNBR will not accurately describe burned surfaces that are not vegetation (e.g. human built infrastructure), and the interpretation of dNBR values may vary widely based on the type of vegetation burned.<\/SPAN><\/P> The degree to which dNBR is accurately determined depends on careful selection of pre and post event imagery. An effort was made to use the highest quality imagery (i.e. cloud free) with representative conditions for each scene; however, it is unknown at the time of this posting how selection of different pre/post image pairs could affect the derived dNBR values.<\/SPAN><\/P> This dataset has not been validated by independent burn severity assessments.<\/SPAN><\/P> Satellite/Sensor:<\/SPAN><\/P> Landsat 8 Operational Land Imager (OLI), Landsat 9 Operational Land Imager (OLI-2)<\/SPAN><\/P> Resolution:<\/SPAN><\/P> 30 meters<\/SPAN><\/P> Esri REST Endpoint:<\/SPAN><\/P> See Layers below.<\/SPAN><\/P> WMS Endpoint:<\/SPAN><\/P> See individual pages of layers below.<\/SPAN><\/P><\/DIV><\/DIV><\/DIV>",
"pixelType": "U8",
"meanPixelSize": 34.969579120862491,
"exportTilesAllowed": false,
"editFieldsInfo": null,
"rasterTypeInfos": [{
"help": "",
"name": "Raster Dataset",
"description": "Supports all ArcGIS Raster Datasets"
}],
"defaultResamplingMethod": "Bilinear",
"itemAccess": false,
"minScale": 0,
"serviceProperties": " Dates of Images:<\/SPAN><\/P> <\/P> Date of Next Image:<\/SPAN><\/P> Unknown<\/SPAN><\/P> Summary:<\/SPAN><\/P> The True Color RGB composite provides a product of how the surface would look to the naked eye from space. The RGB is created using the red, green, and blue channels of the respective instrument.<\/SPAN><\/P> These pre-fire and post-fire images pair were analyzed for normalized burn ratio (NBR). The input images were generated from the Landsat dataset at 10m resolution.<\/SPAN><\/P> NBR is defined mathematically as (NIR \u2013 SWIR)/(NIR + SWIR) where NIR is near-infrared and SWIR is short-wave infrared. dNBR is computed by the difference between the pre-fire NBR and the post-fire NBR. More information on dNBR can be found here: https://un-spider.org/advisory-support/recommended-practices/recommended-practice-burn-severity/in-detail/normalized-burn-ratio.<\/SPAN><\/P> dNBR is computed by the difference between the pre-fire NBR and the post-fire NBR. More information on dNBR can be found here: https://un-spider.org/advisory-support/recommended-practices/recommended-practice-burn-severity/in-detail/normalized-burn-ratio. A threshold of the dNBR raster flagged all the pixels that had values of -0.15 or less. This threshold was manually defined through different iterations in an effort to balance the detection of actual burned areas compared to agricultural activities and other unwanted change detections. The resulting vector was clipped to include detections that were near known fires to further reduce noise and false detections. This was done with cloud masked data, which automatically excluded areas obscured by clouds or thick smoke<\/SPAN><\/P> dNBR data may be computed while the fire is in progress. This is intentionally done to prioritize rapid data availability for proactive disaster response but means data can change over the course of the fire. Check fire containment and image dates for further context on image timing.<\/SPAN><\/P> Suggested Use:<\/SPAN><\/P> The True Color RGB provides a product of how the surface would look to the naked eye from space. The True Color RGB is produced using the 3 visible wavelength bands (red, green, and blue) from the respective sensor. Some minor atmospheric corrections have occurred.<\/SPAN><\/P> NBR is commonly used as a proxy to indicate areas which have charred vegetation. Darker areas (more negative values) in the NBR image more strongly represent the presence of burned vegetation. <\/SPAN><\/P> dNBR is commonly used as a proxy to identify fire-affected areas. Higher dNBR value are statistically correlated with greater burn severity, where negative dNBR values may represent a re-greening of or growth of vegetation in between pre and post-vegetation.<\/SPAN><\/P> The use of this dNBR product as a quantitative metric of burn severity at the time of posting this dataset should be strongly caveated. This is due to several dNBR limitations:<\/SPAN><\/P> The spectral band selections used for dNBR calculations, and the implication of changes observed following fire in those wavelengths, primarily pertain to how vegetation spectral signatures change in NIR and SWIR wavelengths following charring. Because of this, dNBR will not accurately describe burned surfaces that are not vegetation (e.g. human built infrastructure), and the interpretation of dNBR values may vary widely based on the type of vegetation burned.<\/SPAN><\/P> The degree to which dNBR is accurately determined depends on careful selection of pre and post event imagery. An effort was made to use the highest quality imagery (i.e. cloud free) with representative conditions for each scene; however, it is unknown at the time of this posting how selection of different pre/post image pairs could affect the derived dNBR values.<\/SPAN><\/P> This dataset has not been validated by independent burn severity assessments.<\/SPAN><\/P> Satellite/Sensor:<\/SPAN><\/P> Landsat 8 Operational Land Imager (OLI), Landsat 9 Operational Land Imager (OLI-2)<\/SPAN><\/P> Resolution:<\/SPAN><\/P> 30 meters<\/SPAN><\/P> Esri REST Endpoint:<\/SPAN><\/P> See Layers below.<\/SPAN><\/P> WMS Endpoint:<\/SPAN><\/P> See individual pages of layers below.<\/SPAN><\/P><\/DIV><\/DIV><\/DIV>",
"allowCopy": true,
"copyrightText": "NASA/MSFC, USGS",
"mensurationCapabilities": "None",
"ownershipBasedAccessControlForRasters": null
}