{ "extent": { "ymin": 6056353.4692616984, "xmin": -13092902.1153, "ymax": 6098458.809299998, "xmax": -13072806.029879272, "spatialReference": { "latestWkid": 3857, "wkid": 102100 } }, "blockWidth": 2048, "mosaicOperator": "First", "serviceSourceType": "esriImageServiceSourceTypeMosaicDataset", "hasMultidimensions": false, "maxImageWidth": 15000, "maxRecordCount": 1000, "meanValues": [-0.37739119777983937], "hasColormap": false, "compressionType": "None", "defaultCompressionQuality": 75, "maxValues": [0.29419419169425964], "hasHistograms": true, "datasetFormat": "AMD", "maxImageHeight": 4100, "sortField": "", "bandNames": ["Band_1"], "spatialReference": { "latestWkid": 3857, "wkid": 102100 }, "fullExtent": { "ymin": 6056353.4692616984, "xmin": -13092902.1153, "ymax": 6098458.809299998, "xmax": -13072806.029879272, "spatialReference": { "latestWkid": 3857, "wkid": 102100 } }, "bandCount": 1, "rasterFunctionInfos": [{ "help": "", "name": "None", "description": "" }], "supportsStatistics": true, "sortableFields": "MinPS,MaxPS,LowPS,HighPS,CenterX,CenterY,ZOrder,Shape_Length,Shape_Area", "minValues": [-0.75286757946014404], "allowRasterFunction": true, "allowComputeTiePoints": false, "serviceDataType": "esriImageServiceDataTypeGeneric", "supportsAdvancedQueries": true, "maxDownloadSizeLimit": 2048, "currentVersion": 12, "sortValue": null, "objectIdField": "objectid", "blockHeight": 256, "initialExtent": { "ymin": 6056353.4692616984, "xmin": -13092902.1153, "ymax": 6098458.809299998, "xmax": -13072806.029879272, "spatialReference": { "latestWkid": 3857, "wkid": 102100 } }, "pixelSizeX": 1.3014756441116333, "pixelSizeY": 1.3014756441116333, "defaultMosaicMethod": "Northwest", "name": "DISASTERS_202608_FIRE_WA/202619_pleiades_indices", "allowedMosaicMethods": "NorthWest,Center,LockRaster,ByAttribute,Nadir,Viewpoint,Seamline,None", "maxDownloadImageCount": 20, "fields": [ { "domain": null, "name": "objectid", "alias": "OBJECTID", "type": "esriFieldTypeOID" }, { "domain": null, "name": "name", "length": 200, "alias": "Name", "type": "esriFieldTypeString" }, { "domain": null, "name": "minps", "alias": "MinPS", "type": "esriFieldTypeDouble" }, { "domain": null, "name": "maxps", "alias": "MaxPS", "type": "esriFieldTypeDouble" }, { "domain": null, "name": "lowps", "alias": "LowPS", "type": "esriFieldTypeDouble" }, { "domain": null, "name": "highps", "alias": "HighPS", "type": "esriFieldTypeDouble" }, { "domain": { "splitPolicy": "esriSPTDefaultValue", "name": "MosaicCatalogItemCategoryDomain", "description": "Catalog item categories.", "type": "codedValue", "codedValues": [ { "code": 0, "name": "Unknown" }, { "code": 1, "name": "Primary" }, { "code": 2, "name": "Overview" }, { "code": 3, "name": "Unprocessed Overview" }, { "code": 4, "name": "Partial Overview" }, { "code": 5, "name": "Inactive" }, { "code": 253, "name": "Uploaded" }, { "code": 254, "name": "Incomplete" }, { "code": 255, "name": "Custom" } ], "mergePolicy": "esriMPTDefaultValue" }, "name": "category", "alias": "Category", "type": "esriFieldTypeInteger" }, { "domain": null, "name": "tag", "length": 100, "alias": "Tag", "type": "esriFieldTypeString" }, { "domain": null, "name": "groupname", "length": 100, "alias": "GroupName", "type": "esriFieldTypeString" }, { "domain": null, "name": "productname", "length": 100, "alias": "ProductName", "type": "esriFieldTypeString" }, { "domain": null, "name": "centerx", "alias": "CenterX", "type": "esriFieldTypeDouble" }, { "domain": null, "name": "centery", "alias": "CenterY", "type": "esriFieldTypeDouble" }, { "domain": null, "name": "zorder", "alias": "ZOrder", "type": "esriFieldTypeInteger" }, { "domain": null, "name": "shape", "alias": "Shape", "type": "esriFieldTypeGeometry" } ], "allowAnalysis": true, "hasRasterAttributeTable": false, "useStandardizedQueries": true, "description": "
Dates of Images:<\/span><\/p> Post-Event: August 14, 2026<\/span><\/p> Date of Next Image:<\/span><\/p> None<\/span><\/p> Summary:<\/span><\/p> The dynamically generated Normalized Difference Vegetation Index (NDVI) layer is an index for quantifying green vegetation. It reflects the state of vegetation health based on how vegetation reflects light at certain wavelengths.<\/span><\/p> The Normalized Difference Water Index (NDWI) provides a different view of the Earth's surface combining different bands to make water bodies more obvious. This index can be used to identify flooded areas as well as heavily saturated areas.<\/span><\/p> Suggested Use:<\/span><\/p> For NDVI, dark green colors are areas with a lot of green leaf growth which indicates the presence of chlorophyll. Chlorophyll reflects more infrared light and less visible light. Areas with some green leaf growth are in light greens, and areas with little to no vegetation growth are even lighter greens.<\/span><\/p> For NDWI, Areas of existing water, such as a rivers or lakes appear in the darkest blue with high values near 1, while dry land appears in the darkest brown with low values near -1. This product can be used to identify potentially flooded areas that can be seen in varying shades of green and light brown depending on the amount of moisture picked up by the satellite. Note: Areas of cloud cover will show up in varying shades of green/blue similar to water<\/span><\/p> Satellite/Sensor:<\/span><\/p> Airbus Pléiades Neo 4<\/span><\/p> Resolution:<\/span><\/p> ~1.3 meters<\/span><\/p> Credits:<\/span><\/p> NASA, Airbus. For derived products: \u201cIncludes copyrighted material of Airbus. All rights reserved.\u201d This work utilized data made available through the NASA Commercial Satellite Data Acquisition (CSDA) program.<\/span><\/p> Esri REST Endpoint:<\/span><\/p> See layers below.<\/span><\/p><\/div><\/div><\/div>",
"pixelType": "F32",
"meanPixelSize": 1.3014756441116333,
"exportTilesAllowed": false,
"editFieldsInfo": null,
"rasterTypeInfos": [{
"help": "",
"name": "Raster Dataset",
"description": "Supports all ArcGIS Raster Datasets"
}],
"defaultResamplingMethod": "Bilinear",
"itemAccess": false,
"minScale": 0,
"serviceProperties": " Dates of Images:<\/SPAN><\/P> Post-Event: August 14, 2026<\/SPAN><\/P> Date of Next Image:<\/SPAN><\/P> None<\/SPAN><\/P> Summary:<\/SPAN><\/P> The dynamically generated Normalized Difference Vegetation Index (NDVI) layer is an index for quantifying green vegetation. It reflects the state of vegetation health based on how vegetation reflects light at certain wavelengths.<\/SPAN><\/P> The Normalized Difference Water Index (NDWI) provides a different view of the Earth's surface combining different bands to make water bodies more obvious. This index can be used to identify flooded areas as well as heavily saturated areas.<\/SPAN><\/P> Suggested Use:<\/SPAN><\/P> For NDVI, dark green colors are areas with a lot of green leaf growth which indicates the presence of chlorophyll. Chlorophyll reflects more infrared light and less visible light. Areas with some green leaf growth are in light greens, and areas with little to no vegetation growth are even lighter greens.<\/SPAN><\/P> For NDWI, Areas of existing water, such as a rivers or lakes appear in the darkest blue with high values near 1, while dry land appears in the darkest brown with low values near -1. This product can be used to identify potentially flooded areas that can be seen in varying shades of green and light brown depending on the amount of moisture picked up by the satellite. Note: Areas of cloud cover will show up in varying shades of green/blue similar to water<\/SPAN><\/P> Satellite/Sensor:<\/SPAN><\/P> Airbus Pléiades Neo 4<\/SPAN><\/P> Resolution:<\/SPAN><\/P> ~1.3 meters<\/SPAN><\/P> Credits:<\/SPAN><\/P> NASA, Airbus. For derived products: \u201cIncludes copyrighted material of Airbus. All rights reserved.\u201d This work utilized data made available through the NASA Commercial Satellite Data Acquisition (CSDA) program.<\/SPAN><\/P> Esri REST Endpoint:<\/SPAN><\/P> See layers below.<\/SPAN><\/P><\/DIV><\/DIV><\/DIV>",
"allowCopy": true,
"copyrightText": "NASA Disasters Program, Airbus. For derived products: \u201cIncludes copyrighted material of Skysat. All rights reserved.\u201d This work utilized data made available through the NASA Commercial Satellite Data Acquisition (CSDA) program.",
"mensurationCapabilities": "None",
"ownershipBasedAccessControlForRasters": null
}