{ "extent": { "ymin": 1391171.5155849282, "xmin": -17900174.119599998, "ymax": 2704741.4756999984, "xmax": -16553208.313041324, "spatialReference": { "latestWkid": 3857, "wkid": 102100 } }, "blockWidth": 2048, "mosaicOperator": "First", "serviceSourceType": "esriImageServiceSourceTypeMosaicDataset", "hasMultidimensions": false, "maxImageWidth": 15000, "maxRecordCount": 1000, "meanValues": [15.983721802053633], "hasColormap": false, "compressionType": "None", "defaultCompressionQuality": 75, "maxValues": [368.5050048828125], "hasHistograms": true, "datasetFormat": "AMD", "maxImageHeight": 4100, "sortField": "", "bandNames": ["Band_1"], "spatialReference": { "latestWkid": 3857, "wkid": 102100 }, "fullExtent": { "ymin": 1391171.5155849282, "xmin": -17900174.119599998, "ymax": 2704741.4756999984, "xmax": -16553208.313041324, "spatialReference": { "latestWkid": 3857, "wkid": 102100 } }, "bandCount": 1, "rasterFunctionInfos": [ { "help": "", "name": "CIM_GPM_1000", "description": "Converted from CIM renderer: Classification method: Manual, 16 classes; Color models used: HSV, LAB, RGB; Transparency found; no Custom labels found\nOriginal description: Rendered Raster RFT export for GPM (0-1000mm classifications at 100mm intervals)" }, { "help": "", "name": "CIM_GPM_500", "description": "Converted from CIM renderer: Classification method: Manual, 16 classes; Color models used: HSV, LAB, RGB; Transparency found; no Custom labels found\nOriginal description: Rendered Raster RFT export for GPM (0-1000mm classifications at 100mm intervals)" }, { "help": "", "name": "None", "description": "Make a Raster or Raster Dataset into a Function Raster Dataset." } ], "supportsStatistics": true, "sortableFields": "MinPS,MaxPS,LowPS,HighPS,CenterX,CenterY,ZOrder,Shape_Length,Shape_Area", "minValues": [0], "allowRasterFunction": true, "allowComputeTiePoints": false, "serviceDataType": "esriImageServiceDataTypeGeneric", "supportsAdvancedQueries": true, "maxDownloadSizeLimit": 2048, "currentVersion": 12, "sortValue": null, "objectIdField": "objectid", "blockHeight": 256, "initialExtent": { "ymin": 1391171.5155849282, "xmin": -17900174.119599998, "ymax": 2704741.4756999984, "xmax": -16553208.313041324, "spatialReference": { "latestWkid": 3857, "wkid": 102100 } }, "pixelSizeX": 11131.948814534497, "pixelSizeY": 11131.948814534493, "defaultMosaicMethod": "Northwest", "name": "DISASTERS_202609_HURRICANE_NOLO/gpm_202624", "allowedMosaicMethods": "NorthWest,Center,LockRaster,ByAttribute,Nadir,Viewpoint,Seamline,None", "maxDownloadImageCount": 20, "fields": [ { "domain": null, "name": "objectid", "alias": "OBJECTID", "type": "esriFieldTypeOID" }, { "domain": null, "name": "name", "length": 200, "alias": "Name", "type": "esriFieldTypeString" }, { "domain": null, "name": "minps", "alias": "MinPS", "type": "esriFieldTypeDouble" }, { "domain": null, "name": "maxps", "alias": "MaxPS", "type": "esriFieldTypeDouble" }, { "domain": null, "name": "lowps", "alias": "LowPS", "type": "esriFieldTypeDouble" }, { "domain": null, "name": "highps", "alias": "HighPS", "type": "esriFieldTypeDouble" }, { "domain": { "splitPolicy": "esriSPTDefaultValue", "name": "MosaicCatalogItemCategoryDomain", "description": "Catalog item categories.", "type": "codedValue", "codedValues": [ { "code": 0, "name": "Unknown" }, { "code": 1, "name": "Primary" }, { "code": 2, "name": "Overview" }, { "code": 3, "name": "Unprocessed Overview" }, { "code": 4, "name": "Partial Overview" }, { "code": 5, "name": "Inactive" }, { "code": 253, "name": "Uploaded" }, { "code": 254, "name": "Incomplete" }, { "code": 255, "name": "Custom" } ], "mergePolicy": "esriMPTDefaultValue" }, "name": "category", "alias": "Category", "type": "esriFieldTypeInteger" }, { "domain": null, "name": "tag", "length": 100, "alias": "Tag", "type": "esriFieldTypeString" }, { "domain": null, "name": "groupname", "length": 100, "alias": "GroupName", "type": "esriFieldTypeString" }, { "domain": null, "name": "productname", "length": 100, "alias": "ProductName", "type": "esriFieldTypeString" }, { "domain": null, "name": "centerx", "alias": "CenterX", "type": "esriFieldTypeDouble" }, { "domain": null, "name": "centery", "alias": "CenterY", "type": "esriFieldTypeDouble" }, { "domain": null, "name": "zorder", "alias": "ZOrder", "type": "esriFieldTypeInteger" }, { "domain": null, "name": "date", "alias": "Date", "type": "esriFieldTypeDateOnly" }, { "domain": null, "name": "shape", "alias": "Shape", "type": "esriFieldTypeGeometry" } ], "allowAnalysis": true, "hasRasterAttributeTable": false, "useStandardizedQueries": true, "description": "
Dates of Images:<\/span><\/p> September 24, 2026 (0 UTC) to September 25, 2026 (0 UTC)<\/span><\/p> Date of Next Image:<\/span><\/p> Daily accumulation from September 24, updated as frequently as the following day at 1500 UTC.<\/span><\/p> Summary:<\/span><\/p> GPM IMERG Early Precipitation Rate L3 V07(GPM IMERG Early Precipitation L3 Half Hourly 0.1 degree x 0.1 degree V07 (GPM_3IMERGHHE 07))is an image service derived from the Integrated Multi-satellitE Retrievals for Global Precipitation Measurement (GPM) Early dataset.<\/span><\/p> The web service shows total precipitation (mm) for the date range outlined by aggregating 30-minute intervals.<\/span><\/p> IMERG is an algorithm that estimates precipitation rate from multiple passive microwave sensors in the GPM constellation, the GPM Dual-Frequency Radar, and infrared (IR) sensors mounted on geostationary satellites. The data is calibrated seasonally and regionally with varying climatological calibration to the Final Run, which adjusts the Early based on the climatological relationship between Early and monthly gauge data. Input precipitation data estimates computed from the various satellite passive microwave sensors are intercalibrated to the Combined Radar-Radiometer Algorithm (CORRA) product (because it is presumed to be the best snapshot Tropical Rainfall Measuring Mission (TRMM)/GPM estimate after adjustment to the monthly Global Precipitation Climatology Project Satellite-Gauge (GPCP SG)), then \"forward morphed\" and combined with microwave precipitation-calibrated geo-IR fields to provide half-hourly precipitation estimates on a 0.1°x0.1° (roughly 10x10 km) grid over the globe. Precipitation phase is computed using analyses of surface temperature, humidity, and pressure.<\/span><\/p> Credits:<\/span><\/p> Huffman, G.J., E.F. Stocker, D.T. Bolvin, E.J. Nelkin, Jackson Tan (2024), GPM IMERG Early Precipitation L3 Half Hourly 0.1 degree x 0.1 degree V07, Greenbelt, MD, Goddard Earth Sciences Data and Information Services Center (GES DISC), Accessed [Data Access Date], 10.5067/GPM/IMERG/3B-HH-E/07<\/span><\/p> Data Access:<\/span><\/p> This data was accessed using Giovanni with a sample URL as follows:https://giovanni.gsfc.nasa.gov/giovanni/#service=AcMp&starttime=2026-04-10T00:00:00Z&endtime=2026-04-16T23:59:59Z&bbox=130.0781,-3.3838,163.125,26.8506&data=GPM_3IMERGHHL_07_precipitation<\/span><\/p> Dataset at a Glance:<\/span><\/p> Shortname: GPM_3IMERGHHE<\/span><\/p> DOI:10.5067/GPM/IMERG/3B-HH-E/07<\/span><\/p> Version: 07<\/span><\/p> Coverage: -180.0,-90.0,180.0,90.0<\/span><\/p> Temporal Coverage: 1998-01-01 to Present<\/span><\/p> Data Resolution:<\/span><\/p> Spatial: 0.1 ° x 0.1 °<\/span><\/p> Temporal: 30 minutes<\/span><\/p> Symbology:<\/span><\/p> The default symbology in the Map Viewer may be changed to accommodate other color schemes using the settings in the Image Display panel from the layer settings menu. NoData values, and values less than 0.03 mm/hr (the current threshold value for the IMERG algorithm) have been removed. Ensure that pop-ups are enabled to view pixel values (select Modify Map first).<\/span><\/p><\/div><\/div><\/div>",
"pixelType": "F32",
"meanPixelSize": 11131.948814534495,
"exportTilesAllowed": false,
"editFieldsInfo": null,
"rasterTypeInfos": [{
"help": "",
"name": "Raster Dataset",
"description": "Supports all ArcGIS Raster Datasets"
}],
"defaultResamplingMethod": "Bilinear",
"itemAccess": false,
"minScale": 0,
"serviceProperties": " Dates of Images:<\/SPAN><\/P> September 24, 2026 (0 UTC) to September 25, 2026 (0 UTC)<\/SPAN><\/P> Date of Next Image:<\/SPAN><\/P> Daily accumulation from September 24, updated as frequently as the following day at 1500 UTC.<\/SPAN><\/P> Summary:<\/SPAN><\/P> GPM IMERG Early Precipitation Rate L3 V07(GPM IMERG Early Precipitation L3 Half Hourly 0.1 degree x 0.1 degree V07 (GPM_3IMERGHHE 07))is an image service derived from the Integrated Multi-satellitE Retrievals for Global Precipitation Measurement (GPM) Early dataset.<\/SPAN><\/P> The web service shows total precipitation (mm) for the date range outlined by aggregating 30-minute intervals.<\/SPAN><\/P> IMERG is an algorithm that estimates precipitation rate from multiple passive microwave sensors in the GPM constellation, the GPM Dual-Frequency Radar, and infrared (IR) sensors mounted on geostationary satellites. The data is calibrated seasonally and regionally with varying climatological calibration to the Final Run, which adjusts the Early based on the climatological relationship between Early and monthly gauge data. Input precipitation data estimates computed from the various satellite passive microwave sensors are intercalibrated to the Combined Radar-Radiometer Algorithm (CORRA) product (because it is presumed to be the best snapshot Tropical Rainfall Measuring Mission (TRMM)/GPM estimate after adjustment to the monthly Global Precipitation Climatology Project Satellite-Gauge (GPCP SG)), then \"forward morphed\" and combined with microwave precipitation-calibrated geo-IR fields to provide half-hourly precipitation estimates on a 0.1°x0.1° (roughly 10x10 km) grid over the globe. Precipitation phase is computed using analyses of surface temperature, humidity, and pressure.<\/SPAN><\/P> Credits:<\/SPAN><\/P> Huffman, G.J., E.F. Stocker, D.T. Bolvin, E.J. Nelkin, Jackson Tan (2024), GPM IMERG Early Precipitation L3 Half Hourly 0.1 degree x 0.1 degree V07, Greenbelt, MD, Goddard Earth Sciences Data and Information Services Center (GES DISC), Accessed [Data Access Date], 10.5067/GPM/IMERG/3B-HH-E/07<\/SPAN><\/P> Data Access:<\/SPAN><\/P> This data was accessed using Giovanni with a sample URL as follows:https://giovanni.gsfc.nasa.gov/giovanni/#service=AcMp&starttime=2026-04-10T00:00:00Z&endtime=2026-04-16T23:59:59Z&bbox=130.0781,-3.3838,163.125,26.8506&data=GPM_3IMERGHHL_07_precipitation<\/SPAN><\/P> Dataset at a Glance:<\/SPAN><\/P> Shortname: GPM_3IMERGHHE<\/SPAN><\/P> DOI:10.5067/GPM/IMERG/3B-HH-E/07<\/SPAN><\/P> Version: 07<\/SPAN><\/P> Coverage: -180.0,-90.0,180.0,90.0<\/SPAN><\/P> Temporal Coverage: 1998-01-01 to Present<\/SPAN><\/P> Data Resolution:<\/SPAN><\/P> Spatial: 0.1 ° x 0.1 °<\/SPAN><\/P> Temporal: 30 minutes<\/SPAN><\/P> Symbology:<\/SPAN><\/P> The default symbology in the Map Viewer may be changed to accommodate other color schemes using the settings in the Image Display panel from the layer settings menu. NoData values, and values less than 0.03 mm/hr (the current threshold value for the IMERG algorithm) have been removed. Ensure that pop-ups are enabled to view pixel values (select Modify Map first).<\/SPAN><\/P><\/DIV><\/DIV><\/DIV>",
"allowCopy": true,
"copyrightText": "Huffman, G.J., E.F. Stocker, D.T. Bolvin, E.J. Nelkin, Jackson Tan (2024), GPM IMERG Early Precipitation L3 Half Hourly 0.1 degree x 0.1 degree V07, Greenbelt, MD, Goddard Earth Sciences Data and Information Services Center (GES DISC), Accessed [Data Access Date], 10.5067/GPM/IMERG/3B-HH-E/07",
"mensurationCapabilities": "Basic",
"ownershipBasedAccessControlForRasters": null
}