{ "extent": { "ymin": 2882408.5948709999, "xmin": -13908257.1797, "ymax": 6970060.2968000025, "xmax": -7466198.2474932633, "spatialReference": { "latestWkid": 3857, "wkid": 102100 } }, "blockWidth": 2048, "mosaicOperator": "First", "serviceSourceType": "esriImageServiceSourceTypeMosaicDataset", "hasMultidimensions": false, "maxImageWidth": 15000, "maxRecordCount": 1000, "meanValues": [], "hasColormap": false, "compressionType": "None", "defaultCompressionQuality": 75, "maxValues": [], "hasHistograms": false, "datasetFormat": "AMD", "maxImageHeight": 4100, "sortField": "", "bandNames": ["Band_1"], "spatialReference": { "latestWkid": 3857, "wkid": 102100 }, "fullExtent": { "ymin": 2882408.5948709999, "xmin": -13908257.1797, "ymax": 6970060.2968000025, "xmax": -7466198.2474932633, "spatialReference": { "latestWkid": 3857, "wkid": 102100 } }, "bandCount": 1, "rasterFunctionInfos": [ { "help": "", "name": "SPoRTLIS_VSM200_RenderedRaster", "description": "Converted from CIM renderer: Classification method: Manual, 12 classes; Color model used: RGB; Transparency found; Custom labels found\nOriginal description: SPoRTLIS_VSM200_RenderedRaster exported from 10/7 copy. Pre-CIM conversion, will show as RGB." }, { "help": "", "name": "lis_percentile_red-blue", "description": "A raster function template." }, { "help": "", "name": "None", "description": "Make a Raster or Raster Dataset into a Function Raster Dataset." } ], "supportsStatistics": true, "sortableFields": "MinPS,MaxPS,LowPS,HighPS,CenterX,CenterY,ZOrder,Shape_Length,Shape_Area", "minValues": [], "allowRasterFunction": true, "allowComputeTiePoints": false, "serviceDataType": "esriImageServiceDataTypeGeneric", "supportsAdvancedQueries": true, "maxDownloadSizeLimit": 2048, "currentVersion": 12, "sortValue": null, "objectIdField": "objectid", "blockHeight": 256, "initialExtent": { "ymin": 2882408.5948709999, "xmin": -13908257.1797, "ymax": 6970060.2968000025, "xmax": -7466198.2474932633, "spatialReference": { "latestWkid": 3857, "wkid": 102100 } }, "pixelSizeX": 3339.5847237982048, "pixelSizeY": 3339.5847237982048, "defaultMosaicMethod": "Northwest", "name": "DISASTERS_202610_HURRICANE_ISAIAS/202625_SPoRTLIS_VSM", "allowedMosaicMethods": "NorthWest,Center,LockRaster,ByAttribute,Nadir,Viewpoint,Seamline,None", "maxDownloadImageCount": 20, "fields": [ { "domain": null, "name": "objectid", "alias": "OBJECTID", "type": "esriFieldTypeOID" }, { "domain": null, "name": "name", "length": 200, "alias": "Name", "type": "esriFieldTypeString" }, { "domain": null, "name": "minps", "alias": "MinPS", "type": "esriFieldTypeDouble" }, { "domain": null, "name": "maxps", "alias": "MaxPS", "type": "esriFieldTypeDouble" }, { "domain": null, "name": "lowps", "alias": "LowPS", "type": "esriFieldTypeDouble" }, { "domain": null, "name": "highps", "alias": "HighPS", "type": "esriFieldTypeDouble" }, { "domain": { "splitPolicy": "esriSPTDefaultValue", "name": "MosaicCatalogItemCategoryDomain", "description": "Catalog item categories.", "type": "codedValue", "codedValues": [ { "code": 0, "name": "Unknown" }, { "code": 1, "name": "Primary" }, { "code": 2, "name": "Overview" }, { "code": 3, "name": "Unprocessed Overview" }, { "code": 4, "name": "Partial Overview" }, { "code": 5, "name": "Inactive" }, { "code": 253, "name": "Uploaded" }, { "code": 254, "name": "Incomplete" }, { "code": 255, "name": "Custom" } ], "mergePolicy": "esriMPTDefaultValue" }, "name": "category", "alias": "Category", "type": "esriFieldTypeInteger" }, { "domain": null, "name": "tag", "length": 100, "alias": "Tag", "type": "esriFieldTypeString" }, { "domain": null, "name": "groupname", "length": 100, "alias": "GroupName", "type": "esriFieldTypeString" }, { "domain": null, "name": "productname", "length": 100, "alias": "ProductName", "type": "esriFieldTypeString" }, { "domain": null, "name": "centerx", "alias": "CenterX", "type": "esriFieldTypeDouble" }, { "domain": null, "name": "centery", "alias": "CenterY", "type": "esriFieldTypeDouble" }, { "domain": null, "name": "zorder", "alias": "ZOrder", "type": "esriFieldTypeInteger" }, { "domain": null, "name": "date", "alias": "Date", "type": "esriFieldTypeDateOnly" }, { "domain": null, "name": "shape", "alias": "Shape", "type": "esriFieldTypeGeometry" } ], "allowAnalysis": true, "hasRasterAttributeTable": false, "useStandardizedQueries": true, "description": "
Update Frequency:<\/span><\/p> Daily<\/span><\/p> Summary:<\/span><\/p> Land Information System (LIS) 0-200 cm layer Soil Moisture Percentile generated by the NASA SPoRT Center over a Contiguous United States domain.<\/span><\/p> The NASA Land Information System (LIS) is a high-performance land surface modeling and data assimilation system used to characterize land surface states and fluxes by integrating satellite-derived datasets, ground-based observations, and model re-analyses. The NASA SPoRT Center at MSFC developed a real-time configuration of the LIS (\u201cSPoRT-LIS\u201d), which is designed for use in experimental operations by domestic and international users. SPoRT-LIS is an observations-driven, historical and real-time modeling setup that runs the Noah land surface model over a full CONUS domain. It provides soil moisture estimates at approximately 3-km horizontal grid spacing over a 2-meter-deep soil column and has been validated for regional applications and against U.S. Drought Monitor products.<\/span><\/p> SPoRT-LIS consists of a 33-year soil moisture climatology spanning from 1981 to 2013, which is extended to the present time and forced by atmospheric analyses from the operational North American Land Data Assimilation System-Phase 2 through 4 days prior to the current time, and by the National Centers for Environmental Prediction Global Data Assimilation System in combination with hourly Multi-Radar Multi-Sensor precipitation estimates from 4 days ago to the present time. A unique feature of SPoRT-LIS is the incorporation of daily, real-time satellite retrievals of VIIRS Green Vegetation Fraction since 2012, which results in more representative evapotranspiration and ultimately soil moisture estimates than using a fixed seasonal depiction of vegetation in the model.<\/span><\/p> The 33-year soil moisture climatology also provides the database for real-time soil moisture percentiles evaluated for all U.S. counties and at each modeled grid point. The present-day soil moisture analyses are compared to daily historical distributions to determine the soil wet/dry anomalies for the specific day of the year. Soil moisture percentile maps are constructed for the model layers, and these data are frequently referenced by scientists and operational agencies contributing to the weekly U.S. Drought Monitor product.<\/span><\/p> Suggested Use:<\/span><\/p> This product can be used for drought assessment, fire risk assessment, potential for flooding hazards associated with heavy precipitation and high percentiles; contextualizing soil moisture content to historical values.<\/span><\/p> Soil moisture percentiles are shown using a Classified Color Ramp (Multi-Color, 11-classes) that colorize the low percentile categories (≤ 30th) as shown in the U.S. Drought Monitor weekly products, ranging from yellow to dark red. The high percentile categories (≥ 70th) are colorized with increasing blue intensity. Intermediate percentiles in the 30th to 70th range are assigned a nominal gray shade.<\/span><\/p> The 0-200 cm layer combines SPoRT-LIS soil moisture analyses from the top four model layers 0-10 cm, 10-40 cm, 40-100 cm, and 100-200cm. The 0-100 cm cumulative layer adjusts more slowly to precipitation episodes or the lack thereof compared to the 0-10 cm and 0-40 cm percentiles. It takes considerably longer time periods for intercepted rainfall and snowmelt to infiltrate from the upper 0-10 cm and 10-40 cm layers into the next model layer at 40-100 cm, or conversely for the deeper soil layer to dry from evapotranspiration processes. Expect anomalies of soil moisture percentiles in the 0-100 cm cumulative layer to respond on the order of weeks to months (or longer, especially during dry periods), depending on the soil classification and soil responsiveness.<\/span><\/p> Data Caveats:<\/span><\/p> The SPoRT-LIS is as good as the input forcing analyses, so occasional soil moisture artifacts may appear in the horizontal maps related to quality-control issues of the input datasets. These can be manifested with unusually low or high percentiles, especially along international borders, coastlines, and isolated dry \u201cbulls-eyes\u201d at rain gauge with quality issues.<\/span><\/p> Data Visualization:<\/span><\/p> The Soil Moisture Percentile is the histogram rank of the current day\u2019s soil moisture value compared to the 33-year climatology for the present day. The percentile places into historical context the soil moisture to determine how unusually wet or dry, or typical the conditions are. Percentile thresholds as established by the drought community are used to categorize soil moisture dry anomalies as follows:<\/span><\/p> Further Reference:<\/span><\/p> NASA SPoRT project page: https://weather.ndc.nasa.gov/sport/<\/span><\/p> Real-time SPoRT-LIS viewer: https://weather.ndc.nasa.gov/sport/viewer/?dataset=lis_conus<\/span><\/p> Daily animations of experimental 2-week forecasts of SPoRT-LIS soil moisture percentiles: https://geo.nsstc.nasa.gov/SPoRT/modeling/lis/conus3km/forecasts/<\/span><\/p> NASA Land Information System project page: https://lis.gsfc.nasa.gov/<\/span><\/p> U.S. Drought Monitor page: https://droughtmonitor.unl.edu/<\/span><\/p> Esri REST Endpoint: <\/span><\/p> See URL Section on right side of page<\/span><\/p><\/div><\/div><\/div>",
"pixelType": "F64",
"meanPixelSize": 3339.5847237982048,
"exportTilesAllowed": false,
"editFieldsInfo": null,
"rasterTypeInfos": [{
"help": "",
"name": "Raster Dataset",
"description": "Supports all ArcGIS Raster Datasets"
}],
"defaultResamplingMethod": "Bilinear",
"itemAccess": false,
"minScale": 0,
"serviceProperties": " Update Frequency:<\/SPAN><\/P> Daily<\/SPAN><\/P> Summary:<\/SPAN><\/P> Land Information System (LIS) 0-200 cm layer Soil Moisture Percentile generated by the NASA SPoRT Center over a Contiguous United States domain.<\/SPAN><\/P> The NASA Land Information System (LIS) is a high-performance land surface modeling and data assimilation system used to characterize land surface states and fluxes by integrating satellite-derived datasets, ground-based observations, and model re-analyses. The NASA SPoRT Center at MSFC developed a real-time configuration of the LIS (\u201cSPoRT-LIS\u201d), which is designed for use in experimental operations by domestic and international users. SPoRT-LIS is an observations-driven, historical and real-time modeling setup that runs the Noah land surface model over a full CONUS domain. It provides soil moisture estimates at approximately 3-km horizontal grid spacing over a 2-meter-deep soil column and has been validated for regional applications and against U.S. Drought Monitor products.<\/SPAN><\/P> SPoRT-LIS consists of a 33-year soil moisture climatology spanning from 1981 to 2013, which is extended to the present time and forced by atmospheric analyses from the operational North American Land Data Assimilation System-Phase 2 through 4 days prior to the current time, and by the National Centers for Environmental Prediction Global Data Assimilation System in combination with hourly Multi-Radar Multi-Sensor precipitation estimates from 4 days ago to the present time. A unique feature of SPoRT-LIS is the incorporation of daily, real-time satellite retrievals of VIIRS Green Vegetation Fraction since 2012, which results in more representative evapotranspiration and ultimately soil moisture estimates than using a fixed seasonal depiction of vegetation in the model.<\/SPAN><\/P> The 33-year soil moisture climatology also provides the database for real-time soil moisture percentiles evaluated for all U.S. counties and at each modeled grid point. The present-day soil moisture analyses are compared to daily historical distributions to determine the soil wet/dry anomalies for the specific day of the year. Soil moisture percentile maps are constructed for the model layers, and these data are frequently referenced by scientists and operational agencies contributing to the weekly U.S. Drought Monitor product.<\/SPAN><\/P> Suggested Use:<\/SPAN><\/P> This product can be used for drought assessment, fire risk assessment, potential for flooding hazards associated with heavy precipitation and high percentiles; contextualizing soil moisture content to historical values.<\/SPAN><\/P> Soil moisture percentiles are shown using a Classified Color Ramp (Multi-Color, 11-classes) that colorize the low percentile categories (≤ 30th) as shown in the U.S. Drought Monitor weekly products, ranging from yellow to dark red. The high percentile categories (≥ 70th) are colorized with increasing blue intensity. Intermediate percentiles in the 30th to 70th range are assigned a nominal gray shade.<\/SPAN><\/P> The 0-200 cm layer combines SPoRT-LIS soil moisture analyses from the top four model layers 0-10 cm, 10-40 cm, 40-100 cm, and 100-200cm. The 0-100 cm cumulative layer adjusts more slowly to precipitation episodes or the lack thereof compared to the 0-10 cm and 0-40 cm percentiles. It takes considerably longer time periods for intercepted rainfall and snowmelt to infiltrate from the upper 0-10 cm and 10-40 cm layers into the next model layer at 40-100 cm, or conversely for the deeper soil layer to dry from evapotranspiration processes. Expect anomalies of soil moisture percentiles in the 0-100 cm cumulative layer to respond on the order of weeks to months (or longer, especially during dry periods), depending on the soil classification and soil responsiveness.<\/SPAN><\/P> Data Caveats:<\/SPAN><\/P> The SPoRT-LIS is as good as the input forcing analyses, so occasional soil moisture artifacts may appear in the horizontal maps related to quality-control issues of the input datasets. These can be manifested with unusually low or high percentiles, especially along international borders, coastlines, and isolated dry \u201cbulls-eyes\u201d at rain gauge with quality issues.<\/SPAN><\/P> Data Visualization:<\/SPAN><\/P> The Soil Moisture Percentile is the histogram rank of the current day\u2019s soil moisture value compared to the 33-year climatology for the present day. The percentile places into historical context the soil moisture to determine how unusually wet or dry, or typical the conditions are. Percentile thresholds as established by the drought community are used to categorize soil moisture dry anomalies as follows:<\/SPAN><\/P> Further Reference:<\/SPAN><\/P> NASA SPoRT project page: https://weather.ndc.nasa.gov/sport/<\/SPAN><\/P> Real-time SPoRT-LIS viewer: https://weather.ndc.nasa.gov/sport/viewer/?dataset=lis_conus<\/SPAN><\/P> Daily animations of experimental 2-week forecasts of SPoRT-LIS soil moisture percentiles: https://geo.nsstc.nasa.gov/SPoRT/modeling/lis/conus3km/forecasts/<\/SPAN><\/P> NASA Land Information System project page: https://lis.gsfc.nasa.gov/<\/SPAN><\/P> U.S. Drought Monitor page: https://droughtmonitor.unl.edu/<\/SPAN><\/P> Esri REST Endpoint: <\/SPAN><\/P> See URL Section on right side of page<\/SPAN><\/P><\/DIV><\/DIV><\/DIV>",
"allowCopy": true,
"copyrightText": "NASA, MSFC SPoRT Center, NASA Land Information System",
"mensurationCapabilities": "Basic",
"ownershipBasedAccessControlForRasters": null
}