{ "extent": { "ymin": 3421721.5410638982, "xmin": -10286384.7805, "ymax": 4479256.7035999969, "xmax": -8412042.8542682566, "spatialReference": { "latestWkid": 3857, "wkid": 102100 } }, "blockWidth": 2048, "mosaicOperator": "First", "serviceSourceType": "esriImageServiceSourceTypeMosaicDataset", "hasMultidimensions": false, "maxImageWidth": 15000, "maxRecordCount": 1000, "meanValues": [], "hasColormap": false, "compressionType": "None", "defaultCompressionQuality": 75, "maxValues": [], "hasHistograms": false, "datasetFormat": "AMD", "maxImageHeight": 4100, "sortField": "", "bandNames": ["Band_1"], "spatialReference": { "latestWkid": 3857, "wkid": 102100 }, "fullExtent": { "ymin": 3421721.5410638982, "xmin": -10286384.7805, "ymax": 4479256.7035999969, "xmax": -8412042.8542682566, "spatialReference": { "latestWkid": 3857, "wkid": 102100 } }, "bandCount": 1, "rasterFunctionInfos": [ { "help": "", "name": "BlackMarble_BRDF_RFT", "description": "Black Marble BRDF RFT" }, { "help": "", "name": "None", "description": "" } ], "supportsStatistics": true, "sortableFields": "MinPS,MaxPS,LowPS,HighPS,CenterX,CenterY,ZOrder,Shape_Length,Shape_Area", "minValues": [], "allowRasterFunction": true, "allowComputeTiePoints": false, "serviceDataType": "esriImageServiceDataTypeGeneric", "supportsAdvancedQueries": true, "maxDownloadSizeLimit": 2048, "currentVersion": 12, "sortValue": null, "objectIdField": "objectid", "blockHeight": 256, "initialExtent": { "ymin": 3421721.5410638982, "xmin": -10286384.7805, "ymax": 4479256.7035999969, "xmax": -8412042.8542682566, "spatialReference": { "latestWkid": 3857, "wkid": 102100 } }, "pixelSizeX": 463.8312116386399, "pixelSizeY": 463.83121163863973, "defaultMosaicMethod": "Northwest", "name": "DISASTERS_202610_HURRICANE_ISAIAS/brdf_202625", "allowedMosaicMethods": "NorthWest,Center,LockRaster,ByAttribute,Nadir,Viewpoint,Seamline,None", "maxDownloadImageCount": 20, "fields": [ { "domain": null, "name": "objectid", "alias": "OBJECTID", "type": "esriFieldTypeOID" }, { "domain": null, "name": "name", "length": 200, "alias": "Name", "type": "esriFieldTypeString" }, { "domain": null, "name": "minps", "alias": "MinPS", "type": "esriFieldTypeDouble" }, { "domain": null, "name": "maxps", "alias": "MaxPS", "type": "esriFieldTypeDouble" }, { "domain": null, "name": "lowps", "alias": "LowPS", "type": "esriFieldTypeDouble" }, { "domain": null, "name": "highps", "alias": "HighPS", "type": "esriFieldTypeDouble" }, { "domain": { "splitPolicy": "esriSPTDefaultValue", "name": "MosaicCatalogItemCategoryDomain", "description": "Catalog item categories.", "type": "codedValue", "codedValues": [ { "code": 0, "name": "Unknown" }, { "code": 1, "name": "Primary" }, { "code": 2, "name": "Overview" }, { "code": 3, "name": "Unprocessed Overview" }, { "code": 4, "name": "Partial Overview" }, { "code": 5, "name": "Inactive" }, { "code": 253, "name": "Uploaded" }, { "code": 254, "name": "Incomplete" }, { "code": 255, "name": "Custom" } ], "mergePolicy": "esriMPTDefaultValue" }, "name": "category", "alias": "Category", "type": "esriFieldTypeInteger" }, { "domain": null, "name": "tag", "length": 100, "alias": "Tag", "type": "esriFieldTypeString" }, { "domain": null, "name": "groupname", "length": 100, "alias": "GroupName", "type": "esriFieldTypeString" }, { "domain": null, "name": "productname", "length": 100, "alias": "ProductName", "type": "esriFieldTypeString" }, { "domain": null, "name": "centerx", "alias": "CenterX", "type": "esriFieldTypeDouble" }, { "domain": null, "name": "centery", "alias": "CenterY", "type": "esriFieldTypeDouble" }, { "domain": null, "name": "zorder", "alias": "ZOrder", "type": "esriFieldTypeInteger" }, { "domain": null, "name": "date", "alias": "Date", "type": "esriFieldTypeDateOnly" }, { "domain": null, "name": "shape", "alias": "Shape", "type": "esriFieldTypeGeometry" } ], "allowAnalysis": true, "hasRasterAttributeTable": false, "useStandardizedQueries": true, "description": "
Date of Images: Post-Event: Pre-Event: September 2026 Summary: These Black Marble Day-Night Band (BRDF-Corrected) images were created by the NASA Black Marble Science team. The images are corrected for atmospheric, terrain, lunar BRDF, and straylight effects, and directly measures light intensity on the ground in units of nanowatts/(steradian centimeter squared). The images are scaled from 0 - 30. The baseline image is from May 2026, generated from all daily atmospheric and lunar-corrected data from that month. There is a layer to display where clouds are present. This comparison between the images is meant as a visual assessment of outage impacts to aid various partners who are working to deliver emergency aids to local communities. Power outage maps like these help disaster response efforts in the short-term as well as long-term monitoring during the crucial stages of disaster recovery. Suggested Use: NASA's Black Marble Nighttime Light product suite is a state-of-the-art daily global collection of standard products for monitoring nighttime lights (NTL). Utilizing the Visible Imaging Radiometer Suite (VIIRS) Day/Night Band (DNB) aboard the Suomi-NPP, NOAA-20, and NOAA-21 satellites. The image is in inferno color scale. Yellow represents presence of more light; dark blue less lights. Observations may be obscured by total or partial cloud cover. Other factors such as snow reflectance, moon phase, wildfires, and wildfire smoke may distort light radiance and require further analysis when assessing power outages. Satellite/Sensor: Visible Infrared Imaging Radiometer Suite (VIIRS) Day/Night Band (DNB) onboard the Suomi National Polar-orbiting Platform (SNPP), NOAA-20, and NOAA-21 Resolution: 15 arc-seconds (~500 meters) Credits: NASA Black Marble Science team Please cite the following two references when using this data: Román MO, Stokes EC, Shrestha R, Wang Z, Schultz L, Carlo EA, Sun Q, Bell J, Molthan A, Kalb V, Ji C. Satellite-based assessment of electricity restoration efforts in Puerto Rico after Hurricane Maria. PloS one. 2019 Jun 28;14(6):e0218883. Román MO, Wang Z, Sun Q, Kalb V, Miller SD, Molthan A, Schultz L, Bell J, Stokes EC, Pandey B, Seto KC. NASA's Black Marble nighttime lights product suite. Remote Sensing of Environment. 2018 Jun 1;210:113-43. Point of Contact: Ranjay Shrestha NASA Goddard Space Flight Center E-mail: ranjay.m.shrestha@nasa.gov Additional Links: NASA\u2019s Black Marble Product Suite Román, M.O. et al. (2019) Satellite-based assessment of electricity restoration efforts in Puerto Rico after Hurricane Maria. PLoS One, 14 (6). Román, M.O. et al. (2018) NASA\u2019s Black Marble nighttime lights product suite. Remote Sensing of Environment. 210, 113\u2013143.",
"pixelType": "F32",
"meanPixelSize": 463.83121163863984,
"exportTilesAllowed": false,
"editFieldsInfo": null,
"rasterTypeInfos": [{
"help": "",
"name": "Raster Dataset",
"description": "Supports all ArcGIS Raster Datasets"
}],
"defaultResamplingMethod": "Bilinear",
"itemAccess": false,
"minScale": 0,
"serviceProperties": " Date of Images: Post-Event: Pre-Event: September 2026 Summary: These Black Marble Day-Night Band (BRDF-Corrected) images were created by the NASA Black Marble Science team. The images are corrected for atmospheric, terrain, lunar BRDF, and straylight effects, and directly measures light intensity on the ground in units of nanowatts/(steradian centimeter squared). The images are scaled from 0 - 30. The baseline image is from May 2026, generated from all daily atmospheric and lunar-corrected data from that month. There is a layer to display where clouds are present. This comparison between the images is meant as a visual assessment of outage impacts to aid various partners who are working to deliver emergency aids to local communities. Power outage maps like these help disaster response efforts in the short-term as well as long-term monitoring during the crucial stages of disaster recovery. Suggested Use: NASA's Black Marble Nighttime Light product suite is a state-of-the-art daily global collection of standard products for monitoring nighttime lights (NTL). Utilizing the Visible Imaging Radiometer Suite (VIIRS) Day/Night Band (DNB) aboard the Suomi-NPP, NOAA-20, and NOAA-21 satellites. The image is in inferno color scale. Yellow represents presence of more light; dark blue less lights. Observations may be obscured by total or partial cloud cover. Other factors such as snow reflectance, moon phase, wildfires, and wildfire smoke may distort light radiance and require further analysis when assessing power outages. Satellite/Sensor: Visible Infrared Imaging Radiometer Suite (VIIRS) Day/Night Band (DNB) onboard the Suomi National Polar-orbiting Platform (SNPP), NOAA-20, and NOAA-21 Resolution: 15 arc-seconds (~500 meters) Credits: NASA Black Marble Science team Please cite the following two references when using this data: Román MO, Stokes EC, Shrestha R, Wang Z, Schultz L, Carlo EA, Sun Q, Bell J, Molthan A, Kalb V, Ji C. Satellite-based assessment of electricity restoration efforts in Puerto Rico after Hurricane Maria. PloS one. 2019 Jun 28;14(6):e0218883. Román MO, Wang Z, Sun Q, Kalb V, Miller SD, Molthan A, Schultz L, Bell J, Stokes EC, Pandey B, Seto KC. NASA's Black Marble nighttime lights product suite. Remote Sensing of Environment. 2018 Jun 1;210:113-43. Point of Contact: Ranjay Shrestha NASA Goddard Space Flight Center E-mail: ranjay.m.shrestha@nasa.gov Additional Links: NASA\u2019s Black Marble Product Suite Román, M.O. et al. (2019) Satellite-based assessment of electricity restoration efforts in Puerto Rico after Hurricane Maria. PLoS One, 14 (6). Román, M.O. et al. (2018) NASA\u2019s Black Marble nighttime lights product suite. Remote Sensing of Environment. 210, 113\u2013143.",
"allowCopy": true,
"copyrightText": "USRA/NASA Black Marble Science team",
"mensurationCapabilities": "Basic",
"ownershipBasedAccessControlForRasters": null
}