{ "extent": { "ymin": -8400215.2366515324, "xmin": -20037507.067200001, "ymax": 8399751.2488999963, "xmax": 20037507.842788246, "spatialReference": { "latestWkid": 3857, "wkid": 102100 } }, "blockWidth": 2048, "mosaicOperator": "First", "serviceSourceType": "esriImageServiceSourceTypeMosaicDataset", "hasMultidimensions": false, "maxImageWidth": 15000, "maxRecordCount": 1000, "meanValues": [], "hasColormap": false, "compressionType": "None", "defaultCompressionQuality": 75, "maxValues": [], "hasHistograms": false, "datasetFormat": "AMD", "maxImageHeight": 4100, "sortField": "", "bandNames": ["Band_1"], "spatialReference": { "latestWkid": 3857, "wkid": 102100 }, "fullExtent": { "ymin": -8400215.2366515324, "xmin": -20037507.067200001, "ymax": 8399751.2488999963, "xmax": 20037507.842788246, "spatialReference": { "latestWkid": 3857, "wkid": 102100 } }, "bandCount": 1, "rasterFunctionInfos": [{ "help": "", "name": "None", "description": "" }], "supportsStatistics": true, "sortableFields": "MinPS,MaxPS,LowPS,HighPS,CenterX,CenterY,ZOrder,Shape_Length,Shape_Area", "minValues": [], "allowRasterFunction": true, "allowComputeTiePoints": false, "serviceDataType": "esriImageServiceDataTypeGeneric", "supportsAdvancedQueries": true, "maxDownloadSizeLimit": 2048, "currentVersion": 12, "sortValue": null, "objectIdField": "objectid", "blockHeight": 256, "initialExtent": { "ymin": -8400215.2366515324, "xmin": -20037507.067200001, "ymax": 8399751.2488999963, "xmax": 20037507.842788246, "spatialReference": { "latestWkid": 3857, "wkid": 102100 } }, "pixelSizeX": 927.66238217565387, "pixelSizeY": 927.66242327727934, "defaultMosaicMethod": "Northwest", "name": "DISASTERS_202610_HURRICANE_ISAIAS/lhasa_202625", "allowedMosaicMethods": "NorthWest,Center,LockRaster,ByAttribute,Nadir,Viewpoint,Seamline,None", "maxDownloadImageCount": 20, "fields": [ { "domain": null, "name": "objectid", "alias": "OBJECTID", "type": "esriFieldTypeOID" }, { "domain": null, "name": "name", "length": 200, "alias": "Name", "type": "esriFieldTypeString" }, { "domain": null, "name": "minps", "alias": "MinPS", "type": "esriFieldTypeDouble" }, { "domain": null, "name": "maxps", "alias": "MaxPS", "type": "esriFieldTypeDouble" }, { "domain": null, "name": "lowps", "alias": "LowPS", "type": "esriFieldTypeDouble" }, { "domain": null, "name": "highps", "alias": "HighPS", "type": "esriFieldTypeDouble" }, { "domain": { "splitPolicy": "esriSPTDefaultValue", "name": "MosaicCatalogItemCategoryDomain", "description": "Catalog item categories.", "type": "codedValue", "codedValues": [ { "code": 0, "name": "Unknown" }, { "code": 1, "name": "Primary" }, { "code": 2, "name": "Overview" }, { "code": 3, "name": "Unprocessed Overview" }, { "code": 4, "name": "Partial Overview" }, { "code": 5, "name": "Inactive" }, { "code": 253, "name": "Uploaded" }, { "code": 254, "name": "Incomplete" }, { "code": 255, "name": "Custom" } ], "mergePolicy": "esriMPTDefaultValue" }, "name": "category", "alias": "Category", "type": "esriFieldTypeInteger" }, { "domain": null, "name": "tag", "length": 100, "alias": "Tag", "type": "esriFieldTypeString" }, { "domain": null, "name": "groupname", "length": 100, "alias": "GroupName", "type": "esriFieldTypeString" }, { "domain": null, "name": "productname", "length": 100, "alias": "ProductName", "type": "esriFieldTypeString" }, { "domain": null, "name": "centerx", "alias": "CenterX", "type": "esriFieldTypeDouble" }, { "domain": null, "name": "centery", "alias": "CenterY", "type": "esriFieldTypeDouble" }, { "domain": null, "name": "zorder", "alias": "ZOrder", "type": "esriFieldTypeInteger" }, { "domain": null, "name": "shape", "alias": "Shape", "type": "esriFieldTypeGeometry" } ], "allowAnalysis": true, "hasRasterAttributeTable": false, "useStandardizedQueries": true, "description": "
Dates Available:<\/span><\/p> April 2021 - Present<\/span><\/p> Update Frequency:<\/span><\/p> Twice a day<\/span><\/p> Summary:<\/span><\/p> Landslides are a widespread and often underestimated natural hazard, causing thousands of deaths and significant economic damage each year. They routinely block roads, destroy infrastructure, and disrupt communities worldwide. While intense or prolonged rainfall is the most common landslide trigger, earthquakes and human activities can also cause them.<\/span><\/p> The global Landslide Hazard Assessment for Situational Awareness (LHASA) model provides users with a comprehensive view of landslide hazard in near real-time. Using machine learning, LHASA combines rainfall data from the Global Precipitation Measurement (GPM) satellite with antecedent soil moisture from the Soil Moisture Active Passive (SMAP) satellite to identify areas currently at risk from landslides. The model shows where and when landslides are most probable, then calculates the exposed population and road length within each administrative district, helping users understand both the hazard and potential impacts on communities and infrastructure.<\/span><\/p> To learn more please visit: https://landslides.nasa.gov/<\/span><\/p> Suggested Use:<\/span><\/p> LHASA 2.1 was created to enable global monitoring of landslide hazard and is not a substitute for local site investigations. Red indicates high hazard and blue indicates low hazard. <\/span><\/p> LHASA nowcast Hazard: \"yesterday\", \"today\", and \"tomorrow\": This map shows the relative probability of landslide occurrence yesterday, today, and tomorrow; respectively, based on rainfall estimates from GPM and forecasts from GEOS-FP.<\/span><\/p> Satellite/Sensor:<\/span><\/p> GPM, SMAP<\/span><\/p> Resolution:<\/span><\/p> 30 arcseconds (~1 kilometer)<\/span><\/p> Credits:<\/span><\/p> NASA GSFC<\/span><\/p> Users are requested to cite the following paper:<\/span><\/p> Stanley, T. A., D. B. Kirschbaum, G. Benz, et al. 2021. \"Data-Driven Landslide Nowcasting at the Global Scale.\" Frontiers in Earth Science, 9: [10.3389/feart.2021.640043]<\/span><\/p><\/div><\/div><\/div>",
"pixelType": "F64",
"meanPixelSize": 927.66240272646655,
"exportTilesAllowed": false,
"editFieldsInfo": null,
"rasterTypeInfos": [{
"help": "",
"name": "Raster Dataset",
"description": "Supports all ArcGIS Raster Datasets"
}],
"defaultResamplingMethod": "Bilinear",
"itemAccess": false,
"minScale": 0,
"serviceProperties": " Dates Available:<\/SPAN><\/P> April 2021 - Present<\/SPAN><\/P> Update Frequency:<\/SPAN><\/P> Twice a day<\/SPAN><\/P> Summary:<\/SPAN><\/P> Landslides are a widespread and often underestimated natural hazard, causing thousands of deaths and significant economic damage each year. They routinely block roads, destroy infrastructure, and disrupt communities worldwide. While intense or prolonged rainfall is the most common landslide trigger, earthquakes and human activities can also cause them.<\/SPAN><\/P> The global Landslide Hazard Assessment for Situational Awareness (LHASA) model provides users with a comprehensive view of landslide hazard in near real-time. Using machine learning, LHASA combines rainfall data from the Global Precipitation Measurement (GPM) satellite with antecedent soil moisture from the Soil Moisture Active Passive (SMAP) satellite to identify areas currently at risk from landslides. The model shows where and when landslides are most probable, then calculates the exposed population and road length within each administrative district, helping users understand both the hazard and potential impacts on communities and infrastructure.<\/SPAN><\/P> To learn more please visit: https://landslides.nasa.gov/<\/SPAN><\/P> Suggested Use:<\/SPAN><\/P> LHASA 2.1 was created to enable global monitoring of landslide hazard and is not a substitute for local site investigations. Red indicates high hazard and blue indicates low hazard. <\/SPAN><\/P> LHASA nowcast Hazard: \"yesterday\", \"today\", and \"tomorrow\": This map shows the relative probability of landslide occurrence yesterday, today, and tomorrow; respectively, based on rainfall estimates from GPM and forecasts from GEOS-FP.<\/SPAN><\/P> Satellite/Sensor:<\/SPAN><\/P> GPM, SMAP<\/SPAN><\/P> Resolution:<\/SPAN><\/P> 30 arcseconds (~1 kilometer)<\/SPAN><\/P> Credits:<\/SPAN><\/P> NASA GSFC<\/SPAN><\/P> Users are requested to cite the following paper:<\/SPAN><\/P> Stanley, T. A., D. B. Kirschbaum, G. Benz, et al. 2021. \"Data-Driven Landslide Nowcasting at the Global Scale.\" Frontiers in Earth Science, 9: [10.3389/feart.2021.640043]<\/SPAN><\/P><\/DIV><\/DIV><\/DIV>",
"allowCopy": true,
"copyrightText": "NASA GSFC",
"mensurationCapabilities": "Basic",
"ownershipBasedAccessControlForRasters": null
}