{ "extent": { "ymin": 3350483.6629000008, "xmin": -9921826.5598000009, "ymax": 4196963.6629000008, "xmax": -8885416.5598000009, "spatialReference": { "latestWkid": 3857, "wkid": 102100 } }, "blockWidth": 2048, "mosaicOperator": "First", "serviceSourceType": "esriImageServiceSourceTypeMosaicDataset", "hasMultidimensions": false, "maxImageWidth": 15000, "maxRecordCount": 1000, "meanValues": [], "hasColormap": false, "compressionType": "None", "defaultCompressionQuality": 75, "maxValues": [], "hasHistograms": false, "datasetFormat": "AMD", "maxImageHeight": 4100, "sortField": "", "bandNames": [ "Band_1", "Band_2", "Band_3", "Band_4" ], "spatialReference": { "latestWkid": 3857, "wkid": 102100 }, "fullExtent": { "ymin": 3350483.6629000008, "xmin": -9921826.5598000009, "ymax": 4196963.6629000008, "xmax": -8885416.5598000009, "spatialReference": { "latestWkid": 3857, "wkid": 102100 } }, "bandCount": 4, "rasterFunctionInfos": [{ "help": "", "name": "None", "description": "" }], "supportsStatistics": true, "sortableFields": "MinPS,MaxPS,LowPS,HighPS,CenterX,CenterY,ZOrder,Shape_Length,Shape_Area", "minValues": [], "allowRasterFunction": true, "allowComputeTiePoints": false, "serviceDataType": "esriImageServiceDataTypeGeneric", "supportsAdvancedQueries": true, "maxDownloadSizeLimit": 2048, "currentVersion": 12, "sortValue": null, "objectIdField": "objectid", "blockHeight": 256, "initialExtent": { "ymin": 3350483.6629000008, "xmin": -9921826.5598000009, "ymax": 4196963.6629000008, "xmax": -8885416.5598000009, "spatialReference": { "latestWkid": 3857, "wkid": 102100 } }, "pixelSizeX": 10, "pixelSizeY": 10, "defaultMosaicMethod": "Northwest", "name": "DISASTERS_202610_HURRICANE_ISAIAS/sentinel2_202625", "allowedMosaicMethods": "NorthWest,Center,LockRaster,ByAttribute,Nadir,Viewpoint,Seamline,None", "maxDownloadImageCount": 20, "fields": [ { "domain": null, "name": "objectid", "alias": "OBJECTID", "type": "esriFieldTypeOID" }, { "domain": null, "name": "name", "length": 200, "alias": "Name", "type": "esriFieldTypeString" }, { "domain": null, "name": "minps", "alias": "MinPS", "type": "esriFieldTypeDouble" }, { "domain": null, "name": "maxps", "alias": "MaxPS", "type": "esriFieldTypeDouble" }, { "domain": null, "name": "lowps", "alias": "LowPS", "type": "esriFieldTypeDouble" }, { "domain": null, "name": "highps", "alias": "HighPS", "type": "esriFieldTypeDouble" }, { "domain": { "splitPolicy": "esriSPTDefaultValue", "name": "MosaicCatalogItemCategoryDomain", "description": "Catalog item categories.", "type": "codedValue", "codedValues": [ { "code": 0, "name": "Unknown" }, { "code": 1, "name": "Primary" }, { "code": 2, "name": "Overview" }, { "code": 3, "name": "Unprocessed Overview" }, { "code": 4, "name": "Partial Overview" }, { "code": 5, "name": "Inactive" }, { "code": 253, "name": "Uploaded" }, { "code": 254, "name": "Incomplete" }, { "code": 255, "name": "Custom" } ], "mergePolicy": "esriMPTDefaultValue" }, "name": "category", "alias": "Category", "type": "esriFieldTypeInteger" }, { "domain": null, "name": "tag", "length": 100, "alias": "Tag", "type": "esriFieldTypeString" }, { "domain": null, "name": "groupname", "length": 100, "alias": "GroupName", "type": "esriFieldTypeString" }, { "domain": null, "name": "productname", "length": 100, "alias": "ProductName", "type": "esriFieldTypeString" }, { "domain": null, "name": "centerx", "alias": "CenterX", "type": "esriFieldTypeDouble" }, { "domain": null, "name": "centery", "alias": "CenterY", "type": "esriFieldTypeDouble" }, { "domain": null, "name": "zorder", "alias": "ZOrder", "type": "esriFieldTypeInteger" }, { "domain": null, "name": "date", "alias": "Date", "type": "esriFieldTypeDateOnly" }, { "domain": null, "name": "shape", "alias": "Shape", "type": "esriFieldTypeGeometry" } ], "allowAnalysis": true, "hasRasterAttributeTable": false, "useStandardizedQueries": true, "description": "
Dates of Images:<\/strong><\/p> Post-Event: 10/01/2026, 10/10/2026<\/span><\/p> Pre-Event:19/15/2026, 9/18/2026, 9/23/2026<\/span><\/p> Date of Next Image:<\/strong><\/p> Unknown<\/span><\/p> Summary:<\/strong><\/p> The True Color RGB composite provides a product of how the surface would look to the naked eye from space. The RGB is created using the red, green, and blue channels of the respective instrument.<\/span><\/p> The Color Infrared composite is created using the near-infrared, red, and green channels. The near-infrared gives the ability to see through thin clouds. Healthy vegetation is shown as red, water is in blue.<\/span><\/p> Suggested Use:<\/strong><\/p> The True Color RGB provides a product of how the surface would look to the naked eye from space. The True Color RGB is produced using the 3 visible wavelength bands (red, green, and blue) from the respective sensor. Some minor atmospheric corrections have occurred.<\/span><\/p> A Color Infrared composite depicts healthy vegetation as red, water as blue. Some minor atmospheric corrections have occurred.<\/span><\/p> Satellite/Sensor:<\/strong><\/p> MultiSpectral Instrument (MSI) on European Space Agency's (ESA) Copernicus Sentinel-2A/2B satellites<\/span><\/p> Resolution:<\/strong><\/p> 10 meters<\/span><\/p> Credits:<\/strong><\/p> NASA/MSFC, USGS, ESA Copernicus<\/span><\/p> Esri REST Endpoint:<\/strong><\/p> See URL section on right side of page<\/span><\/p><\/div><\/div><\/div>",
"pixelType": "U8",
"meanPixelSize": 10,
"exportTilesAllowed": false,
"editFieldsInfo": null,
"rasterTypeInfos": [{
"help": "",
"name": "Raster Dataset",
"description": "Supports all ArcGIS Raster Datasets"
}],
"defaultResamplingMethod": "Bilinear",
"itemAccess": false,
"minScale": 0,
"serviceProperties": " Dates of Images:<\/SPAN><\/P> Post-Event: 19/15/2026, 9/18/2026, 9/23/2026<\/SPAN><\/P> Pre-Event:<\/SPAN><\/P> Date of Next Image:<\/SPAN><\/P> Unknown<\/SPAN><\/P> Summary:<\/SPAN><\/P> The True Color RGB composite provides a product of how the surface would look to the naked eye from space. The RGB is created using the red, green, and blue channels of the respective instrument.<\/SPAN><\/P> The Color Infrared composite is created using the near-infrared, red, and green channels. The near-infrared gives the ability to see through thin clouds. Healthy vegetation is shown as red, water is in blue.<\/SPAN><\/P> Suggested Use:<\/SPAN><\/P> The True Color RGB provides a product of how the surface would look to the naked eye from space. The True Color RGB is produced using the 3 visible wavelength bands (red, green, and blue) from the respective sensor. Some minor atmospheric corrections have occurred.<\/SPAN><\/P> A Color Infrared composite depicts healthy vegetation as red, water as blue. Some minor atmospheric corrections have occurred.<\/SPAN><\/P> Satellite/Sensor:<\/SPAN><\/P> MultiSpectral Instrument (MSI) on European Space Agency's (ESA) Copernicus Sentinel-2A/2B satellites<\/SPAN><\/P> Resolution:<\/SPAN><\/P> 10 meters<\/SPAN><\/P> Credits:<\/SPAN><\/P> NASA/MSFC, USGS, ESA Copernicus<\/SPAN><\/P> Esri REST Endpoint:<\/SPAN><\/P> See URL section on right side of page<\/SPAN><\/P><\/DIV><\/DIV><\/DIV>",
"allowCopy": true,
"copyrightText": "NASA/MSFC, USGS, ESA Copernicus",
"mensurationCapabilities": "",
"ownershipBasedAccessControlForRasters": null
}