{ "extent": { "ymin": 6206988.0790000036, "xmin": -10859909.4058, "ymax": 6327038.0790000036, "xmax": -10791781.9058, "spatialReference": { "latestWkid": 3857, "wkid": 102100 } }, "blockWidth": 2048, "mosaicOperator": "First", "serviceSourceType": "esriImageServiceSourceTypeMosaicDataset", "hasMultidimensions": false, "maxImageWidth": 15000, "maxRecordCount": 1000, "meanValues": [-4.428241731684456], "hasColormap": false, "compressionType": "None", "defaultCompressionQuality": 75, "maxValues": [10.710412979125977], "hasHistograms": true, "datasetFormat": "AMD", "maxImageHeight": 4100, "sortField": "", "bandNames": ["Band_1"], "spatialReference": { "latestWkid": 3857, "wkid": 102100 }, "fullExtent": { "ymin": 6206988.0790000036, "xmin": -10859909.4058, "ymax": 6327038.0790000036, "xmax": -10791781.9058, "spatialReference": { "latestWkid": 3857, "wkid": 102100 } }, "bandCount": 1, "rasterFunctionInfos": [ { "help": "", "name": "iceye_sinlaku", "description": "iceye_sinlaku" }, { "help": "", "name": "None", "description": "Make a Raster or Raster Dataset into a Function Raster Dataset." } ], "supportsStatistics": true, "sortableFields": "", "minValues": [-18.443332672119141], "allowRasterFunction": true, "allowComputeTiePoints": false, "serviceDataType": "esriImageServiceDataTypeGeneric", "supportsAdvancedQueries": true, "maxDownloadSizeLimit": 2048, "currentVersion": 12, "sortValue": null, "objectIdField": "objectid", "blockHeight": 256, "initialExtent": { "ymin": 6206988.0790000036, "xmin": -10859909.4058, "ymax": 6327038.0790000036, "xmax": -10791781.9058, "spatialReference": { "latestWkid": 3857, "wkid": 102100 } }, "pixelSizeX": 2.5, "pixelSizeY": 2.5, "defaultMosaicMethod": "Northwest", "name": "DISASTERS_EX2603_202205_FLOOD_MN/ex2603_iceye", "allowedMosaicMethods": "NorthWest,Center,LockRaster,ByAttribute,Nadir,Viewpoint,Seamline,None", "maxDownloadImageCount": 20, "fields": [ { "domain": null, "name": "objectid", "alias": "OBJECTID", "type": "esriFieldTypeOID" }, { "domain": null, "name": "name", "length": 200, "alias": "Name", "type": "esriFieldTypeString" }, { "domain": null, "name": "minps", "alias": "MinPS", "type": "esriFieldTypeDouble" }, { "domain": null, "name": "maxps", "alias": "MaxPS", "type": "esriFieldTypeDouble" }, { "domain": null, "name": "lowps", "alias": "LowPS", "type": "esriFieldTypeDouble" }, { "domain": null, "name": "highps", "alias": "HighPS", "type": "esriFieldTypeDouble" }, { "domain": { "splitPolicy": "esriSPTDefaultValue", "name": "MosaicCatalogItemCategoryDomain", "description": "Catalog item categories.", "type": "codedValue", "codedValues": [ { "code": 0, "name": "Unknown" }, { "code": 1, "name": "Primary" }, { "code": 2, "name": "Overview" }, { "code": 3, "name": "Unprocessed Overview" }, { "code": 4, "name": "Partial Overview" }, { "code": 5, "name": "Inactive" }, { "code": 253, "name": "Uploaded" }, { "code": 254, "name": "Incomplete" }, { "code": 255, "name": "Custom" } ], "mergePolicy": "esriMPTDefaultValue" }, "name": "category", "alias": "Category", "type": "esriFieldTypeInteger" }, { "domain": null, "name": "tag", "length": 100, "alias": "Tag", "type": "esriFieldTypeString" }, { "domain": null, "name": "groupname", "length": 100, "alias": "GroupName", "type": "esriFieldTypeString" }, { "domain": null, "name": "productname", "length": 100, "alias": "ProductName", "type": "esriFieldTypeString" }, { "domain": null, "name": "centerx", "alias": "CenterX", "type": "esriFieldTypeDouble" }, { "domain": null, "name": "centery", "alias": "CenterY", "type": "esriFieldTypeDouble" }, { "domain": null, "name": "zorder", "alias": "ZOrder", "type": "esriFieldTypeInteger" }, { "domain": null, "name": "shape", "alias": "Shape", "type": "esriFieldTypeGeometry" } ], "allowAnalysis": true, "hasRasterAttributeTable": false, "useStandardizedQueries": true, "description": "
Date of Image:<\/SPAN><\/P> 4/27/2023<\/SPAN><\/P> Summary<\/SPAN><\/P> ICEYE US Backscatter is derived from scaling factors provided with ICEYE Single Look Complex (SLC) and/or Ground Range Detected (GRD) products. In the SLC product all original sensor data is retained and offers full resolution in the azimuth and range directions. Data in the GRD product is oriented in the natural range-azimuth orientation and projected to the ground surface using an Earth ellipsoid mode and may be multi-looked to reduced speckle. The units for this product are decibels (dB).<\/SPAN><\/P> Resolution:<\/SPAN><\/P> Sub 1 meter.<\/SPAN><\/P> Credits<\/SPAN><\/P> NASA Disasters Program, Processing from MSFC, ICEYE US. For derived products: \u201cIncludes copyrighted material of ICEYE US. All rights reserved.\u201d This work utilized data made available through the NASA Commercial Satellite Data Acquisition (CSDA) program.<\/SPAN><\/P><\/DIV><\/DIV><\/DIV>",
"pixelType": "F32",
"meanPixelSize": 2.5,
"exportTilesAllowed": false,
"editFieldsInfo": null,
"rasterTypeInfos": [{
"help": "",
"name": "Raster Dataset",
"description": "Supports all ArcGIS Raster Datasets"
}],
"defaultResamplingMethod": "Bilinear",
"itemAccess": false,
"minScale": 0,
"serviceProperties": " Date of Image:<\/SPAN><\/P> 4/27/2023<\/SPAN><\/P> Summary<\/SPAN><\/P> ICEYE US Backscatter is derived from scaling factors provided with ICEYE Single Look Complex (SLC) and/or Ground Range Detected (GRD) products. In the SLC product all original sensor data is retained and offers full resolution in the azimuth and range directions. Data in the GRD product is oriented in the natural range-azimuth orientation and projected to the ground surface using an Earth ellipsoid mode and may be multi-looked to reduced speckle. The units for this product are decibels (dB).<\/SPAN><\/P> Resolution:<\/SPAN><\/P> Sub 1 meter.<\/SPAN><\/P> Credits<\/SPAN><\/P> NASA Disasters Program, Processing from MSFC, ICEYE US. For derived products: \u201cIncludes copyrighted material of ICEYE US. All rights reserved.\u201d This work utilized data made available through the NASA Commercial Satellite Data Acquisition (CSDA) program.<\/SPAN><\/P><\/DIV><\/DIV><\/DIV>",
"allowCopy": true,
"copyrightText": "NASA Disasters Program, MSFC, Commercial Satellite Data Acquisition (CSDA) Program, ICEYE.",
"mensurationCapabilities": "",
"ownershipBasedAccessControlForRasters": null
}