{
 "extent": {
  "ymin": -90,
  "xmin": -179.99999491388417,
  "ymax": 90,
  "xmax": 180,
  "spatialReference": {
   "latestWkid": 4326,
   "wkid": 4326
  }
 },
 "blockWidth": 2048,
 "mosaicOperator": "First",
 "serviceSourceType": "esriImageServiceSourceTypeMosaicDataset",
 "hasMultidimensions": true,
 "maxImageWidth": 4000,
 "maxRecordCount": 1000,
 "meanValues": [],
 "hasColormap": false,
 "compressionType": "None",
 "defaultCompressionQuality": 10000,
 "maxValues": [],
 "hasHistograms": false,
 "datasetFormat": "AMD",
 "maxImageHeight": 4000,
 "sortField": "StdTime",
 "bandNames": [
  "Band_1"
 ],
 "spatialReference": {
  "latestWkid": 4326,
  "wkid": 4326
 },
 "fullExtent": {
  "ymin": -90,
  "xmin": -179.99999491388417,
  "ymax": 90,
  "xmax": 180,
  "spatialReference": {
   "latestWkid": 4326,
   "wkid": 4326
  }
 },
 "bandCount": 1,
 "rasterFunctionInfos": [
  {
   "help": "",
   "name": "mARI_Colorbar",
   "description": "color bar and min/max for PACE mARI"
  },
  {
   "help": "",
   "name": "None",
   "description": "Make a Raster or Raster Dataset into a Function Raster Dataset."
  },
  {
   "help": "",
   "name": "mari",
   "description": "A raster function template."
  }
 ],
 "supportsStatistics": true,
 "sortableFields": "",
 "minValues": [],
 "allowRasterFunction": true,
 "allowComputeTiePoints": false,
 "serviceDataType": "esriImageServiceDataTypeScientific",
 "supportsAdvancedQueries": true,
 "maxDownloadSizeLimit": 2048,
 "currentVersion": 12,
 "sortValue": "0",
 "timeInfo": {
  "startTimeField": "StdTime",
  "endTimeField": "StdTime",
  "defaultTimeIntervalUnits": "esriTimeUnitsDays",
  "timeExtent": [
   1709596800000,
   1776902400000
  ],
  "timeReference": null,
  "defaultTimeInterval": 8
 },
 "objectIdField": "objectid",
 "blockHeight": 256,
 "initialExtent": {
  "ymin": -90,
  "xmin": -179.99999491388417,
  "ymax": 90,
  "xmax": 180,
  "spatialReference": {
   "latestWkid": 4326,
   "wkid": 4326
  }
 },
 "pixelSizeX": 0.020833333038997925,
 "pixelSizeY": 0.020833333333333332,
 "defaultMosaicMethod": "ByAttribute",
 "name": "GESDISC/PACE_OCI_L3M_mARI",
 "allowedMosaicMethods": "ByAttribute,Seamline,NorthWest,Center,LockRaster,Nadir,Viewpoint,None",
 "maxDownloadImageCount": 20,
 "fields": [
  {
   "domain": null,
   "name": "objectid",
   "alias": "objectid",
   "type": "esriFieldTypeOID"
  },
  {
   "domain": null,
   "name": "name",
   "length": 200,
   "alias": "name",
   "type": "esriFieldTypeString"
  },
  {
   "domain": null,
   "name": "minps",
   "alias": "minps",
   "type": "esriFieldTypeDouble"
  },
  {
   "domain": null,
   "name": "maxps",
   "alias": "maxps",
   "type": "esriFieldTypeDouble"
  },
  {
   "domain": null,
   "name": "lowps",
   "alias": "lowps",
   "type": "esriFieldTypeDouble"
  },
  {
   "domain": null,
   "name": "highps",
   "alias": "highps",
   "type": "esriFieldTypeDouble"
  },
  {
   "domain": {
    "splitPolicy": "esriSPTDefaultValue",
    "name": "MosaicCatalogItemCategoryDomain",
    "description": "Catalog item categories.",
    "type": "codedValue",
    "codedValues": [
     {
      "code": 0,
      "name": "Unknown"
     },
     {
      "code": 1,
      "name": "Primary"
     },
     {
      "code": 2,
      "name": "Overview"
     },
     {
      "code": 3,
      "name": "Unprocessed Overview"
     },
     {
      "code": 4,
      "name": "Partial Overview"
     },
     {
      "code": 5,
      "name": "Inactive"
     },
     {
      "code": 253,
      "name": "Uploaded"
     },
     {
      "code": 254,
      "name": "Incomplete"
     },
     {
      "code": 255,
      "name": "Custom"
     }
    ],
    "mergePolicy": "esriMPTDefaultValue"
   },
   "name": "category",
   "alias": "category",
   "type": "esriFieldTypeInteger"
  },
  {
   "domain": null,
   "name": "tag",
   "length": 100,
   "alias": "tag",
   "type": "esriFieldTypeString"
  },
  {
   "domain": null,
   "name": "productname",
   "length": 100,
   "alias": "productname",
   "type": "esriFieldTypeString"
  },
  {
   "domain": null,
   "name": "variable",
   "length": 8000,
   "alias": "Variable",
   "type": "esriFieldTypeString"
  },
  {
   "domain": null,
   "name": "dimensions",
   "length": 8000,
   "alias": "Dimensions",
   "type": "esriFieldTypeString"
  },
  {
   "domain": null,
   "name": "stdtime",
   "length": 8,
   "alias": "StdTime",
   "type": "esriFieldTypeDate"
  },
  {
   "domain": null,
   "name": "syncdatetime",
   "alias": "SyncDateTime",
   "type": "esriFieldTypeDouble"
  },
  {
   "domain": null,
   "name": "shape",
   "alias": "shape",
   "type": "esriFieldTypeGeometry"
  }
 ],
 "defaultVariable": "",
 "allowAnalysis": true,
 "hasRasterAttributeTable": false,
 "useStandardizedQueries": true,
 "description": "",
 "pixelType": "F32",
 "meanPixelSize": 2319.1560418105651,
 "exportTilesAllowed": false,
 "editFieldsInfo": null,
 "rasterTypeInfos": [
  {
   "help": "",
   "name": "Raster Dataset",
   "description": "Supports all ArcGIS Raster Datasets"
  }
 ],
 "defaultResamplingMethod": "Bilinear",
 "itemAccess": false,
 "minScale": 0,
 "serviceProperties": "ByAttribute<\/MosaicMethod>First<\/MosaicOperator>false<\/SortAscending><\/LockImageID>StdTime<\/TileOrderField>0<\/TileOrderBase>600.000000<\/AvgImageSpacingX>300.000000<\/AvgImageSpacingY>0.0<\/ViewPointX>0.0<\/ViewPointY>0.0<\/ViewPointDefShiftX>0.0<\/ViewPointDefShiftY>LERC<\/CompressionMethod>85<\/CompressionQuality>0.010000<\/CompressionTolerance>Bilinear<\/SamplingMethod><\/ImageServiceProperties><\/ImageServer>",
 "advancedQueryCapabilities": {
  "supportsStatistics": true,
  "supportsSqlExpression": true,
  "supportsOrderBy": true,
  "useStandardizedQueries": true,
  "supportsPagination": true,
  "supportsDistinct": true
 },
 "serviceItemId": "4bff7886b16b407d9a8e5ad02655e7f3",
 "capabilities": "Catalog,Mensuration,Pixels,Image,Metadata",
 "maxScale": 0,
 "stdvValues": [],
 "allowedFields": "Name,Tag,MinPS,MaxPS,LowPS,HighPS,ProductName,Variable,Dimensions,StdTime,SyncDateTime",
 "minPixelSize": 0,
 "sortAscending": false,
 "maxMosaicImageCount": 20,
 "inspectionCapabilities": "",
 "maxPixelSize": 0,
 "uncompressedSize": 597196800,
 "serviceDescription": "GESDISC/PACE_OCI_L3M_mARI",
 "allowCopy": true,
 "copyrightText": "",
 "mensurationCapabilities": "Basic",
 "ownershipBasedAccessControlForRasters": null
}
