{
 "extent": {
  "ymin": -55.983333333340255,
  "xmin": -179.99999999990004,
  "ymax": 82.18333333320075,
  "xmax": 179.81666666643937,
  "spatialReference": {
   "latestWkid": 4326,
   "wkid": 4326
  }
 },
 "blockWidth": 256,
 "mosaicOperator": "First",
 "serviceSourceType": "esriImageServiceSourceTypeDataset",
 "hasMultidimensions": true,
 "maxImageWidth": 15000,
 "maxRecordCount": 1000,
 "meanValues": [
  65.641107057583909
 ],
 "hasColormap": false,
 "compressionType": "LERC2D",
 "defaultCompressionQuality": 75,
 "maxValues": [
  100
 ],
 "hasHistograms": true,
 "datasetFormat": "Cache/LERC2D",
 "maxImageHeight": 4100,
 "sortField": "",
 "bandNames": [
  "Band_1"
 ],
 "spatialReference": {
  "latestWkid": 4326,
  "wkid": 4326
 },
 "fullExtent": {
  "ymin": -55.983333333340255,
  "xmin": -179.99999999990004,
  "ymax": 82.18333333320075,
  "xmax": 179.81666666643937,
  "spatialReference": {
   "latestWkid": 4326,
   "wkid": 4326
  }
 },
 "bandCount": 1,
 "rasterFunctionInfos": [
  {
   "help": "",
   "name": "None",
   "description": ""
  }
 ],
 "supportsStatistics": false,
 "sortableFields": "",
 "minValues": [
  0
 ],
 "allowRasterFunction": true,
 "allowComputeTiePoints": false,
 "serviceDataType": "esriImageServiceDataTypeGeneric",
 "supportsAdvancedQueries": false,
 "maxDownloadSizeLimit": 2097196,
 "currentVersion": 12,
 "sortValue": null,
 "transposeInfo": {
  "rows": 128,
  "cols": 128
 },
 "objectIdField": "",
 "blockHeight": 256,
 "initialExtent": {
  "ymin": -55.983333333340255,
  "xmin": -179.99999999990004,
  "ymax": 82.18333333320075,
  "xmax": 179.81666666643937,
  "spatialReference": {
   "latestWkid": 4326,
   "wkid": 4326
  }
 },
 "pixelSizeX": 0.0083333333333257542,
 "pixelSizeY": 0.0083333333333257542,
 "defaultMosaicMethod": "Center",
 "name": "SEDAC/ciesin_sedac_pmp_grdi_2010_2020",
 "allowedMosaicMethods": "",
 "fields": [],
 "defaultVariable": "",
 "allowAnalysis": true,
 "hasRasterAttributeTable": false,
 "useStandardizedQueries": false,
 "description": "",
 "pixelType": "F32",
 "meanPixelSize": 927.66242327643602,
 "exportTilesAllowed": false,
 "editFieldsInfo": null,
 "rasterTypeInfos": [
  {
   "help": "",
   "name": "Raster Dataset",
   "description": "Supports all ArcGIS Raster Datasets"
  }
 ],
 "defaultResamplingMethod": "Bilinear",
 "itemAccess": false,
 "minScale": 0,
 "serviceProperties": "Center<\/MosaicMethod>First<\/MosaicOperator>true<\/SortAscending><\/LockImageID><\/TileOrderField>0<\/TileOrderBase>0.000000<\/AvgImageSpacingX>0.000000<\/AvgImageSpacingY>0.0<\/ViewPointX>0.0<\/ViewPointY>0.0<\/ViewPointDefShiftX>0.0<\/ViewPointDefShiftY>None<\/CompressionMethod>75<\/CompressionQuality>0.010000<\/CompressionTolerance>Bilinear<\/SamplingMethod><\/ImageServiceProperties><\/ImageServer>",
 "advancedQueryCapabilities": {
  "supportsStatistics": false,
  "supportsSqlExpression": false,
  "supportsOrderBy": false,
  "useStandardizedQueries": false,
  "supportsPagination": false,
  "supportsDistinct": false
 },
 "serviceItemId": "3924733a0e3a44c18e76a2fda9821f21",
 "capabilities": "Mensuration,Image,Metadata",
 "maxScale": 0,
 "stdvValues": [
  18.725137727640629
 ],
 "allowedFields": "",
 "minPixelSize": 0,
 "noDataValues": [
  3.3999999521443642E+38
 ],
 "sortAscending": true,
 "inspectionCapabilities": "",
 "maxPixelSize": 0,
 "noDataValue": 3.3999999521443642E+38,
 "uncompressedSize": 2863564960,
 "serviceDescription": "SEDAC/ciesin_sedac_pmp_grdi_2010_2020",
 "allowCopy": true,
 "copyrightText": "",
 "mensurationCapabilities": "Basic",
 "ownershipBasedAccessControlForRasters": null
}
