{
 "extent": {
  "ymin": -37.008929659999978,
  "xmin": 12.999999590000073,
  "ymax": -20.000000539999977,
  "xmax": 36.008928903511887,
  "spatialReference": {
   "latestWkid": 4326,
   "wkid": 4326
  }
 },
 "blockWidth": 256,
 "mosaicOperator": "First",
 "serviceSourceType": "esriImageServiceSourceTypeDataset",
 "hasMultidimensions": true,
 "maxImageWidth": 15000,
 "maxRecordCount": 1000,
 "meanValues": [
  1.0200988287236363
 ],
 "hasColormap": false,
 "compressionType": "LERC2D",
 "defaultCompressionQuality": 75,
 "maxValues": [
  5
 ],
 "hasHistograms": true,
 "datasetFormat": "Cache/LERC2D",
 "maxImageHeight": 4100,
 "sortField": "",
 "bandNames": [
  "Band_1"
 ],
 "spatialReference": {
  "latestWkid": 4326,
  "wkid": 4326
 },
 "fullExtent": {
  "ymin": -37.008929659999978,
  "xmin": 12.999999590000073,
  "ymax": -20.000000539999977,
  "xmax": 36.008928903511887,
  "spatialReference": {
   "latestWkid": 4326,
   "wkid": 4326
  }
 },
 "bandCount": 1,
 "rasterFunctionInfos": [
  {
   "help": "",
   "name": "None",
   "description": ""
  }
 ],
 "supportsStatistics": false,
 "sortableFields": "",
 "minValues": [
  1
 ],
 "allowRasterFunction": true,
 "allowComputeTiePoints": false,
 "serviceDataType": "esriImageServiceDataTypeScientific",
 "supportsAdvancedQueries": false,
 "maxDownloadSizeLimit": 2097196,
 "currentVersion": 12,
 "sortValue": null,
 "transposeInfo": {
  "rows": 16,
  "cols": 16
 },
 "timeInfo": {
  "startTimeField": "StdTime",
  "endTimeField": "StdTime",
  "defaultTimeIntervalUnits": "esriTimeUnitsHours",
  "timeExtent": [
   1105749000000,
   1576452600000
  ],
  "timeReference": null,
  "defaultTimeInterval": 1
 },
 "objectIdField": "",
 "blockHeight": 256,
 "initialExtent": {
  "ymin": -37.008929659999978,
  "xmin": 12.999999590000073,
  "ymax": -20.000000539999977,
  "xmax": 36.008928903511887,
  "spatialReference": {
   "latestWkid": 4326,
   "wkid": 4326
  }
 },
 "pixelSizeX": 0.026785715149606301,
 "pixelSizeY": 0.026785715149606301,
 "defaultMosaicMethod": "Center",
 "name": "SMASH/saf_monthly_ir_ot_hour_count",
 "allowedMosaicMethods": "",
 "fields": [],
 "defaultVariable": "",
 "allowAnalysis": true,
 "hasRasterAttributeTable": false,
 "useStandardizedQueries": false,
 "description": "",
 "pixelType": "S8",
 "meanPixelSize": 2981.7721709878469,
 "exportTilesAllowed": false,
 "editFieldsInfo": null,
 "rasterTypeInfos": [
  {
   "help": "",
   "name": "Raster Dataset",
   "description": "Supports all ArcGIS Raster Datasets"
  }
 ],
 "defaultResamplingMethod": "Bilinear",
 "itemAccess": false,
 "minScale": 0,
 "serviceProperties": "Center<\/MosaicMethod>First<\/MosaicOperator>true<\/SortAscending><\/LockImageID><\/TileOrderField>0<\/TileOrderBase>0.000000<\/AvgImageSpacingX>0.000000<\/AvgImageSpacingY>0.0<\/ViewPointX>0.0<\/ViewPointY>0.0<\/ViewPointDefShiftX>0.0<\/ViewPointDefShiftY>None<\/CompressionMethod>75<\/CompressionQuality>0.010000<\/CompressionTolerance>Bilinear<\/SamplingMethod><\/ImageServiceProperties><\/ImageServer>",
 "advancedQueryCapabilities": {
  "supportsStatistics": false,
  "supportsSqlExpression": false,
  "supportsOrderBy": false,
  "useStandardizedQueries": false,
  "supportsPagination": false,
  "supportsDistinct": false
 },
 "serviceItemId": "001b1ce2ecbd44119eae868c6362ae06",
 "capabilities": "Mensuration,Image,Metadata",
 "maxScale": 0,
 "stdvValues": [
  0.14530150869965291
 ],
 "allowedFields": "",
 "minPixelSize": 0,
 "sortAscending": true,
 "inspectionCapabilities": "",
 "maxPixelSize": 0,
 "uncompressedSize": 545465,
 "serviceDescription": "SMASH/saf_monthly_ir_ot_hour_count",
 "allowCopy": true,
 "copyrightText": "",
 "mensurationCapabilities": "Basic",
 "ownershipBasedAccessControlForRasters": null
}
