{
 "extent": {
  "ymin": -45.000000539999981,
  "xmin": -89.999996729999964,
  "ymax": 14.99999959000003,
  "xmax": -29.999996599999953,
  "spatialReference": {
   "latestWkid": 4326,
   "wkid": 4326
  }
 },
 "blockWidth": 256,
 "mosaicOperator": "First",
 "serviceSourceType": "esriImageServiceSourceTypeDataset",
 "hasMultidimensions": true,
 "maxImageWidth": 15000,
 "maxRecordCount": 1000,
 "meanValues": [
  1.075602084578051
 ],
 "hasColormap": false,
 "compressionType": "LERC2D",
 "defaultCompressionQuality": 75,
 "maxValues": [
  9
 ],
 "hasHistograms": true,
 "datasetFormat": "Cache/LERC2D",
 "maxImageHeight": 4100,
 "sortField": "",
 "bandNames": [
  "Band_1"
 ],
 "spatialReference": {
  "latestWkid": 4326,
  "wkid": 4326
 },
 "fullExtent": {
  "ymin": -45.000000539999981,
  "xmin": -89.999996729999964,
  "ymax": 14.99999959000003,
  "xmax": -29.999996599999953,
  "spatialReference": {
   "latestWkid": 4326,
   "wkid": 4326
  }
 },
 "bandCount": 1,
 "rasterFunctionInfos": [
  {
   "help": "",
   "name": "None",
   "description": ""
  }
 ],
 "supportsStatistics": false,
 "sortableFields": "",
 "minValues": [
  1
 ],
 "allowRasterFunction": true,
 "allowComputeTiePoints": false,
 "serviceDataType": "esriImageServiceDataTypeScientific",
 "supportsAdvancedQueries": false,
 "maxDownloadSizeLimit": 2097196,
 "currentVersion": 12,
 "sortValue": null,
 "transposeInfo": {
  "rows": 32,
  "cols": 32
 },
 "timeInfo": {
  "startTimeField": "StdTime",
  "endTimeField": "StdTime",
  "defaultTimeIntervalUnits": "esriTimeUnitsMonths",
  "timeExtent": [
   790128000000,
   1639526400000
  ],
  "timeReference": null,
  "defaultTimeInterval": 1
 },
 "objectIdField": "",
 "blockHeight": 256,
 "initialExtent": {
  "ymin": -45.000000539999981,
  "xmin": -89.999996729999964,
  "ymax": 14.99999959000003,
  "xmax": -29.999996599999953,
  "spatialReference": {
   "latestWkid": 4326,
   "wkid": 4326
  }
 },
 "pixelSizeX": 0.035714285791666675,
 "pixelSizeY": 0.035714285791666675,
 "defaultMosaicMethod": "Center",
 "name": "SMASH/sam_monthly_ir_ot_day_count",
 "allowedMosaicMethods": "",
 "fields": [],
 "defaultVariable": "",
 "allowAnalysis": true,
 "hasRasterAttributeTable": false,
 "useStandardizedQueries": false,
 "description": "South America Monthly IR OT Day Count properties.",
 "pixelType": "F64",
 "meanPixelSize": 3975.6961083737792,
 "exportTilesAllowed": false,
 "editFieldsInfo": null,
 "rasterTypeInfos": [
  {
   "help": "",
   "name": "Raster Dataset",
   "description": "Supports all ArcGIS Raster Datasets"
  }
 ],
 "defaultResamplingMethod": "Bilinear",
 "itemAccess": false,
 "minScale": 0,
 "serviceProperties": "Center<\/MosaicMethod>First<\/MosaicOperator>true<\/SortAscending><\/LockImageID><\/TileOrderField>0<\/TileOrderBase>0.000000<\/AvgImageSpacingX>0.000000<\/AvgImageSpacingY>0.0<\/ViewPointX>0.0<\/ViewPointY>0.0<\/ViewPointDefShiftX>0.0<\/ViewPointDefShiftY>None<\/CompressionMethod>75<\/CompressionQuality>0.010000<\/CompressionTolerance>Bilinear<\/SamplingMethod><\/ImageServiceProperties><\/ImageServer>",
 "advancedQueryCapabilities": {
  "supportsStatistics": false,
  "supportsSqlExpression": false,
  "supportsOrderBy": false,
  "useStandardizedQueries": false,
  "supportsPagination": false,
  "supportsDistinct": false
 },
 "serviceItemId": "e546649e825f434b9c7a992e4bf6dd0a",
 "capabilities": "Mensuration,Image,Metadata",
 "maxScale": 0,
 "stdvValues": [
  0.29494412355720201
 ],
 "allowedFields": "",
 "minPixelSize": 0,
 "noDataValues": [
  1.79E+308
 ],
 "sortAscending": true,
 "inspectionCapabilities": "",
 "maxPixelSize": 0,
 "noDataValue": 1.79E+308,
 "uncompressedSize": 22579200,
 "serviceDescription": "South America Monthly IR OT Day Count",
 "allowCopy": true,
 "copyrightText": "NASA POWER",
 "mensurationCapabilities": "Basic",
 "ownershipBasedAccessControlForRasters": null
}
