{
 "extent": {
  "ymin": -54.23616219099992,
  "xmin": -179.99999999999997,
  "ymax": 89.99999104300008,
  "xmax": 180,
  "spatialReference": {
   "latestWkid": 4326,
   "wkid": 4326
  }
 },
 "blockWidth": 2048,
 "mosaicOperator": "First",
 "serviceSourceType": "esriImageServiceSourceTypeMosaicDataset",
 "hasMultidimensions": false,
 "maxImageWidth": 15000,
 "maxRecordCount": 1000,
 "meanValues": [],
 "hasColormap": false,
 "compressionType": "None",
 "defaultCompressionQuality": 75,
 "maxValues": [],
 "hasHistograms": false,
 "datasetFormat": "AMD",
 "maxImageHeight": 4100,
 "sortField": "AcquisitionDate",
 "bandNames": [
  "Band_1",
  "Band_2",
  "Band_3",
  "Band_4",
  "Band_5",
  "Band_6",
  "Band_7",
  "Band_8",
  "Band_9",
  "Band_10",
  "Band_11"
 ],
 "spatialReference": {
  "latestWkid": 4326,
  "wkid": 4326
 },
 "fullExtent": {
  "ymin": -54.23616219099992,
  "xmin": -179.99999999999997,
  "ymax": 89.99999104300008,
  "xmax": 180,
  "spatialReference": {
   "latestWkid": 4326,
   "wkid": 4326
  }
 },
 "bandCount": 11,
 "rasterFunctionInfos": [
  {
   "help": "",
   "name": "Natural Color",
   "description": "Natural Color bands red, green, blue(4, 3, 2) displayed with fixed stretch applied."
  },
  {
   "help": "",
   "name": "NDVI Colormap",
   "description": "Normalized difference vegetation index (NDVI) with colormap. Dark green represents vigorous vegetation and brown represents sparse vegetation. It is computed as (b5 - b4) / (b5 + b4) and is suitable for vegetation, land cover and plant health monitoring."
  },
  {
   "help": "",
   "name": "NDVI Raw with Cloud Mask",
   "description": "Normalized difference vegetation index (NDVI) computed as (b5 - b4) / (b5 + b4) and is suitable for vegetation, land cover and plant health monitoring. Also includes a cloud mask."
  },
  {
   "help": "",
   "name": "NDVI Raw",
   "description": "Normalized difference vegetation index (NDVI) computed as (b5 - b4) / (b5 + b4) and is suitable for vegetation, land cover and plant health monitoring."
  },
  {
   "help": "",
   "name": "Natural Color with DRA",
   "description": "Natural Color bands red, green, blue (4, 3, 2) displayed with dynamic range adjustment applied."
  },
  {
   "help": "",
   "name": "Normalized Burn Ratio (NBR) with Cloud Mask",
   "description": "The NBR index is computed as NIR(Band05)-SWIR(Band7)/NIR(Band05)+SWIR(Band7) and appropriate for highlighting burned areas and estimating fire severity. It highlights burnt areas in fire zones greater than 500 acres. You will need to generate a differenced NBR image by subtracting a post-fire image from a pre-fire image. The resulting darker pixels represent burned areas. This index also contains a cloud mask."
  },
  {
   "help": "",
   "name": "Normalized Difference Built-Up Index (NDBI) with Cloud Mask",
   "description": "The NDBI index is computed as SWIR(Band6)-NIR(Band05)/ SWIR(Band6)+NIR(Band05) and is suitable for watershed runoff predictions, tracking urbananisation and land-use planning. It highlights urban areas with higher reflectance in the SWIR region, compared to the NIR region. This index also contains a cloud mask."
  },
  {
   "help": "",
   "name": "Normalized Difference Built-Up Index (NDBI)",
   "description": "The NDBI index is computed as SWIR(Band6)-NIR(Band05)/ SWIR(Band6)+NIR(Band05) and is suitable for watershed runoff predictions, tracking urbananisation and land-use planning. It highlights urban areas with higher reflectance in the SWIR region, compared to the NIR region."
  },
  {
   "help": "",
   "name": "None",
   "description": "Make a Raster or Raster Dataset into a Function Raster Dataset."
  }
 ],
 "supportsStatistics": true,
 "sortableFields": "",
 "minValues": [],
 "allowRasterFunction": true,
 "allowComputeTiePoints": false,
 "serviceDataType": "esriImageServiceDataTypeGeneric",
 "supportsAdvancedQueries": true,
 "maxDownloadSizeLimit": 2048,
 "currentVersion": 12,
 "sortValue": "0",
 "timeInfo": {
  "startTimeField": "AcquisitionDate",
  "endTimeField": null,
  "timeExtent": [
   1774166310000,
   1784707110000
  ],
  "timeReference": null
 },
 "objectIdField": "objectid",
 "blockHeight": 256,
 "initialExtent": {
  "ymin": -54.23616219099992,
  "xmin": -179.99999999999997,
  "ymax": 89.99999104300008,
  "xmax": 180,
  "spatialReference": {
   "latestWkid": 4326,
   "wkid": 4326
  }
 },
 "pixelSizeX": 0.00026949395772088962,
 "pixelSizeY": 0.00026949400000000001,
 "defaultMosaicMethod": "ByAttribute",
 "name": "nasa_lp_daac/HLSL30_v2_Service",
 "allowedMosaicMethods": "ByAttribute,NorthWest,Center,LockRaster,Nadir,Viewpoint,Seamline,None",
 "maxDownloadImageCount": 20,
 "fields": [
  {
   "domain": null,
   "name": "objectid",
   "alias": "objectid",
   "type": "esriFieldTypeOID"
  },
  {
   "domain": null,
   "name": "name",
   "length": 200,
   "alias": "name",
   "type": "esriFieldTypeString"
  },
  {
   "domain": null,
   "name": "minps",
   "alias": "minps",
   "type": "esriFieldTypeDouble"
  },
  {
   "domain": null,
   "name": "maxps",
   "alias": "maxps",
   "type": "esriFieldTypeDouble"
  },
  {
   "domain": null,
   "name": "lowps",
   "alias": "lowps",
   "type": "esriFieldTypeDouble"
  },
  {
   "domain": null,
   "name": "highps",
   "alias": "highps",
   "type": "esriFieldTypeDouble"
  },
  {
   "domain": {
    "splitPolicy": "esriSPTDefaultValue",
    "name": "MosaicCatalogItemCategoryDomain",
    "description": "Catalog item categories.",
    "type": "codedValue",
    "codedValues": [
     {
      "code": 0,
      "name": "Unknown"
     },
     {
      "code": 1,
      "name": "Primary"
     },
     {
      "code": 2,
      "name": "Overview"
     },
     {
      "code": 3,
      "name": "Unprocessed Overview"
     },
     {
      "code": 4,
      "name": "Partial Overview"
     },
     {
      "code": 5,
      "name": "Inactive"
     },
     {
      "code": 253,
      "name": "Uploaded"
     },
     {
      "code": 254,
      "name": "Incomplete"
     },
     {
      "code": 255,
      "name": "Custom"
     }
    ],
    "mergePolicy": "esriMPTDefaultValue"
   },
   "name": "category",
   "alias": "category",
   "type": "esriFieldTypeInteger"
  },
  {
   "domain": null,
   "name": "tag",
   "length": 100,
   "alias": "tag",
   "type": "esriFieldTypeString"
  },
  {
   "domain": null,
   "name": "groupname",
   "length": 100,
   "alias": "groupname",
   "type": "esriFieldTypeString"
  },
  {
   "domain": null,
   "name": "productname",
   "length": 100,
   "alias": "productname",
   "type": "esriFieldTypeString"
  },
  {
   "domain": null,
   "name": "centerx",
   "alias": "centerx",
   "type": "esriFieldTypeDouble"
  },
  {
   "domain": null,
   "name": "centery",
   "alias": "centery",
   "type": "esriFieldTypeDouble"
  },
  {
   "domain": null,
   "name": "zorder",
   "alias": "zorder",
   "type": "esriFieldTypeInteger"
  },
  {
   "domain": null,
   "name": "shape",
   "alias": "shape",
   "type": "esriFieldTypeGeometry"
  },
  {
   "domain": null,
   "name": "cloudcover",
   "alias": "Cloud cover percentage from CMR UMM-G metadata",
   "type": "esriFieldTypeDouble"
  },
  {
   "domain": null,
   "name": "daynight",
   "length": 10,
   "alias": "Day or Night acquisition flag from CMR",
   "type": "esriFieldTypeString"
  },
  {
   "domain": null,
   "name": "tileid",
   "length": 10,
   "alias": "MGRS tile identifier extracted from filename (e.g., T11SKA)",
   "type": "esriFieldTypeString"
  },
  {
   "domain": null,
   "name": "processinglevel",
   "length": 5,
   "alias": "Processing level (static value L30 for Landsat)",
   "type": "esriFieldTypeString"
  },
  {
   "domain": null,
   "name": "acquisitiondate",
   "length": 8,
   "alias": "Acquisition Date",
   "type": "esriFieldTypeDate"
  },
  {
   "domain": null,
   "name": "st_area(shape)",
   "alias": "st_area(shape)",
   "type": "esriFieldTypeDouble"
  },
  {
   "domain": null,
   "name": "st_perimeter(shape)",
   "alias": "st_perimeter(shape)",
   "type": "esriFieldTypeDouble"
  }
 ],
 "allowAnalysis": true,
 "hasRasterAttributeTable": false,
 "useStandardizedQueries": true,
 "description": "Harmonized Landsat Sentinel-2 Surface Reflectance 30m - Landsat Multiband Mode",
 "pixelType": "S16",
 "meanPixelSize": 29.99993249859795,
 "exportTilesAllowed": false,
 "editFieldsInfo": null,
 "rasterTypeInfos": [
  {
   "help": "",
   "name": "Raster Dataset",
   "description": "Supports all ArcGIS Raster Datasets"
  }
 ],
 "defaultResamplingMethod": "Bilinear",
 "itemAccess": false,
 "minScale": 0,
 "serviceProperties": "ByAttribute<\/MosaicMethod>First<\/MosaicOperator>true<\/SortAscending><\/LockImageID>AcquisitionDate<\/TileOrderField>0<\/TileOrderBase>600.000000<\/AvgImageSpacingX>300.000000<\/AvgImageSpacingY>0.0<\/ViewPointX>0.0<\/ViewPointY>0.0<\/ViewPointDefShiftX>0.0<\/ViewPointDefShiftY>None<\/CompressionMethod>75<\/CompressionQuality>0.010000<\/CompressionTolerance>Bilinear<\/SamplingMethod><\/ImageServiceProperties><\/ImageServer>",
 "advancedQueryCapabilities": {
  "supportsStatistics": true,
  "supportsSqlExpression": true,
  "supportsOrderBy": true,
  "useStandardizedQueries": true,
  "supportsPagination": true,
  "supportsDistinct": true
 },
 "serviceItemId": "3f92eb39475f47fc9f72d155a1ecdb8b",
 "capabilities": "Image,Catalog,Mensuration",
 "maxScale": 0,
 "stdvValues": [],
 "allowedFields": "name,minps,maxps,lowps,highps,tag,groupname,productname,centerx,centery,zorder,cloudcover,daynight,tileid,processinglevel,st_area(shape),st_perimeter(shape),AcquisitionDate",
 "minPixelSize": 0,
 "sortAscending": true,
 "maxMosaicImageCount": 20,
 "inspectionCapabilities": "",
 "maxPixelSize": 0,
 "uncompressedSize": 15729002445354,
 "serviceDescription": "Harmonized Landsat Sentinel-2 Surface Reflectance 30m - Landsat Multiband Mode",
 "allowCopy": true,
 "copyrightText": "",
 "mensurationCapabilities": "NONE",
 "ownershipBasedAccessControlForRasters": null
}
