{
 "extent": {
  "ymin": 18.908332897999998,
  "xmin": -178.23333334,
  "ymax": 71.383332687999996,
  "xmax": -66.958333785312064,
  "spatialReference": {
   "latestWkid": 4326,
   "wkid": 4326
  }
 },
 "blockWidth": 256,
 "mosaicOperator": "First",
 "serviceSourceType": "esriImageServiceSourceTypeDataset",
 "hasMultidimensions": true,
 "maxImageWidth": 15000,
 "maxRecordCount": 1000,
 "meanValues": [
  0.55090387336258184
 ],
 "hasColormap": false,
 "compressionType": "LERC2D",
 "defaultCompressionQuality": 75,
 "maxValues": [
  1
 ],
 "hasHistograms": true,
 "datasetFormat": "Cache/LERC2D",
 "maxImageHeight": 4100,
 "sortField": "",
 "bandNames": [
  "Band_1"
 ],
 "spatialReference": {
  "latestWkid": 4326,
  "wkid": 4326
 },
 "fullExtent": {
  "ymin": 18.908332897999998,
  "xmin": -178.23333334,
  "ymax": 71.383332687999996,
  "xmax": -66.958333785312064,
  "spatialReference": {
   "latestWkid": 4326,
   "wkid": 4326
  }
 },
 "bandCount": 1,
 "rasterFunctionInfos": [
  {
   "help": "",
   "name": "None",
   "description": ""
  }
 ],
 "supportsStatistics": false,
 "sortableFields": "",
 "minValues": [
  0
 ],
 "allowRasterFunction": true,
 "allowComputeTiePoints": false,
 "serviceDataType": "esriImageServiceDataTypeGeneric",
 "supportsAdvancedQueries": false,
 "maxDownloadSizeLimit": 2097196,
 "currentVersion": 12,
 "sortValue": null,
 "transposeInfo": {
  "rows": 128,
  "cols": 128
 },
 "timeInfo": {
  "startTimeField": "StdTime",
  "endTimeField": "StdTime",
  "defaultTimeIntervalUnits": "esriTimeUnitsDays",
  "timeExtent": [
   946684800000,
   1577836800000
  ],
  "timeReference": null,
  "defaultTimeInterval": 730
 },
 "objectIdField": "",
 "blockHeight": 256,
 "initialExtent": {
  "ymin": 18.908332897999998,
  "xmin": -178.23333334,
  "ymax": 71.383332687999996,
  "xmax": -66.958333785312064,
  "spatialReference": {
   "latestWkid": 4326,
   "wkid": 4326
  }
 },
 "pixelSizeX": 0.0083333332999841192,
 "pixelSizeY": 0.0083333332999841192,
 "defaultMosaicMethod": "Center",
 "name": "usgrid/ciesin_sedac_uscg_ussvig01",
 "allowedMosaicMethods": "",
 "fields": [],
 "defaultVariable": "",
 "allowAnalysis": true,
 "hasRasterAttributeTable": false,
 "useStandardizedQueries": false,
 "description": "",
 "pixelType": "F32",
 "meanPixelSize": 927.66241956486215,
 "exportTilesAllowed": false,
 "editFieldsInfo": null,
 "rasterTypeInfos": [
  {
   "help": "",
   "name": "Raster Dataset",
   "description": "Supports all ArcGIS Raster Datasets"
  }
 ],
 "defaultResamplingMethod": "Bilinear",
 "itemAccess": false,
 "minScale": 0,
 "serviceProperties": "Center<\/MosaicMethod>First<\/MosaicOperator>true<\/SortAscending><\/LockImageID><\/TileOrderField>0<\/TileOrderBase>0.000000<\/AvgImageSpacingX>0.000000<\/AvgImageSpacingY>0.0<\/ViewPointX>0.0<\/ViewPointY>0.0<\/ViewPointDefShiftX>0.0<\/ViewPointDefShiftY>None<\/CompressionMethod>75<\/CompressionQuality>0.010000<\/CompressionTolerance>Bilinear<\/SamplingMethod><\/ImageServiceProperties><\/ImageServer>",
 "advancedQueryCapabilities": {
  "supportsStatistics": false,
  "supportsSqlExpression": false,
  "supportsOrderBy": false,
  "useStandardizedQueries": false,
  "supportsPagination": false,
  "supportsDistinct": false
 },
 "serviceItemId": "d0babd519d2a4e3288da08f7873bf474",
 "capabilities": "Mensuration,Image,Metadata",
 "maxScale": 0,
 "stdvValues": [
  0.25949145644928961
 ],
 "allowedFields": "",
 "minPixelSize": 0,
 "noDataValues": [
  -3.3999999521443642E+38
 ],
 "sortAscending": true,
 "inspectionCapabilities": "",
 "maxPixelSize": 0,
 "noDataValue": -3.3999999521443642E+38,
 "uncompressedSize": 336335364,
 "serviceDescription": "usgrid/ciesin_sedac_uscg_ussvig01",
 "allowCopy": true,
 "copyrightText": "",
 "mensurationCapabilities": "Basic",
 "ownershipBasedAccessControlForRasters": null
}
