View In:
ArcGIS JavaScript
ArcGIS Online Map Viewer
ArcGIS Earth
Service Description: Date of Images:
2/2/2023, 2/10/2023, 2/17/2023
Summary:
This PlanetScope imagery captured by Planet Labs Inc. in February 2023 shows a few landslides following the earthquakes in Türkiye. True Color RGB provides a product of how the surface would look to the naked eye from space. The True Color RGB s produced using the 3 visible wavelength bands (red, green, and blue) from the respective sensor. Some minor atmospheric corrections have occurred.
Suggested Use:
True Color RGB provides a product of how the surface would look to the naked eye from space. The True Color RGB is produced using the 3 visible wavelength bands (red, green, and blue) from the respective sensor. Some minor atmospheric corrections have occurred.
Satellite/Sensor:
PlanetScope
Resolution:
3 meters
Credits:
NASA Disasters Program, NASA GSFC, Includes copyrighted material of Planet Labs PBC. All rights reserved.
Service URL:
https://gis.earthdata.nasa.gov/portal/home/item.html?id=871506b5ebee48c18ff6b89fa5f775f9
WMS Endpoint:
https://gis.earthdata.nasa.gov/gis05/services/DISASTERS_202302_EARTHQUAKE_TURKIYE/2302_planet/ImageServer/WMSServer
Name: DISASTERS_202302_EARTHQUAKE_TURKIYE/2302_planet
Description: Date of Images:
2/2/2023, 2/10/2023, 2/17/2023
Summary:
This PlanetScope imagery captured by Planet Labs Inc. in February 2023 shows a few landslides following the earthquakes in Türkiye. True Color RGB provides a product of how the surface would look to the naked eye from space. The True Color RGB s produced using the 3 visible wavelength bands (red, green, and blue) from the respective sensor. Some minor atmospheric corrections have occurred.
Suggested Use:
True Color RGB provides a product of how the surface would look to the naked eye from space. The True Color RGB is produced using the 3 visible wavelength bands (red, green, and blue) from the respective sensor. Some minor atmospheric corrections have occurred.
Satellite/Sensor:
PlanetScope
Resolution:
3 meters
Credits:
NASA Disasters Program, NASA GSFC, Includes copyrighted material of Planet Labs PBC. All rights reserved.
Service URL:
https://gis.earthdata.nasa.gov/portal/home/item.html?id=871506b5ebee48c18ff6b89fa5f775f9
WMS Endpoint:
https://gis.earthdata.nasa.gov/gis05/services/DISASTERS_202302_EARTHQUAKE_TURKIYE/PLANET/ImageServer/WMSServer
Single Fused Map Cache: false
Extent:
XMin: 36.018311435000044
YMin: 36.513597321321335
XMax: 36.6111725730604
YMax: 37.129122954000024
Spatial Reference: 4326
(4326)
LatestVCSWkid(0)
Initial Extent:
XMin: 36.018311435000044
YMin: 36.513597321321335
XMax: 36.6111725730604
YMax: 37.129122954000024
Spatial Reference: 4326
(4326)
LatestVCSWkid(0)
Full Extent:
XMin: 36.018311435000044
YMin: 36.513597321321335
XMax: 36.6111725730604
YMax: 37.129122954000024
Spatial Reference: 4326
(4326)
LatestVCSWkid(0)
Pixel Size X: 2.694945852358548E-5
Pixel Size Y: 2.6949458523585365E-5
Band Count: 4
Pixel Type: U8
RasterFunction Infos: {"rasterFunctionInfos": [{
"name": "None",
"description": "",
"help": ""
}]}
Mensuration Capabilities: None
Inspection Capabilities:
Has Histograms: true
Has Colormap: false
Has Multi Dimensions : false
Rendering Rule:
Min Scale: 0
Max Scale: 0
Resampling: false
Copyright Text: NASA Disasters Program. Includes copyrighted material of Planet Labs PBC. All rights reserved. Planet Team (2017). Planet Application Program Interface: In Space for Life on Earth. San Francisco, CA. https://api.planet.com.
Service Data Type: esriImageServiceDataTypeGeneric
Min Values: 0, 0, 0, 0
Max Values: 255, 255, 255, 255
Mean Values: 49.377670438928575, 44.82371311855963, 50.225235055493876, 122.4403404513423
Standard Deviation Values: 75.38253476479893, 70.21275586322892, 70.90749726664015, 127.22913128319203
Object ID Field: OBJECTID
Fields:
-
OBJECTID
(
type: esriFieldTypeOID, alias: OBJECTID
)
-
Shape
(
type: esriFieldTypeGeometry, alias: Shape
)
-
Name
(
type: esriFieldTypeString, alias: Name, length: 200
)
-
MinPS
(
type: esriFieldTypeDouble, alias: MinPS
)
-
MaxPS
(
type: esriFieldTypeDouble, alias: MaxPS
)
-
LowPS
(
type: esriFieldTypeDouble, alias: LowPS
)
-
HighPS
(
type: esriFieldTypeDouble, alias: HighPS
)
-
Category
(
type: esriFieldTypeInteger, alias: Category
, Coded Values:
[0: Unknown]
, [1: Primary]
, [2: Overview]
, ...6 more...
)
-
Tag
(
type: esriFieldTypeString, alias: Tag, length: 100
)
-
GroupName
(
type: esriFieldTypeString, alias: GroupName, length: 100
)
-
ProductName
(
type: esriFieldTypeString, alias: ProductName, length: 100
)
-
CenterX
(
type: esriFieldTypeDouble, alias: CenterX
)
-
CenterY
(
type: esriFieldTypeDouble, alias: CenterY
)
-
ZOrder
(
type: esriFieldTypeInteger, alias: ZOrder
)
-
Date
(
type: esriFieldTypeDateOnly, alias: Date
)
-
Shape_Length
(
type: esriFieldTypeDouble, alias: Shape_Length
)
-
Shape_Area
(
type: esriFieldTypeDouble, alias: Shape_Area
)
Default Mosaic Method: Northwest
Allowed Mosaic Methods: NorthWest,Center,LockRaster,ByAttribute,Nadir,Viewpoint,Seamline,None
SortField:
SortValue: null
Mosaic Operator: First
Default Compression Quality: 75
Default Resampling Method: Bilinear
Max Record Count: 1000
Max Image Height: 4100
Max Image Width: 15000
Max Download Image Count: 20
Max Mosaic Image Count: 20
Allow Raster Function: true
Allow Copy: true
Allow Analysis: true
Allow Compute TiePoints: false
Supports Statistics: true
Supports Advanced Queries: true
Use StandardizedQueries: true
Raster Type Infos:
Name: Raster Dataset
Description: Supports all ArcGIS Raster Datasets
Help:
Has Raster Attribute Table: false
Edit Fields Info: null
Ownership Based AccessControl For Rasters: null
Child Resources:
Info
Histograms
Statistics
Key Properties
Legend
Raster Function Infos
Supported Operations:
Export Image
Query
Identify
Compute Histograms
Compute Statistics Histograms
Get Samples
Compute Class Statistics
Query GPS Info
Find Images
Image to Map
Map to Image
Measure from Image
Image to Map Multiray
Query Boundary
Compute Pixel Location
Compute Angles
Validate
Project