View In:
ArcGIS JavaScript
ArcGIS Online Map Viewer
ArcGIS Earth
Service Description: Dates of Images:
4/30/2024, 5/7/2024, 5/12/2024
Date of Next Image:
Varies by region, typically 12 days since previous pass.
Summary:
The Alaska Satellite Facility has developed surface water extent products of the Sentinel-1A/B Synthetic Aperture Radar (SAR) instrument. These images can be used to see where water is located at the time of the satellite overpass. This product shows all water detected and does not differentiate between normal water and flood water. To determine where flooding may have occurred, combine this layer with a reference water layer.
The water extent difference maps shown here were created by subtracting the water extent of the first date from the water extent of the second date to show what changes, if any, occurred in the water extent.
Suggested Use:
Water extent difference:
Light Blue: Water Present in the Second Date Only
Dark Blue: Water Present in Both Dates
Orange: Water Present in the First Date Only
Satellite/Sensor:
Synthetic Aperture Radar on European Space Agency's (ESA) Copernicus Sentinel-1A satellite
Resolution:
30 meters
Service URL:
WMS Endpoint:
Name: DISASTERS_202405_FLOOD_TX/2408_sentinel1_water
Description: Dates of Images:
4/30/2024, 5/7/2024, 5/12/2024
Date of Next Image:
Varies by region, typically 12 days since previous pass.
Summary:
The Alaska Satellite Facility has developed surface water extent products of the Sentinel-1A/B Synthetic Aperture Radar (SAR) instrument. These images can be used to see where water is located at the time of the satellite overpass. This product shows all water detected and does not differentiate between normal water and flood water. To determine where flooding may have occurred, combine this layer with a reference water layer.
The water extent difference maps shown here were created by subtracting the water extent of the first date from the water extent of the second date to show what changes, if any, occurred in the water extent.
Suggested Use:
Water extent difference:
Light Blue: Water Present in the Second Date Only
Dark Blue: Water Present in Both Dates
Orange: Water Present in the First Date Only
Satellite/Sensor:
Synthetic Aperture Radar on European Space Agency's (ESA) Copernicus Sentinel-1A satellite
Resolution:
30 meters
Service URL:
WMS Endpoint:
Single Fused Map Cache: false
Extent:
XMin: -97.99076985599999
YMin: 27.93250758942895
XMax: -94.37217622850973
YMax: 33.01840940200003
Spatial Reference: 4326
(4326)
LatestVCSWkid(0)
Initial Extent:
XMin: -97.99076985599999
YMin: 27.93250758942895
XMax: -94.37217622850973
YMax: 33.01840940200003
Spatial Reference: 4326
(4326)
LatestVCSWkid(0)
Full Extent:
XMin: -97.99076985599999
YMin: 27.93250758942895
XMax: -94.37217622850973
YMax: 33.01840940200003
Spatial Reference: 4326
(4326)
LatestVCSWkid(0)
Pixel Size X: 1.7966305682390427E-4
Pixel Size Y: 1.7966305682390422E-4
Band Count: 1
Pixel Type: U8
RasterFunction Infos: {"rasterFunctionInfos": [{
"name": "None",
"description": "",
"help": ""
}]}
Mensuration Capabilities: Basic
Inspection Capabilities:
Has Histograms: false
Has Colormap: false
Has Multi Dimensions : false
Rendering Rule:
Min Scale: 0
Max Scale: 0
Resampling: false
Copyright Text: NASA/MSFC, USGS, ESA Copernicus. Sentinel data used in this derived product, contains modified Copernicus Sentinel data (2019-2022), processed by ESA, Alaska Satellite Facility.
Service Data Type: esriImageServiceDataTypeGeneric
Min Values: N/A
Max Values: N/A
Mean Values: N/A
Standard Deviation Values: N/A
Object ID Field: OBJECTID
Fields:
-
OBJECTID
(
type: esriFieldTypeOID, alias: OBJECTID
)
-
Shape
(
type: esriFieldTypeGeometry, alias: Shape
)
-
Name
(
type: esriFieldTypeString, alias: Name, length: 200
)
-
MinPS
(
type: esriFieldTypeDouble, alias: MinPS
)
-
MaxPS
(
type: esriFieldTypeDouble, alias: MaxPS
)
-
LowPS
(
type: esriFieldTypeDouble, alias: LowPS
)
-
HighPS
(
type: esriFieldTypeDouble, alias: HighPS
)
-
Category
(
type: esriFieldTypeInteger, alias: Category
, Coded Values:
[0: Unknown]
, [1: Primary]
, [2: Overview]
, ...6 more...
)
-
Tag
(
type: esriFieldTypeString, alias: Tag, length: 100
)
-
GroupName
(
type: esriFieldTypeString, alias: GroupName, length: 100
)
-
ProductName
(
type: esriFieldTypeString, alias: ProductName, length: 100
)
-
CenterX
(
type: esriFieldTypeDouble, alias: CenterX
)
-
CenterY
(
type: esriFieldTypeDouble, alias: CenterY
)
-
ZOrder
(
type: esriFieldTypeInteger, alias: ZOrder
)
-
Date
(
type: esriFieldTypeDateOnly, alias: Date
)
-
Shape_Length
(
type: esriFieldTypeDouble, alias: Shape_Length
)
-
Shape_Area
(
type: esriFieldTypeDouble, alias: Shape_Area
)
Default Mosaic Method: Northwest
Allowed Mosaic Methods: NorthWest,Center,LockRaster,ByAttribute,Nadir,Viewpoint,Seamline,None
SortField:
SortValue: null
Mosaic Operator: First
Default Compression Quality: 75
Default Resampling Method: Bilinear
Max Record Count: 1000
Max Image Height: 4100
Max Image Width: 15000
Max Download Image Count: 20
Max Mosaic Image Count: 20
Allow Raster Function: true
Allow Copy: true
Allow Analysis: true
Allow Compute TiePoints: false
Supports Statistics: true
Supports Advanced Queries: true
Use StandardizedQueries: true
Raster Type Infos:
Name: Raster Dataset
Description: Supports all ArcGIS Raster Datasets
Help:
Has Raster Attribute Table: false
Edit Fields Info: null
Ownership Based AccessControl For Rasters: null
Child Resources:
Info
Statistics
Key Properties
Legend
Raster Function Infos
Supported Operations:
Export Image
Query
Identify
Measure
Compute Histograms
Compute Statistics Histograms
Get Samples
Compute Class Statistics
Query GPS Info
Find Images
Image to Map
Map to Image
Measure from Image
Image to Map Multiray
Query Boundary
Compute Pixel Location
Compute Angles
Validate
Project