View In:
ArcGIS JavaScript
ArcGIS Online Map Viewer
ArcGIS Earth
Service Description: NOTE: Due to the higher resolution of this data, it may be slow to load or require the user to zoom to a smaller area of interest.
Date of Images:
Pre-Event: 1/6
Post-Event: 1/9, 1/12, 1/13, 1/14, 1/15, 1/21
Summary:
The True Color RGB composite provides a product of how the surface would look to the naked eye from space. The RGB is created using the red, green, and blue channels of the respective instrument.
Suggested Use:
The True Color RGB provides a product of how the surface would look to the naked eye from space and may show damage caused by severe weather. The True Color RGB is produced using the 3 visible wavelength bands (red, green, and blue) from the respective sensor. Some minor atmospheric corrections have occurred.
Satellite/Sensor:
PlanetScope
Resolution:
3 Meters
Service URL:
WMS Endpoint:
Name: DISASTERS_202501_FIRE_CA/2501_planet
Description: NOTE: Due to the higher resolution of this data, it may be slow to load or require the user to zoom to a smaller area of interest.
Date of Images:
Pre-Event: 1/6
Post-Event: 1/9, 1/12, 1/13, 1/14, 1/15, 1/21
Summary:
The True Color RGB composite provides a product of how the surface would look to the naked eye from space. The RGB is created using the red, green, and blue channels of the respective instrument.
Suggested Use:
The True Color RGB provides a product of how the surface would look to the naked eye from space and may show damage caused by severe weather. The True Color RGB is produced using the 3 visible wavelength bands (red, green, and blue) from the respective sensor. Some minor atmospheric corrections have occurred.
Satellite/Sensor:
PlanetScope
Resolution:
3 Meters
Service URL:
WMS Endpoint:
Single Fused Map Cache: false
Extent:
XMin: -118.93145808899999
YMin: 33.53658312427621
XMax: -117.56040438661257
YMax: 34.624775310000075
Spatial Reference: 4326
(4326)
LatestVCSWkid(0)
Initial Extent:
XMin: -118.93145808899999
YMin: 33.53658312427621
XMax: -117.56040438661257
YMax: 34.624775310000075
Spatial Reference: 4326
(4326)
LatestVCSWkid(0)
Full Extent:
XMin: -118.93145808899999
YMin: 33.53658312427621
XMax: -117.56040438661257
YMax: 34.624775310000075
Spatial Reference: 4326
(4326)
LatestVCSWkid(0)
Pixel Size X: 2.694945852358553E-5
Pixel Size Y: 2.6949458523585585E-5
Band Count: 4
Pixel Type: U8
RasterFunction Infos: {"rasterFunctionInfos": [{
"name": "None",
"description": "",
"help": ""
}]}
Mensuration Capabilities: None
Inspection Capabilities:
Has Histograms: true
Has Colormap: false
Has Multi Dimensions : false
Rendering Rule:
Min Scale: 0
Max Scale: 0
Copyright Text: NASA Disasters Program, Includes copyrighted material of Planet Labs PBC. All rights reserved.
Service Data Type: esriImageServiceDataTypeGeneric
Min Values: 0, 0, 0, 0
Max Values: 255, 255, 255, 255
Mean Values: 61.6768002654344, 47.88207321713768, 51.471072548909994, 172.89084252144656
Standard Deviation Values: 68.8491695669866, 55.88237576375336, 52.10200188103919, 119.14670739934716
Object ID Field: OBJECTID
Fields:
-
OBJECTID
(
type: esriFieldTypeOID, alias: OBJECTID
)
-
Shape
(
type: esriFieldTypeGeometry, alias: Shape
)
-
Name
(
type: esriFieldTypeString, alias: Name, length: 200
)
-
MinPS
(
type: esriFieldTypeDouble, alias: MinPS
)
-
MaxPS
(
type: esriFieldTypeDouble, alias: MaxPS
)
-
LowPS
(
type: esriFieldTypeDouble, alias: LowPS
)
-
HighPS
(
type: esriFieldTypeDouble, alias: HighPS
)
-
Category
(
type: esriFieldTypeInteger, alias: Category
, Coded Values:
[0: Unknown]
, [1: Primary]
, [2: Overview]
, ...6 more...
)
-
Tag
(
type: esriFieldTypeString, alias: Tag, length: 100
)
-
GroupName
(
type: esriFieldTypeString, alias: GroupName, length: 100
)
-
ProductName
(
type: esriFieldTypeString, alias: ProductName, length: 100
)
-
CenterX
(
type: esriFieldTypeDouble, alias: CenterX
)
-
CenterY
(
type: esriFieldTypeDouble, alias: CenterY
)
-
ZOrder
(
type: esriFieldTypeInteger, alias: ZOrder
)
-
Date
(
type: esriFieldTypeDateOnly, alias: Date
)
-
Shape_Length
(
type: esriFieldTypeDouble, alias: Shape_Length
)
-
Shape_Area
(
type: esriFieldTypeDouble, alias: Shape_Area
)
Default Mosaic Method: Northwest
Allowed Mosaic Methods: NorthWest,Center,LockRaster,ByAttribute,Nadir,Viewpoint,Seamline,None
SortField:
SortValue: null
Mosaic Operator: First
Default Compression Quality: 75
Default Resampling Method: Bilinear
Max Record Count: 1000
Max Image Height: 4100
Max Image Width: 15000
Max Download Image Count: 20
Max Mosaic Image Count: 20
Allow Raster Function: true
Allow Copy: true
Allow Analysis: true
Allow Compute TiePoints: false
Supports Statistics: true
Supports Advanced Queries: true
Use StandardizedQueries: true
Raster Type Infos:
Name: Raster Dataset
Description: Supports all ArcGIS Raster Datasets
Help:
Has Raster Attribute Table: false
Edit Fields Info: null
Ownership Based AccessControl For Rasters: null
Child Resources:
Info
Histograms
Statistics
Key Properties
Legend
Raster Function Infos
Supported Operations:
Export Image
Query
Identify
Compute Histograms
Compute Statistics Histograms
Get Samples
Compute Class Statistics
Query GPS Info
Find Images
Image to Map
Map to Image
Measure from Image
Image to Map Multiray
Query Boundary
Compute Pixel Location
Compute Angles
Validate
Project