View In:
ArcGIS JavaScript
ArcGIS Online Map Viewer
ArcGIS Earth
Service Description: Date of Images:
Post-Event: 6/22/2025, 6/19/2025, 6/18/2025
Pre-Event: 6/16/2025
Date of Next Image:
Unknown
Summary:
The Color Infrared composite is created using the near-infrared, red, and green channels, allowing for the ability to see areas impacted by the event. The near-infrared gives the ability to see through thin clouds. Healthy vegetation is shown as red, water is in blue.
The True Color RGB composite provides a product of how the surface would look to the naked eye from space. The RGB is created using the red, green, and blue channels of the respective instrument.
Suggested Use:
A Color Infrared composite depicts healthy vegetation as red, water as blue. Some minor atmospheric corrections have occurred.
The True Color RGB provides a product of how the surface would look to the naked eye from space and may show damage caused by severe weather. The True Color RGB is produced using the 3 visible wavelength bands (red, green, and blue) from the respective sensor. Some minor atmospheric corrections have occurred.
Satellite/Sensor:
PlanetScope
Resolution:
3 Meters
Service URL:
WMS Endpoint:
Name: DISASTERS_202506_FIRE_NM/2506_planet
Description: Date of Images:
Post-Event: 6/22/2025, 6/19/2025, 6/18/2025
Pre-Event: 6/16/2025
Date of Next Image:
Unknown
Summary:
The Color Infrared composite is created using the near-infrared, red, and green channels, allowing for the ability to see areas impacted by the event. The near-infrared gives the ability to see through thin clouds. Healthy vegetation is shown as red, water is in blue.
The True Color RGB composite provides a product of how the surface would look to the naked eye from space. The RGB is created using the red, green, and blue channels of the respective instrument.
Suggested Use:
A Color Infrared composite depicts healthy vegetation as red, water as blue. Some minor atmospheric corrections have occurred.
The True Color RGB provides a product of how the surface would look to the naked eye from space and may show damage caused by severe weather. The True Color RGB is produced using the 3 visible wavelength bands (red, green, and blue) from the respective sensor. Some minor atmospheric corrections have occurred.
Satellite/Sensor:
PlanetScope
Resolution:
3 Meters
Service URL:
WMS Endpoint:
Single Fused Map Cache: false
Extent:
XMin: -108.37481715599995
YMin: 32.733417035670634
XMax: -105.57700522045685
YMax: 33.19322869700005
Spatial Reference: 4326
(4326)
LatestVCSWkid(0)
Initial Extent:
XMin: -108.37481715599995
YMin: 32.733417035670634
XMax: -105.57700522045685
YMax: 33.19322869700005
Spatial Reference: 4326
(4326)
LatestVCSWkid(0)
Full Extent:
XMin: -108.37481715599995
YMin: 32.733417035670634
XMax: -105.57700522045685
YMax: 33.19322869700005
Spatial Reference: 4326
(4326)
LatestVCSWkid(0)
Pixel Size X: 2.6949458523585683E-5
Pixel Size Y: 2.6949458523585632E-5
Band Count: 4
Pixel Type: U16
RasterFunction Infos: {"rasterFunctionInfos": [{
"name": "None",
"description": "",
"help": ""
}]}
Mensuration Capabilities: Basic
Inspection Capabilities:
Has Histograms: false
Has Colormap: false
Has Multi Dimensions : false
Rendering Rule:
Min Scale: 0
Max Scale: 0
Copyright Text: NASA Disasters Program, Includes copyrighted material of Planet Labs PBC. All rights reserved.
Service Data Type: esriImageServiceDataTypeGeneric
Min Values: N/A
Max Values: N/A
Mean Values: N/A
Standard Deviation Values: N/A
Object ID Field: OBJECTID
Fields:
-
OBJECTID
(
type: esriFieldTypeOID, alias: OBJECTID
)
-
Shape
(
type: esriFieldTypeGeometry, alias: Shape
)
-
Name
(
type: esriFieldTypeString, alias: Name, length: 200
)
-
MinPS
(
type: esriFieldTypeDouble, alias: MinPS
)
-
MaxPS
(
type: esriFieldTypeDouble, alias: MaxPS
)
-
LowPS
(
type: esriFieldTypeDouble, alias: LowPS
)
-
HighPS
(
type: esriFieldTypeDouble, alias: HighPS
)
-
Category
(
type: esriFieldTypeInteger, alias: Category
, Coded Values:
[0: Unknown]
, [1: Primary]
, [2: Overview]
, ...6 more...
)
-
Tag
(
type: esriFieldTypeString, alias: Tag, length: 100
)
-
GroupName
(
type: esriFieldTypeString, alias: GroupName, length: 100
)
-
ProductName
(
type: esriFieldTypeString, alias: ProductName, length: 100
)
-
CenterX
(
type: esriFieldTypeDouble, alias: CenterX
)
-
CenterY
(
type: esriFieldTypeDouble, alias: CenterY
)
-
ZOrder
(
type: esriFieldTypeInteger, alias: ZOrder
)
-
Date
(
type: esriFieldTypeDateOnly, alias: Date
)
-
Shape_Length
(
type: esriFieldTypeDouble, alias: Shape_Length
)
-
Shape_Area
(
type: esriFieldTypeDouble, alias: Shape_Area
)
Default Mosaic Method: Northwest
Allowed Mosaic Methods: NorthWest,Center,LockRaster,ByAttribute,Nadir,Viewpoint,Seamline,None
SortField:
SortValue: null
Mosaic Operator: First
Default Compression Quality: 75
Default Resampling Method: Bilinear
Max Record Count: 1000
Max Image Height: 4100
Max Image Width: 15000
Max Download Image Count: 20
Max Mosaic Image Count: 20
Allow Raster Function: true
Allow Copy: true
Allow Analysis: true
Allow Compute TiePoints: false
Supports Statistics: true
Supports Advanced Queries: true
Use StandardizedQueries: true
Raster Type Infos:
Name: Raster Dataset
Description: Supports all ArcGIS Raster Datasets
Help:
Has Raster Attribute Table: false
Edit Fields Info: null
Ownership Based AccessControl For Rasters: null
Child Resources:
Info
Statistics
Key Properties
Legend
Raster Function Infos
Supported Operations:
Export Image
Query
Identify
Measure
Compute Histograms
Compute Statistics Histograms
Get Samples
Compute Class Statistics
Query GPS Info
Find Images
Image to Map
Map to Image
Measure from Image
Image to Map Multiray
Query Boundary
Compute Pixel Location
Compute Angles
Validate
Project