View In:
ArcGIS JavaScript
ArcGIS Online Map Viewer
ArcGIS Earth
Service Description: Dates of Images:
Pre-Event: 12/30/2025, 01/01/2026, 01/18/2026
Date of Next Image:
Unknown
Summary:
The True Color RGB composite provides a product of how the surface would look to the naked eye from space. The RGB is created using the red, green, and blue channels of the respective instrument.
The Short Wave Infrared (SWIR) RGB is a product that is created using the SWIR, NIR, and Red channels of the respective instrument.
Suggested Use:
The True Color RGB provides a product of how the surface would look to the naked eye from space. The True Color RGB is produced using the 3 visible wavelength bands (red, green, and blue) from the respective sensor. Some minor atmospheric corrections have occurred.
The Short Wave Infrared (SWIR) RGB is a product that can provides value in flood detection. Areas of water will appear blue, healthy green vegetation will appear as a bright green, urban areas in various shades of magenta, snow will appear as a bright blue/cyan, and bare soils being multicolor dependent on their makeup. Compare pre-event imagery to post-event imagery to identify potential flooding.
Satellite/Sensor:
MultiSpectral Instrument (MSI) on European Space Agency's (ESA) Copernicus Sentinel-2A/2B satellites
Resolution:
True Color: 10 meters
Credits:
NASA/MSFC, USGS, ESA Copernicus
Esri REST Endpoint:
See URL section on right side of page
WMS Endpoint:
https://gis.earthdata.nasa.gov/gis05/services/DISASTERS_202510_FLOOD_AK/SENTINEL2/ImageServer/WMSServer
Name: DISASTERS_202601_WINTERWX_US/202601_sentinel2
Description: Dates of Images:
Post-Event: 12/26/2026, 12/27/2026, 12/28/2026, 12/29/2026
Pre-Event: 12/30/2025, 01/01/2026, 01/18/2026, 01/19/2026
Date of Next Image:
Unknown
Summary:
The True Color RGB composite provides a product of how the surface would look to the naked eye from space. The RGB is created using the red, green, and blue channels of the respective instrument.
The Short Wave Infrared (SWIR) RGB is a product that is created using the SWIR, NIR, and Red channels of the respective instrument.
Suggested Use:
The True Color RGB provides a product of how the surface would look to the naked eye from space. The True Color RGB is produced using the 3 visible wavelength bands (red, green, and blue) from the respective sensor. Some minor atmospheric corrections have occurred.
The Short Wave Infrared (SWIR) RGB is a product that can provides value in flood detection. Areas of water will appear blue, healthy green vegetation will appear as a bright green, urban areas in various shades of magenta, snow will appear as a bright blue/cyan, and bare soils being multicolor dependent on their makeup. Compare pre-event imagery to post-event imagery to identify potential flooding.
Satellite/Sensor:
MultiSpectral Instrument (MSI) on European Space Agency's (ESA) Copernicus Sentinel-2A/2B satellites
Resolution:
True Color: 10 meters
Credits:
NASA/MSFC, USGS, ESA Copernicus
Esri REST Endpoint:
See URL section on right side of page
WMS Endpoint:
https://gis.earthdata.nasa.gov/gis05/services/DISASTERS_202601_WINTERWX_US/202601_sentinel2/ImageServer/WMSServer
Single Fused Map Cache: false
Extent:
XMin: -1.04725142907E7
YMin: 3584320.2835829714
XMax: -9292661.13028569
YMax: 4700064.923900001
Spatial Reference: 102100
(3857)
LatestVCSWkid(0)
Initial Extent:
XMin: -1.04725142907E7
YMin: 3584320.2835829714
XMax: -9292661.13028569
YMax: 4700064.923900001
Spatial Reference: 102100
(3857)
LatestVCSWkid(0)
Full Extent:
XMin: -1.04725142907E7
YMin: 3584320.2835829714
XMax: -9292661.13028569
YMax: 4700064.923900001
Spatial Reference: 102100
(3857)
LatestVCSWkid(0)
Pixel Size X: 10.86400950640237
Pixel Size Y: 10.864009506402365
Band Count: 3
Pixel Type: U8
RasterFunction Infos: {"rasterFunctionInfos": [{
"name": "None",
"description": "",
"help": ""
}]}
Mensuration Capabilities: Basic
Inspection Capabilities:
Has Histograms: true
Has Colormap: false
Has Multi Dimensions : false
Rendering Rule:
Min Scale: 0
Max Scale: 0
Copyright Text: NASA/MSFC, USGS, ESA Copernicus
Service Data Type: esriImageServiceDataTypeRGB
Min Values: 5, 8, 10
Max Values: 255, 255, 255
Mean Values: 103.44807911419203, 152.4531777209838, 104.08725260319304
Standard Deviation Values: 43.53802974336342, 50.90409521879617, 69.17216320818692
Object ID Field: OBJECTID
Fields:
-
OBJECTID
(
type: esriFieldTypeOID, alias: OBJECTID
)
-
Shape
(
type: esriFieldTypeGeometry, alias: Shape
)
-
Name
(
type: esriFieldTypeString, alias: Name, length: 200
)
-
MinPS
(
type: esriFieldTypeDouble, alias: MinPS
)
-
MaxPS
(
type: esriFieldTypeDouble, alias: MaxPS
)
-
LowPS
(
type: esriFieldTypeDouble, alias: LowPS
)
-
HighPS
(
type: esriFieldTypeDouble, alias: HighPS
)
-
Category
(
type: esriFieldTypeInteger, alias: Category
, Coded Values:
[0: Unknown]
, [1: Primary]
, [2: Overview]
, ...6 more...
)
-
Tag
(
type: esriFieldTypeString, alias: Tag, length: 100
)
-
GroupName
(
type: esriFieldTypeString, alias: GroupName, length: 100
)
-
ProductName
(
type: esriFieldTypeString, alias: ProductName, length: 100
)
-
CenterX
(
type: esriFieldTypeDouble, alias: CenterX
)
-
CenterY
(
type: esriFieldTypeDouble, alias: CenterY
)
-
ZOrder
(
type: esriFieldTypeInteger, alias: ZOrder
)
-
Date
(
type: esriFieldTypeDateOnly, alias: Date
)
-
Shape_Length
(
type: esriFieldTypeDouble, alias: Shape_Length
)
-
Shape_Area
(
type: esriFieldTypeDouble, alias: Shape_Area
)
Default Mosaic Method: Northwest
Allowed Mosaic Methods: NorthWest,Center,LockRaster,ByAttribute,Nadir,Viewpoint,Seamline,None
SortField:
SortValue: null
Mosaic Operator: First
Default Compression Quality: 75
Default Resampling Method: Bilinear
Max Record Count: 1000
Max Image Height: 4100
Max Image Width: 15000
Max Download Image Count: 20
Max Mosaic Image Count: 20
Allow Raster Function: true
Allow Copy: true
Allow Analysis: true
Allow Compute TiePoints: false
Supports Statistics: true
Supports Advanced Queries: true
Use StandardizedQueries: true
Raster Type Infos:
Name: Raster Dataset
Description: Supports all ArcGIS Raster Datasets
Help:
Has Raster Attribute Table: false
Edit Fields Info: null
Ownership Based AccessControl For Rasters: null
Child Resources:
Info
Histograms
Statistics
Key Properties
Legend
Raster Function Infos
Supported Operations:
Export Image
Query
Identify
Measure
Compute Histograms
Compute Statistics Histograms
Get Samples
Compute Class Statistics
Query GPS Info
Find Images
Image to Map
Map to Image
Measure from Image
Image to Map Multiray
Query Boundary
Compute Pixel Location
Compute Angles
Validate
Project