View In:
ArcGIS JavaScript
ArcGIS Online Map Viewer
ArcGIS Earth
Service Description: The visible-wavelength true color RGB digital camera images were taken by astronauts aboard the International Space Station showing areas affected by the flooding in Hawaii March 2026.
Date of Images:
April 4, 2026
Suggested Use:
This image provides regional context, and may be useful for visualization of the ongoing event. Higher spatial resolution images may be suitable for spatial analysis to support decision making or research applications.
Sensor:
Camera: Nikon Z9
Focal Length: 200mm
Additional Information about the astronaut photography from the ISS.
Credits:
International Space Station Program, NASA Johnson Space Center Earth Science and Remote Sensing Unit, ARES Division, Exploration Architecture, Integration & Science Directorate
Esri REST Endpoint:
See URL to the right
WMS Endpoint:
https://gis.earthdata.nasa.gov/gis05/services/DISASTERS_202510_HURRICANE_MELISSA/202511_iss/MapServer/WMSServer
Data Download:
Full datasets are available for download at the Gateway to Astronaut Photography of Earth. Download for this specific data can be found at:
https://eol.jsc.nasa.gov/WebShare/WebShare.pl?folder=NASADisastersProgram
Name: DISASTERS_202603_FLOOD_HI/2603_iss
Description: The visible-wavelength true color RGB digital camera images were taken by astronauts aboard the International Space Station showing areas affected by the flooding in Hawaii March 2026.
Date of Images:
April 4, 2026
Suggested Use:
This image provides regional context, and may be useful for visualization of the ongoing event. Higher spatial resolution images may be suitable for spatial analysis to support decision making or research applications.
Sensor:
Camera: Nikon Z9
Focal Length: 200mm
Additional Information about the astronaut photography from the ISS.
Credits:
International Space Station Program, NASA Johnson Space Center Earth Science and Remote Sensing Unit, ARES Division, Exploration Architecture, Integration & Science Directorate
Esri REST Endpoint:
See URL to the right
WMS Endpoint:
https://gis.earthdata.nasa.gov/gis05/services/DISASTERS_202510_HURRICANE_MELISSA/202511_iss/MapServer/WMSServer
Data Download:
Full datasets are available for download at the Gateway to Astronaut Photography of Earth. Download for this specific data can be found at:
https://eol.jsc.nasa.gov/WebShare/WebShare.pl?folder=NASADisastersProgram
Single Fused Map Cache: false
Extent:
XMin: -1.79167667622E7
YMin: 2103343.5533598214
XMax: -1.7189753867266953E7
YMax: 2555827.1316
Spatial Reference: 102100
(3857)
LatestVCSWkid(0)
Initial Extent:
XMin: -1.79167667622E7
YMin: 2103343.5533598214
XMax: -1.7189753867266953E7
YMax: 2555827.1316
Spatial Reference: 102100
(3857)
LatestVCSWkid(0)
Full Extent:
XMin: -1.79167667622E7
YMin: 2103343.5533598214
XMax: -1.7189753867266953E7
YMax: 2555827.1316
Spatial Reference: 102100
(3857)
LatestVCSWkid(0)
Pixel Size X: 5.202276187543729
Pixel Size Y: 5.202276187543729
Band Count: 3
Pixel Type: U8
RasterFunction Infos: {"rasterFunctionInfos": [{
"name": "None",
"description": "",
"help": ""
}]}
Mensuration Capabilities: None
Inspection Capabilities:
Has Histograms: true
Has Colormap: false
Has Multi Dimensions : false
Rendering Rule:
Min Scale: 0
Max Scale: 0
Copyright Text: International Space Station Program, NASA Johnson Space Center Earth Science and Remote Sensing Unit, ARES Division, Exploration Architecture, Integration & Science Directorate
Service Data Type: esriImageServiceDataTypeRGB
Min Values: 0, 0, 0
Max Values: 243, 238, 229
Mean Values: 52.49959217713274, 71.8337365739193, 92.59978829869145
Standard Deviation Values: 45.34729152021226, 38.99758272037271, 36.130765187002694
Object ID Field: OBJECTID
Fields:
-
OBJECTID
(
type: esriFieldTypeOID, alias: OBJECTID
)
-
Shape
(
type: esriFieldTypeGeometry, alias: Shape
)
-
Name
(
type: esriFieldTypeString, alias: Name, length: 200
)
-
MinPS
(
type: esriFieldTypeDouble, alias: MinPS
)
-
MaxPS
(
type: esriFieldTypeDouble, alias: MaxPS
)
-
LowPS
(
type: esriFieldTypeDouble, alias: LowPS
)
-
HighPS
(
type: esriFieldTypeDouble, alias: HighPS
)
-
Category
(
type: esriFieldTypeInteger, alias: Category
, Coded Values:
[0: Unknown]
, [1: Primary]
, [2: Overview]
, ...6 more...
)
-
Tag
(
type: esriFieldTypeString, alias: Tag, length: 100
)
-
GroupName
(
type: esriFieldTypeString, alias: GroupName, length: 100
)
-
ProductName
(
type: esriFieldTypeString, alias: ProductName, length: 100
)
-
CenterX
(
type: esriFieldTypeDouble, alias: CenterX
)
-
CenterY
(
type: esriFieldTypeDouble, alias: CenterY
)
-
ZOrder
(
type: esriFieldTypeInteger, alias: ZOrder
)
-
Shape_Length
(
type: esriFieldTypeDouble, alias: Shape_Length
)
-
Shape_Area
(
type: esriFieldTypeDouble, alias: Shape_Area
)
Default Mosaic Method: Northwest
Allowed Mosaic Methods: NorthWest,Center,LockRaster,ByAttribute,Nadir,Viewpoint,Seamline,None
SortField:
SortValue: null
Mosaic Operator: First
Default Compression Quality: 75
Default Resampling Method: Bilinear
Max Record Count: 1000
Max Image Height: 4100
Max Image Width: 15000
Max Download Image Count: 20
Max Mosaic Image Count: 20
Allow Raster Function: true
Allow Copy: true
Allow Analysis: true
Allow Compute TiePoints: false
Supports Statistics: true
Supports Advanced Queries: true
Use StandardizedQueries: true
Raster Type Infos:
Name: Raster Dataset
Description: Supports all ArcGIS Raster Datasets
Help:
Has Raster Attribute Table: false
Edit Fields Info: null
Ownership Based AccessControl For Rasters: null
Child Resources:
Info
Histograms
Statistics
Key Properties
Legend
Raster Function Infos
Supported Operations:
Export Image
Query
Identify
Compute Histograms
Compute Statistics Histograms
Get Samples
Compute Class Statistics
Query GPS Info
Find Images
Image to Map
Map to Image
Measure from Image
Image to Map Multiray
Query Boundary
Compute Pixel Location
Compute Angles
Validate
Project