View In:
ArcGIS JavaScript
ArcGIS Online Map Viewer
ArcGIS Earth
Service Description: Dates of Images:
Post-Event: Forthcoming
Pre-Event: April 9, 2026
Date of Next Image:
Unknown
Summary:
The dynamically generated Normalized Difference Vegetation Index (NDVI) layer is an index for quantifying green vegetation. It reflects the state of vegetation health based on how vegetation reflects light at certain wavelengths.
Suggested Use:
Dark green colors are areas with a lot of green leaf growth which indicates the presence of chlorophyll. Chlorophyll reflects more infrared light and less visible light. Areas with some green leaf growth are in light greens, and areas with little to no vegetation growth are even lighter greens.
Satellite/Sensor:
MultiSpectral Instrument (MSI) on European Space Agency's (ESA) Copernicus Sentinel-2A/2B satellites
Resolution:
10 meters
Credits:
NASA/MSFC, USGS, ESA Copernicus
REST Endpoint:
See URL on the right.
WMS Endpoint:
Name: DISASTERS_202604_TYPHON_SINLAKU/202606_sentinel2_ndvi
Description: Dates of Images:
Post-Event: Forthcoming
Pre-Event: April 9, 2026
Date of Next Image:
Unknown
Summary:
The dynamically generated Normalized Difference Vegetation Index (NDVI) layer is an index for quantifying green vegetation. It reflects the state of vegetation health based on how vegetation reflects light at certain wavelengths.
Suggested Use:
Dark green colors are areas with a lot of green leaf growth which indicates the presence of chlorophyll. Chlorophyll reflects more infrared light and less visible light. Areas with some green leaf growth are in light greens, and areas with little to no vegetation growth are even lighter greens.
Satellite/Sensor:
MultiSpectral Instrument (MSI) on European Space Agency's (ESA) Copernicus Sentinel-2A/2B satellites
Resolution:
10 meters
Credits:
NASA/MSFC, USGS, ESA Copernicus
REST Endpoint:
See URL on the right.
WMS Endpoint:
https://gis.earthdata.nasa.gov/gis05/services/DISASTERS_202604_TYPHON_SINLAKU/202606_sentinel2_ndvi/ImageServer/WMSServer
Single Fused Map Cache: false
Extent:
XMin: 1.6003350574500002E7
YMin: 1408247.63097075
XMax: 1.6169052059466105E7
YMax: 1627758.7118999995
Spatial Reference: 102100
(3857)
LatestVCSWkid(0)
Initial Extent:
XMin: 1.6003350574500002E7
YMin: 1408247.63097075
XMax: 1.6169052059466105E7
YMax: 1627758.7118999995
Spatial Reference: 102100
(3857)
LatestVCSWkid(0)
Full Extent:
XMin: 1.6003350574500002E7
YMin: 1408247.63097075
XMax: 1.6169052059466105E7
YMax: 1627758.7118999995
Spatial Reference: 102100
(3857)
LatestVCSWkid(0)
Pixel Size X: 10.148924172603845
Pixel Size Y: 10.14892417260389
Band Count: 1
Pixel Type: F32
RasterFunction Infos: {"rasterFunctionInfos": [
{
"name": "ndvi_sinlaku",
"description": "1 green 0 white",
"help": ""
},
{
"name": "None",
"description": "Make a Raster or Raster Dataset into a Function Raster Dataset.",
"help": ""
}
]}
Mensuration Capabilities:
Inspection Capabilities:
Has Histograms: true
Has Colormap: false
Has Multi Dimensions : false
Rendering Rule:
Min Scale: 0
Max Scale: 0
Copyright Text: NASA/MSFC, USGS, ESA Copernicus, NWS, NOAA
Service Data Type: esriImageServiceDataTypeGeneric
Min Values: -0.22851361334323883
Max Values: 0.664106547832489
Mean Values: 0.013459316025255075
Standard Deviation Values: 0.11355992665219675
Object ID Field: OBJECTID
Fields:
-
OBJECTID
(
type: esriFieldTypeOID, alias: OBJECTID
)
-
Shape
(
type: esriFieldTypeGeometry, alias: Shape
)
-
Name
(
type: esriFieldTypeString, alias: Name, length: 200
)
-
MinPS
(
type: esriFieldTypeDouble, alias: MinPS
)
-
MaxPS
(
type: esriFieldTypeDouble, alias: MaxPS
)
-
LowPS
(
type: esriFieldTypeDouble, alias: LowPS
)
-
HighPS
(
type: esriFieldTypeDouble, alias: HighPS
)
-
Category
(
type: esriFieldTypeInteger, alias: Category
, Coded Values:
[0: Unknown]
, [1: Primary]
, [2: Overview]
, ...6 more...
)
-
Tag
(
type: esriFieldTypeString, alias: Tag, length: 100
)
-
GroupName
(
type: esriFieldTypeString, alias: GroupName, length: 100
)
-
ProductName
(
type: esriFieldTypeString, alias: ProductName, length: 100
)
-
CenterX
(
type: esriFieldTypeDouble, alias: CenterX
)
-
CenterY
(
type: esriFieldTypeDouble, alias: CenterY
)
-
ZOrder
(
type: esriFieldTypeInteger, alias: ZOrder
)
-
Shape_Length
(
type: esriFieldTypeDouble, alias: Shape_Length
)
-
Shape_Area
(
type: esriFieldTypeDouble, alias: Shape_Area
)
Default Mosaic Method: Northwest
Allowed Mosaic Methods: NorthWest,Center,LockRaster,ByAttribute,Nadir,Viewpoint,Seamline,None
SortField:
SortValue: null
Mosaic Operator: First
Default Compression Quality: 75
Default Resampling Method: Bilinear
Max Record Count: 1000
Max Image Height: 4100
Max Image Width: 15000
Max Download Image Count: 20
Max Mosaic Image Count: 20
Allow Raster Function: true
Allow Copy: true
Allow Analysis: true
Allow Compute TiePoints: false
Supports Statistics: true
Supports Advanced Queries: true
Use StandardizedQueries: true
Raster Type Infos:
Name: Raster Dataset
Description: Supports all ArcGIS Raster Datasets
Help:
Has Raster Attribute Table: false
Edit Fields Info: null
Ownership Based AccessControl For Rasters: null
Child Resources:
Info
Histograms
Statistics
Key Properties
Legend
Raster Function Infos
Supported Operations:
Export Image
Query
Identify
Compute Histograms
Compute Statistics Histograms
Get Samples
Compute Class Statistics
Query GPS Info
Find Images
Image to Map
Map to Image
Measure from Image
Image to Map Multiray
Query Boundary
Compute Pixel Location
Compute Angles
Validate
Project