View In:
ArcGIS JavaScript
ArcGIS Online Map Viewer
ArcGIS Earth
Service Description: Date(s) of Images:
Post-Event: 6/26/2026
Summary:
Satellogic’s operates a commercial constellation of satellites and sensors that offers 4 band (R,G, B and NIR) acquisitions.
True Color: The True Color RGB composite provides a product of how the surface would look to the naked eye from space. The RGB is created using the red, green, and blue channels of the respective instrument.
Resolution:
0.5 m to 1 m depending on generation of sensor used and viewing angle.
Credits:
NASA Disasters Program, Satellogic. For derived products: “Includes copyrighted material of Satellogic. All rights reserved.” This work utilized data made available through the NASA Commercial Satellite Data Acquisition (CSDA) program."
Name: DISASTERS_202606_EARTHQUAKE_VENEZUELA/202611_satellogic
Description: Date(s) of Images:
Post-Event: 6/26/2026
Summary:
Satellogic’s operates a commercial constellation of satellites and sensors that offers 4 band (R,G, B and NIR) acquisitions.
True Color: The True Color RGB composite provides a product of how the surface would look to the naked eye from space. The RGB is created using the red, green, and blue channels of the respective instrument.
Resolution:
0.5 m to 1 m depending on generation of sensor used and viewing angle.
Credits:
NASA Disasters Program, Satellogic. For derived products: “Includes copyrighted material of Satellogic. All rights reserved.” This work utilized data made available through the NASA Commercial Satellite Data Acquisition (CSDA) program."
Single Fused Map Cache: false
Extent:
XMin: -7658684.3871
YMin: 1141973.6867000014
XMax: -7439041.8871
YMax: 1194546.1867000014
Spatial Reference: 102100
(3857)
LatestVCSWkid(0)
Initial Extent:
XMin: -7658684.3871
YMin: 1141973.6867000014
XMax: -7439041.8871
YMax: 1194546.1867000014
Spatial Reference: 102100
(3857)
LatestVCSWkid(0)
Full Extent:
XMin: -7658684.3871
YMin: 1141973.6867000014
XMax: -7439041.8871
YMax: 1194546.1867000014
Spatial Reference: 102100
(3857)
LatestVCSWkid(0)
Pixel Size X: 0.5
Pixel Size Y: 0.5
Band Count: 3
Pixel Type: U8
RasterFunction Infos: {"rasterFunctionInfos": [{
"name": "None",
"description": "",
"help": ""
}]}
Mensuration Capabilities: None
Inspection Capabilities:
Has Histograms: true
Has Colormap: false
Has Multi Dimensions : false
Rendering Rule:
Min Scale: 0
Max Scale: 0
Copyright Text: NASA Disasters Program, Satellogic. For derived products: “Includes copyrighted material of Satellogic. All rights reserved.” This work utilized data made available through the NASA Commercial Satellite Data Acquisition (CSDA) program."
Service Data Type: esriImageServiceDataTypeRGB
Min Values: 0, 0, 0
Max Values: 255, 255, 255
Mean Values: 121.84807278908107, 129.10188471729091, 119.71646752987184
Standard Deviation Values: 53.970873698313454, 50.3668215778783, 54.369954117977265
Object ID Field: OBJECTID
Fields:
-
OBJECTID
(
type: esriFieldTypeOID, alias: OBJECTID
)
-
Shape
(
type: esriFieldTypeGeometry, alias: Shape
)
-
Name
(
type: esriFieldTypeString, alias: Name, length: 200
)
-
MinPS
(
type: esriFieldTypeDouble, alias: MinPS
)
-
MaxPS
(
type: esriFieldTypeDouble, alias: MaxPS
)
-
LowPS
(
type: esriFieldTypeDouble, alias: LowPS
)
-
HighPS
(
type: esriFieldTypeDouble, alias: HighPS
)
-
Category
(
type: esriFieldTypeInteger, alias: Category
, Coded Values:
[0: Unknown]
, [1: Primary]
, [2: Overview]
, ...6 more...
)
-
Tag
(
type: esriFieldTypeString, alias: Tag, length: 100
)
-
GroupName
(
type: esriFieldTypeString, alias: GroupName, length: 100
)
-
ProductName
(
type: esriFieldTypeString, alias: ProductName, length: 100
)
-
CenterX
(
type: esriFieldTypeDouble, alias: CenterX
)
-
CenterY
(
type: esriFieldTypeDouble, alias: CenterY
)
-
ZOrder
(
type: esriFieldTypeInteger, alias: ZOrder
)
-
Date
(
type: esriFieldTypeDateOnly, alias: Date
)
-
Shape_Length
(
type: esriFieldTypeDouble, alias: Shape_Length
)
-
Shape_Area
(
type: esriFieldTypeDouble, alias: Shape_Area
)
Default Mosaic Method: Northwest
Allowed Mosaic Methods: NorthWest,Center,LockRaster,ByAttribute,Nadir,Viewpoint,Seamline,None
SortField:
SortValue: null
Mosaic Operator: First
Default Compression Quality: 75
Default Resampling Method: Bilinear
Max Record Count: 1000
Max Image Height: 4100
Max Image Width: 15000
Max Download Image Count: 20
Max Mosaic Image Count: 20
Allow Raster Function: true
Allow Copy: true
Allow Analysis: true
Allow Compute TiePoints: false
Supports Statistics: true
Supports Advanced Queries: true
Use StandardizedQueries: true
Raster Type Infos:
Name: Raster Dataset
Description: Supports all ArcGIS Raster Datasets
Help:
Has Raster Attribute Table: false
Edit Fields Info: null
Ownership Based AccessControl For Rasters: null
Child Resources:
Info
Histograms
Statistics
Key Properties
Legend
Raster Function Infos
Supported Operations:
Export Image
Query
Identify
Compute Histograms
Compute Statistics Histograms
Get Samples
Compute Class Statistics
Query GPS Info
Find Images
Image to Map
Map to Image
Measure from Image
Image to Map Multiray
Query Boundary
Compute Pixel Location
Compute Angles
Validate
Project