View In:
ArcGIS JavaScript
ArcGIS Online Map Viewer
ArcGIS Earth
Service Description: Summary:
The images are false-color “quick looks” generated from the NASA AVIRIS-3 (Airborne Visible/Infrared Imaging Spectrometer -3). They are generated from un-atmospherically-corrected, at-sensor radiance data. Specifically: AVIRIS 3 L1B calibrated spectral radiance (units: uW nm-1 cm-2 sr-1). The images have been orthorectified.
Given that these images were derived from solely calibrated, at-sensor radiance data, they have not undergone atmospheric correction and do not quantitatively represent surface reflectance.
Suggested Usage:
Despite the rawer form of this quick-look product, it is still useful for burned area mapping.
Sensor:
Airborne Visible/Infrared Imaging Spectrometer 3rd-Generation (AVIRIS-3)
AV320250110t223109 Resolution: 3.70 x 3.70 m pixels
Dimensions for AV320250110t223109: X: 6210 Y: 3068 Bands: 3
AV320250110t222449 Resolution: 3.40 x 3.40 m pixels
Dimensions for AV320250110t222449: X: 6593 Y: 3465 Bands: 3
The AVIRIS-3 False color RGB wavelengths are 1660nm, 850nm, and 560nm for (R, G, B) respectively.
Caveats and Limitations:
These results are intended to support rapid emergency response. All information is provisional for use under emergency response guidelines. These data are provided with absolutely no warranty of any kind. Use at your own risk.
Credits:
Rob Green (JPL), Phil Brodrick (JPL), David Thompson (JPL), John Chapman (JPL), Michael Eastwood (JPL), and Adam Chlus (JPL).
Name: DISASTERS_202607_FIRE_OR/202618_aviris
Description: Summary:
The images are false-color “quick looks” generated from the NASA AVIRIS-3 (Airborne Visible/Infrared Imaging Spectrometer -3). They are generated from un-atmospherically-corrected, at-sensor radiance data. Specifically: AVIRIS 3 L1B calibrated spectral radiance (units: uW nm-1 cm-2 sr-1). The images have been orthorectified.
Given that these images were derived from solely calibrated, at-sensor radiance data, they have not undergone atmospheric correction and do not quantitatively represent surface reflectance.
Suggested Usage:
Despite the rawer form of this quick-look product, it is still useful for burned area mapping.
Sensor:
Airborne Visible/Infrared Imaging Spectrometer 3rd-Generation (AVIRIS-3)
AV320250110t223109 Resolution: 3.70 x 3.70 m pixels
Dimensions for AV320250110t223109: X: 6210 Y: 3068 Bands: 3
AV320250110t222449 Resolution: 3.40 x 3.40 m pixels
Dimensions for AV320250110t222449: X: 6593 Y: 3465 Bands: 3
The AVIRIS-3 False color RGB wavelengths are 1660nm, 850nm, and 560nm for (R, G, B) respectively.
Caveats and Limitations:
These results are intended to support rapid emergency response. All information is provisional for use under emergency response guidelines. These data are provided with absolutely no warranty of any kind. Use at your own risk.
Credits:
Rob Green (JPL), Phil Brodrick (JPL), David Thompson (JPL), John Chapman (JPL), Michael Eastwood (JPL), and Adam Chlus (JPL).
Single Fused Map Cache: false
Extent:
XMin: -1.30234795997E7
YMin: 5201809.314000002
XMax: -1.2982327099700002E7
YMax: 5288693.013999999
Spatial Reference: 102100
(3857)
LatestVCSWkid(0)
Initial Extent:
XMin: -1.30234795997E7
YMin: 5201809.314000002
XMax: -1.2982327099700002E7
YMax: 5288693.013999999
Spatial Reference: 102100
(3857)
LatestVCSWkid(0)
Full Extent:
XMin: -1.30234795997E7
YMin: 5201809.314000002
XMax: -1.2982327099700002E7
YMax: 5288693.013999999
Spatial Reference: 102100
(3857)
LatestVCSWkid(0)
Pixel Size X: 3.0999999999998598
Pixel Size Y: 3.0999999999998735
Band Count: 4
Pixel Type: U8
RasterFunction Infos: {"rasterFunctionInfos": [{
"name": "None",
"description": "",
"help": ""
}]}
Mensuration Capabilities: None
Inspection Capabilities:
Has Histograms: true
Has Colormap: false
Has Multi Dimensions : false
Rendering Rule:
Min Scale: 0
Max Scale: 0
Copyright Text: Rob Green (JPL), Phil Brodrick (JPL), David Thompson (JPL), John Chapman (JPL), Adam Chlus (JPL), Michael Eastwood (JPL)
Service Data Type: esriImageServiceDataTypeGeneric
Min Values: 0, 0, 0, 0
Max Values: 255, 232, 78, 255
Mean Values: 15.206139466074722, 16.523541344450365, 8.202732387420648, 53.009279806334206
Standard Deviation Values: 33.04615474465342, 34.91843902437145, 17.180074701313778, 103.27897251205592
Object ID Field: OBJECTID
Fields:
-
OBJECTID
(
type: esriFieldTypeOID, alias: OBJECTID
)
-
Shape
(
type: esriFieldTypeGeometry, alias: Shape
)
-
Name
(
type: esriFieldTypeString, alias: Name, length: 200
)
-
MinPS
(
type: esriFieldTypeDouble, alias: MinPS
)
-
MaxPS
(
type: esriFieldTypeDouble, alias: MaxPS
)
-
LowPS
(
type: esriFieldTypeDouble, alias: LowPS
)
-
HighPS
(
type: esriFieldTypeDouble, alias: HighPS
)
-
Category
(
type: esriFieldTypeInteger, alias: Category
, Coded Values:
[0: Unknown]
, [1: Primary]
, [2: Overview]
, ...6 more...
)
-
Tag
(
type: esriFieldTypeString, alias: Tag, length: 100
)
-
GroupName
(
type: esriFieldTypeString, alias: GroupName, length: 100
)
-
ProductName
(
type: esriFieldTypeString, alias: ProductName, length: 100
)
-
CenterX
(
type: esriFieldTypeDouble, alias: CenterX
)
-
CenterY
(
type: esriFieldTypeDouble, alias: CenterY
)
-
ZOrder
(
type: esriFieldTypeInteger, alias: ZOrder
)
-
Shape_Length
(
type: esriFieldTypeDouble, alias: Shape_Length
)
-
Shape_Area
(
type: esriFieldTypeDouble, alias: Shape_Area
)
Default Mosaic Method: Northwest
Allowed Mosaic Methods: NorthWest,Center,LockRaster,ByAttribute,Nadir,Viewpoint,Seamline,None
SortField:
SortValue: null
Mosaic Operator: First
Default Compression Quality: 75
Default Resampling Method: Bilinear
Max Record Count: 1000
Max Image Height: 4100
Max Image Width: 15000
Max Download Image Count: 20
Max Mosaic Image Count: 20
Allow Raster Function: true
Allow Copy: true
Allow Analysis: true
Allow Compute TiePoints: false
Supports Statistics: true
Supports Advanced Queries: true
Use StandardizedQueries: true
Raster Type Infos:
Name: Raster Dataset
Description: Supports all ArcGIS Raster Datasets
Help:
Has Raster Attribute Table: false
Edit Fields Info: null
Ownership Based AccessControl For Rasters: null
Child Resources:
Info
Histograms
Statistics
Key Properties
Legend
Raster Function Infos
Supported Operations:
Export Image
Query
Identify
Compute Histograms
Compute Statistics Histograms
Get Samples
Compute Class Statistics
Query GPS Info
Find Images
Image to Map
Map to Image
Measure from Image
Image to Map Multiray
Query Boundary
Compute Pixel Location
Compute Angles
Validate
Project