View In:
ArcGIS JavaScript
ArcGIS Online Map Viewer
ArcGIS Earth
Service Description: Date of Image(s)
1/10/25; UTC: 223109
1/10/25; UTC: 222449
Date of Next Image
1/11/25, 1/14/25
Summary:
The images are false-color “quick looks” generated from the NASA AVIRIS-3 (Airborne Visible/Infrared Imaging Spectrometer -3). They are generated from un-atmospherically-corrected, at-sensor radiance data. Specifcially: AVIRIS 3 L1B calibrated spectral radiance (units: uW nm-1 cm-2 sr-1). The images have been orthorectified.
Given that these images were derived from solely calibrated, at-sensor radiance data, they have not undergone atmospheric correction and do not quantitatively represent surface reflectance. Atmospherically-corrected surface reflectance products will be shared separately when they become available.
Suggested Usage:
Despite the rawer form of this quick-look product, it is still useful for burned area mapping.
Sensor:
Airborne Visible/Infrared Imaging Spectrometer 3rd-Generation (AVIRIS-3)
AV320250110t223109 Resolution: 3.70 x 3.70 m pixels
Dimensions for AV320250110t223109: X: 6210 Y: 3068 Bands: 3
AV320250110t222449 Resolution: 3.40 x 3.40 m pixels
Dimensions for AV320250110t222449: X: 6593 Y: 3465 Bands: 3
The AVIRIS-3 False color RGB wavelengths are 1660nm, 560nm, and 850nm for (R, G, B) respectively)
Credits
Rob Green (JPL), Phil Brodrick (JPL), David Thompson (JPL), John Chapman (JPL)
Name: DISASTERS_CA_WILDFIRES_202501/AVIRIS_QUICKLOOKS
Description: Date of Image(s)
1/10/25; UTC: 223109
1/10/25; UTC: 222449
Date of Next Image
1/11/25, 1/14/25
Summary:
The images are false-color “quick looks” generated from the NASA AVIRIS-3 (Airborne Visible/Infrared Imaging Spectrometer -3). They are generated from un-atmospherically-corrected, at-sensor radiance data. Specifcially: AVIRIS 3 L1B calibrated spectral radiance (units: uW nm-1 cm-2 sr-1). The images have been orthorectified.
Given that these images were derived from solely calibrated, at-sensor radiance data, they have not undergone atmospheric correction and do not quantitatively represent surface reflectance. Atmospherically-corrected surface reflectance products will be shared separately when they become available.
Suggested Usage:
Despite the rawer form of this quick-look product, it is still useful for burned area mapping.
Sensor:
Airborne Visible/Infrared Imaging Spectrometer 3rd-Generation (AVIRIS-3)
AV320250110t223109 Resolution: 3.70 x 3.70 m pixels
Dimensions for AV320250110t223109: X: 6210 Y: 3068 Bands: 3
AV320250110t222449 Resolution: 3.40 x 3.40 m pixels
Dimensions for AV320250110t222449: X: 6593 Y: 3465 Bands: 3
The AVIRIS-3 False color RGB wavelengths are 1660nm, 560nm, and 850nm for (R, G, B) respectively)
Credits
Rob Green (JPL), Phil Brodrick (JPL), David Thompson (JPL), John Chapman (JPL)
Single Fused Map Cache: false
Extent:
XMin: -118.77840391999996
YMin: 34.01771434586853
XMax: -117.96815251936398
YMax: 34.46276513000004
Spatial Reference: 4326
(4326)
LatestVCSWkid(0)
Initial Extent:
XMin: -118.77840391999996
YMin: 34.01771434586853
XMax: -117.96815251936398
YMax: 34.46276513000004
Spatial Reference: 4326
(4326)
LatestVCSWkid(0)
Full Extent:
XMin: -118.77840391999996
YMin: 34.01771434586853
XMax: -117.96815251936398
YMax: 34.46276513000004
Spatial Reference: 4326
(4326)
LatestVCSWkid(0)
Pixel Size X: 2.1799117561300463E-5
Pixel Size Y: 2.1799117561300456E-5
Band Count: 3
Pixel Type: U8
RasterFunction Infos: {"rasterFunctionInfos": [{
"name": "None",
"description": "",
"help": ""
}]}
Mensuration Capabilities: Basic
Inspection Capabilities:
Has Histograms: false
Has Colormap: false
Has Multi Dimensions : false
Rendering Rule:
Min Scale: 0
Max Scale: 0
Copyright Text: Rob Green (JPL), Phil Brodrick (JPL), David Thompson (JPL), John Chapman (JPL), Adam Chlus (JPL), Michael Eastwood (JPL)
Service Data Type: esriImageServiceDataTypeRGB
Min Values: N/A
Max Values: N/A
Mean Values: N/A
Standard Deviation Values: N/A
Object ID Field: OBJECTID
Fields:
-
OBJECTID
(
type: esriFieldTypeOID, alias: OBJECTID
)
-
Shape
(
type: esriFieldTypeGeometry, alias: Shape
)
-
Name
(
type: esriFieldTypeString, alias: Name, length: 200
)
-
MinPS
(
type: esriFieldTypeDouble, alias: MinPS
)
-
MaxPS
(
type: esriFieldTypeDouble, alias: MaxPS
)
-
LowPS
(
type: esriFieldTypeDouble, alias: LowPS
)
-
HighPS
(
type: esriFieldTypeDouble, alias: HighPS
)
-
Category
(
type: esriFieldTypeInteger, alias: Category
)
-
Tag
(
type: esriFieldTypeString, alias: Tag, length: 100
)
-
GroupName
(
type: esriFieldTypeString, alias: GroupName, length: 100
)
-
ProductName
(
type: esriFieldTypeString, alias: ProductName, length: 100
)
-
CenterX
(
type: esriFieldTypeDouble, alias: CenterX
)
-
CenterY
(
type: esriFieldTypeDouble, alias: CenterY
)
-
ZOrder
(
type: esriFieldTypeInteger, alias: ZOrder
)
-
Date
(
type: esriFieldTypeDate, alias: Date, length: 8
)
-
Shape_Length
(
type: esriFieldTypeDouble, alias: Shape_Length
)
-
Shape_Area
(
type: esriFieldTypeDouble, alias: Shape_Area
)
Default Mosaic Method: Northwest
Allowed Mosaic Methods: NorthWest,Center,LockRaster,ByAttribute,Nadir,Viewpoint,Seamline,None
SortField:
SortValue: null
Mosaic Operator: First
Default Compression Quality: 75
Default Resampling Method: Bilinear
Max Record Count: 1000
Max Image Height: 4100
Max Image Width: 15000
Max Download Image Count: 20
Max Mosaic Image Count: 20
Allow Raster Function: true
Allow Copy: true
Allow Analysis: true
Allow Compute TiePoints: false
Supports Statistics: true
Supports Advanced Queries: true
Use StandardizedQueries: true
Raster Type Infos:
Name: Raster Dataset
Description: Supports all ArcGIS Raster Datasets
Help:
Has Raster Attribute Table: false
Edit Fields Info: null
Ownership Based AccessControl For Rasters: null
Child Resources:
Info
Statistics
Key Properties
Legend
Raster Function Infos
Supported Operations:
Export Image
Query
Identify
Measure
Compute Histograms
Compute Statistics Histograms
Get Samples
Compute Class Statistics
Query GPS Info
Find Images
Image to Map
Map to Image
Measure from Image
Image to Map Multiray
Query Boundary
Compute Pixel Location
Compute Angles
Validate
Project