View In:
ArcGIS JavaScript
ArcGIS Online Map Viewer
ArcGIS Earth
Service Description: Dates of Images:
Post-Event: 9/19/2018
Pre-Event: 8/9/2018
Summary:
True Color: The True Color RGB composite provides a product of how the surface would look to the naked eye from space. The RGB is created using the red, green, and blue channels of the respective instrument.
Color Infrared: The Color Infrared composite is created using the near-infrared, red, and green channels, allowing for the ability to see areas impacted from the fires. The near-infrared gives the ability to see through thin clouds. Healthy vegetation is shown as red, water is in blue.
Suggested Use:
True Color: provides a product of how the surface would look to the naked eye from space. The True Color RGB is produced using the 3 visible wavelength bands (red, green, and blue) from the respective sensor. Some minor atmospheric corrections have occurred.
Color Infrared: depicts healthy vegetation as red, water as blue. Some minor atmospheric corrections have occurred.
Satellite/Sensor:
Landsat 9 Operational Land Imager (OLI)
Resolution:
30 meters
Credits:
NASA/MSFC, USGS
Esri REST Endpoint:
See URL section on right side of page
WMS Endpoint:
https://gis.earthdata.nasa.gov/gis05/services/DISASTERS_202603_FLOOD_HI/2605_landsat/ImageServer/WMSServer
Name: DISASTERS_EX2601_201809_HURRICANE_FLORENCE/ex2601_landsat
Description: Dates of Images:
Post-Event: 9/19/2018
Pre-Event: 8/9/2018
Summary:
True Color: The True Color RGB composite provides a product of how the surface would look to the naked eye from space. The RGB is created using the red, green, and blue channels of the respective instrument.
Color Infrared: The Color Infrared composite is created using the near-infrared, red, and green channels, allowing for the ability to see areas impacted from the fires. The near-infrared gives the ability to see through thin clouds. Healthy vegetation is shown as red, water is in blue.
Suggested Use:
True Color: provides a product of how the surface would look to the naked eye from space. The True Color RGB is produced using the 3 visible wavelength bands (red, green, and blue) from the respective sensor. Some minor atmospheric corrections have occurred.
Color Infrared: depicts healthy vegetation as red, water as blue. Some minor atmospheric corrections have occurred.
Satellite/Sensor:
Landsat 9 Operational Land Imager (OLI)
Resolution:
30 meters
Credits:
NASA/MSFC, USGS
Esri REST Endpoint:
See URL section on right side of page
WMS Endpoint:
https://gis.earthdata.nasa.gov/gis05/services/DISASTERS_202603_FLOOD_HI/2605_landsat/ImageServer/WMSServer
Single Fused Map Cache: false
Extent:
XMin: -8835396.8583
YMin: 3963843.1827772986
XMax: -8333773.691798697
YMax: 4458471.736000001
Spatial Reference: 102100
(3857)
LatestVCSWkid(0)
Initial Extent:
XMin: -8835396.8583
YMin: 3963843.1827772986
XMax: -8333773.691798697
YMax: 4458471.736000001
Spatial Reference: 102100
(3857)
LatestVCSWkid(0)
Full Extent:
XMin: -8835396.8583
YMin: 3963843.1827772986
XMax: -8333773.691798697
YMax: 4458471.736000001
Spatial Reference: 102100
(3857)
LatestVCSWkid(0)
Pixel Size X: 33.14982596492884
Pixel Size Y: 33.149825964928816
Band Count: 4
Pixel Type: U8
RasterFunction Infos: {"rasterFunctionInfos": [{
"name": "None",
"description": "",
"help": ""
}]}
Mensuration Capabilities: Basic
Inspection Capabilities:
Has Histograms: true
Has Colormap: false
Has Multi Dimensions : false
Rendering Rule:
Min Scale: 0
Max Scale: 0
Copyright Text: NASA/GSFC, USGS
Service Data Type: esriImageServiceDataTypeGeneric
Min Values: 3, 3, 3, 255
Max Values: 255, 255, 255, 255
Mean Values: 24.845919452804235, 37.25225870229053, 20.7054874676687, 255
Standard Deviation Values: 19.402201658668247, 18.08844733596165, 12.23524167850532, 0
Object ID Field: OBJECTID
Fields:
-
OBJECTID
(
type: esriFieldTypeOID, alias: OBJECTID
)
-
Shape
(
type: esriFieldTypeGeometry, alias: Shape
)
-
Name
(
type: esriFieldTypeString, alias: Name, length: 200
)
-
MinPS
(
type: esriFieldTypeDouble, alias: MinPS
)
-
MaxPS
(
type: esriFieldTypeDouble, alias: MaxPS
)
-
LowPS
(
type: esriFieldTypeDouble, alias: LowPS
)
-
HighPS
(
type: esriFieldTypeDouble, alias: HighPS
)
-
Category
(
type: esriFieldTypeInteger, alias: Category
, Coded Values:
[0: Unknown]
, [1: Primary]
, [2: Overview]
, ...6 more...
)
-
Tag
(
type: esriFieldTypeString, alias: Tag, length: 100
)
-
GroupName
(
type: esriFieldTypeString, alias: GroupName, length: 100
)
-
ProductName
(
type: esriFieldTypeString, alias: ProductName, length: 100
)
-
CenterX
(
type: esriFieldTypeDouble, alias: CenterX
)
-
CenterY
(
type: esriFieldTypeDouble, alias: CenterY
)
-
ZOrder
(
type: esriFieldTypeInteger, alias: ZOrder
)
-
Date
(
type: esriFieldTypeDateOnly, alias: Date
)
-
Shape_Length
(
type: esriFieldTypeDouble, alias: Shape_Length
)
-
Shape_Area
(
type: esriFieldTypeDouble, alias: Shape_Area
)
Default Mosaic Method: Northwest
Allowed Mosaic Methods: NorthWest,Center,LockRaster,ByAttribute,Nadir,Viewpoint,Seamline,None
SortField:
SortValue: null
Mosaic Operator: First
Default Compression Quality: 75
Default Resampling Method: Bilinear
Max Record Count: 1000
Max Image Height: 4100
Max Image Width: 15000
Max Download Image Count: 20
Max Mosaic Image Count: 20
Allow Raster Function: true
Allow Copy: true
Allow Analysis: true
Allow Compute TiePoints: false
Supports Statistics: true
Supports Advanced Queries: true
Use StandardizedQueries: true
Raster Type Infos:
Name: Raster Dataset
Description: Supports all ArcGIS Raster Datasets
Help:
Has Raster Attribute Table: false
Edit Fields Info: null
Ownership Based AccessControl For Rasters: null
Child Resources:
Info
Histograms
Statistics
Key Properties
Legend
Raster Function Infos
Supported Operations:
Export Image
Query
Identify
Measure
Compute Histograms
Compute Statistics Histograms
Get Samples
Compute Class Statistics
Query GPS Info
Find Images
Image to Map
Map to Image
Measure from Image
Image to Map Multiray
Query Boundary
Compute Pixel Location
Compute Angles
Validate
Project