View In:
ArcGIS JavaScript
ArcGIS Online Map Viewer
ArcGIS Earth
Service Description: Dates of Images:
9/14/2018, 9/15/2018, 9/16/2018
Summary:
LHASA was created at Goddard Space Flight Center to identify the potential for rainfall-triggered landslides in real time. LHASA version 2 adopts machine learning to estimate the probability of landslide occurrence at a 30-arcsecond (~1 km) daily resolution. In addition, it estimates the potential exposure of human population and roads to landslide hazard and maps the basins likely to experience post-fire debris flows.
Suggested Use:
The global landslide nowcast shows where landslide hazard is highest on a given date.
Resolution:
~1km
Credits:
Please cite: Stanley T. A., J. R. Sutton, R. S. Vershel, P. M. Amatya. 2025. "Better Satellite Precipitation Algorithms Slightly Improved Landslide Hazard Assessment." Journal of Applied Meteorology and Climatology 64 (10): 1379-1394 10.1175/jamc-d-25-0021.1
Esri REST Endpoint:
See URL on the right side of the page.
Name: DISASTERS_EX2601_201809_HURRICANE_FLORENCE/ex2601_lhasa
Description: Dates of Images:
9/14/2018, 9/15/2018, 9/16/2018
Summary:
LHASA was created at Goddard Space Flight Center to identify the potential for rainfall-triggered landslides in real time. LHASA version 2 adopts machine learning to estimate the probability of landslide occurrence at a 30-arcsecond (~1 km) daily resolution. In addition, it estimates the potential exposure of human population and roads to landslide hazard and maps the basins likely to experience post-fire debris flows.
Suggested Use:
The global landslide nowcast shows where landslide hazard is highest on a given date.
Resolution:
~1km
Credits:
Please cite: Stanley T. A., J. R. Sutton, R. S. Vershel, P. M. Amatya. 2025. "Better Satellite Precipitation Algorithms Slightly Improved Landslide Hazard Assessment." Journal of Applied Meteorology and Climatology 64 (10): 1379-1394 10.1175/jamc-d-25-0021.1
Esri REST Endpoint:
See URL on the right side of the page.
Single Fused Map Cache: false
Extent:
XMin: -2.00375070672E7
YMin: -231.99387576803565
XMax: 1.275589231401682
YMax: 8399751.248899996
Spatial Reference: 102100
(3857)
LatestVCSWkid(0)
Initial Extent:
XMin: -2.00375070672E7
YMin: -231.99387576803565
XMax: 1.275589231401682
YMax: 8399751.248899996
Spatial Reference: 102100
(3857)
LatestVCSWkid(0)
Full Extent:
XMin: -2.00375070672E7
YMin: -231.99387576803565
XMax: 1.275589231401682
YMax: 8399751.248899996
Spatial Reference: 102100
(3857)
LatestVCSWkid(0)
Pixel Size X: 927.6624232772793
Pixel Size Y: 927.6624232772793
Band Count: 1
Pixel Type: F64
RasterFunction Infos: {"rasterFunctionInfos": [
{
"name": "LHASA_RFT_fromMosaic",
"description": "LHASA_RFT_fromMosaic",
"help": ""
},
{
"name": "None",
"description": "Make a Raster or Raster Dataset into a Function Raster Dataset.",
"help": ""
},
{
"name": "LHASA",
"description": "LHASA text - no change raw tif",
"help": ""
}
]}
Mensuration Capabilities: None
Inspection Capabilities:
Has Histograms: true
Has Colormap: false
Has Multi Dimensions : false
Rendering Rule:
Min Scale: 0
Max Scale: 0
Copyright Text: USGS/GSFC (2025), Stanley T. A., J. R. Sutton, R. S. Vershel, P. M. Amatya
Service Data Type: esriImageServiceDataTypeGeneric
Min Values: 3.2183495932258666E-5
Max Values: 0.9320623874664307
Mean Values: 0.005829635351530291
Standard Deviation Values: 0.02955637099195538
Object ID Field: OBJECTID
Fields:
-
OBJECTID
(
type: esriFieldTypeOID, alias: OBJECTID
)
-
Shape
(
type: esriFieldTypeGeometry, alias: Shape
)
-
Name
(
type: esriFieldTypeString, alias: Name, length: 200
)
-
MinPS
(
type: esriFieldTypeDouble, alias: MinPS
)
-
MaxPS
(
type: esriFieldTypeDouble, alias: MaxPS
)
-
LowPS
(
type: esriFieldTypeDouble, alias: LowPS
)
-
HighPS
(
type: esriFieldTypeDouble, alias: HighPS
)
-
Category
(
type: esriFieldTypeInteger, alias: Category
, Coded Values:
[0: Unknown]
, [1: Primary]
, [2: Overview]
, ...6 more...
)
-
Tag
(
type: esriFieldTypeString, alias: Tag, length: 100
)
-
GroupName
(
type: esriFieldTypeString, alias: GroupName, length: 100
)
-
ProductName
(
type: esriFieldTypeString, alias: ProductName, length: 100
)
-
CenterX
(
type: esriFieldTypeDouble, alias: CenterX
)
-
CenterY
(
type: esriFieldTypeDouble, alias: CenterY
)
-
ZOrder
(
type: esriFieldTypeInteger, alias: ZOrder
)
-
Date
(
type: esriFieldTypeDateOnly, alias: Date
)
-
Shape_Length
(
type: esriFieldTypeDouble, alias: Shape_Length
)
-
Shape_Area
(
type: esriFieldTypeDouble, alias: Shape_Area
)
Default Mosaic Method: Northwest
Allowed Mosaic Methods: NorthWest,Center,LockRaster,ByAttribute,Nadir,Viewpoint,Seamline,None
SortField:
SortValue: null
Mosaic Operator: First
Default Compression Quality: 75
Default Resampling Method: Bilinear
Max Record Count: 1000
Max Image Height: 4100
Max Image Width: 15000
Max Download Image Count: 20
Max Mosaic Image Count: 20
Allow Raster Function: true
Allow Copy: true
Allow Analysis: true
Allow Compute TiePoints: false
Supports Statistics: true
Supports Advanced Queries: true
Use StandardizedQueries: true
Raster Type Infos:
Name: Raster Dataset
Description: Supports all ArcGIS Raster Datasets
Help:
Has Raster Attribute Table: false
Edit Fields Info: null
Ownership Based AccessControl For Rasters: null
Child Resources:
Info
Histograms
Statistics
Key Properties
Legend
Raster Function Infos
Supported Operations:
Export Image
Query
Identify
Compute Histograms
Compute Statistics Histograms
Get Samples
Compute Class Statistics
Query GPS Info
Find Images
Image to Map
Map to Image
Measure from Image
Image to Map Multiray
Query Boundary
Compute Pixel Location
Compute Angles
Validate
Project