View In:
ArcGIS JavaScript
ArcGIS Online Map Viewer
ArcGIS Earth
Service Description: The visible-wavelength true color RGB digital camera images were taken by astronauts aboard the International Space Station showing areas affected by the Hurricane Melissa in Jamaica in October 2025.
Date of Images:
May 6, 2024; June 24, 2024
Suggested Use:
These images provides regional context, and may be useful for visualization of the ongoing event. Higher spatial resolution images may be suitable for spatial analysis to support decision making or research applications.
Sensor:
Camera: Nikon Z9
Focal Length: 200mm
Additional Information about the astronaut photography from the ISS.
Credits:
International Space Station Program, NASA Johnson Space Center Earth Science and Remote Sensing Unit, ARES Division, Exploration Architecture, Integration & Science Directorate
Esri REST Endpoint:
See URL to the right
WMS Endpoint:
https://gis.earthdata.nasa.gov/gis05/services/DISASTERS_202510_HURRICANE_MELISSA/202511_iss/MapServer/WMSServer
Data Download:
Full datasets are available for download at the Gateway to Astronaut Photography of Earth. Download for this specific data can be found at:
https://eo-web.jsc.nasa.gov/Collections/ListGeorefProducts/ListGeorefProducts.pl?collection=NDP_HurricaneMelissaJamaica_30OCT2025
Name: DISASTERS_EX2602_202405_FLOOD_BRAZIL/ex2602_iss
Description: The visible-wavelength true color RGB digital camera images were taken by astronauts aboard the International Space Station showing areas affected by the Brazil Flood in May 2024.
Date of Images:
May 6, 2024; June 24, 2024
Suggested Use:
These images provides regional context, and may be useful for visualization of the ongoing event. Higher spatial resolution images may be suitable for spatial analysis to support decision making or research applications.
Sensor:
Camera: Nikon Z9
Focal Length: 200mm
Additional Information about the astronaut photography from the ISS.
Credits:
International Space Station Program, NASA Johnson Space Center Earth Science and Remote Sensing Unit, ARES Division, Exploration Architecture, Integration & Science Directorate
Esri REST Endpoint:
See URL to the right
WMS Endpoint:
https://gis.earthdata.nasa.gov/gis05/services/DISASTERS_EX2602_202405_FLOOD_BRAZIL/ex2602_iss/ImageServer/WMSServer
Data Download:
Full datasets are available for download at the Gateway to Astronaut Photography of Earth. Download for this specific data can be found at:
https://eo-web.jsc.nasa.gov/Collections/
Single Fused Map Cache: false
Extent:
XMin: -6427697.656300001
YMin: -3791836.7689066166
XMax: -5539317.886728537
YMax: -2989123.528999999
Spatial Reference: 102100
(3857)
LatestVCSWkid(0)
Initial Extent:
XMin: -6427697.656300001
YMin: -3791836.7689066166
XMax: -5539317.886728537
YMax: -2989123.528999999
Spatial Reference: 102100
(3857)
LatestVCSWkid(0)
Full Extent:
XMin: -6427697.656300001
YMin: -3791836.7689066166
XMax: -5539317.886728537
YMax: -2989123.528999999
Spatial Reference: 102100
(3857)
LatestVCSWkid(0)
Pixel Size X: 6.687995133487891
Pixel Size Y: 6.6879951334878935
Band Count: 4
Pixel Type: U8
RasterFunction Infos: {"rasterFunctionInfos": [{
"name": "None",
"description": "",
"help": ""
}]}
Mensuration Capabilities: None
Inspection Capabilities:
Has Histograms: true
Has Colormap: false
Has Multi Dimensions : false
Rendering Rule:
Min Scale: 0
Max Scale: 0
Copyright Text: International Space Station Program, NASA Johnson Space Center Earth Science and Remote Sensing Unit, ARES Division, Exploration Architecture, Integration & Science Directorate
Service Data Type: esriImageServiceDataTypeGeneric
Min Values: 9, 18, 4, 4
Max Values: 255, 255, 255, 255
Mean Values: 112.84415418939258, 128.87324021076472, 136.7262236390736, 218.6407793914478
Standard Deviation Values: 37.224551643050795, 28.90431222930062, 24.00238224150753, 52.45432974974399
Object ID Field: OBJECTID
Fields:
-
OBJECTID
(
type: esriFieldTypeOID, alias: OBJECTID
)
-
Shape
(
type: esriFieldTypeGeometry, alias: Shape
)
-
Name
(
type: esriFieldTypeString, alias: Name, length: 200
)
-
MinPS
(
type: esriFieldTypeDouble, alias: MinPS
)
-
MaxPS
(
type: esriFieldTypeDouble, alias: MaxPS
)
-
LowPS
(
type: esriFieldTypeDouble, alias: LowPS
)
-
HighPS
(
type: esriFieldTypeDouble, alias: HighPS
)
-
Category
(
type: esriFieldTypeInteger, alias: Category
, Coded Values:
[0: Unknown]
, [1: Primary]
, [2: Overview]
, ...6 more...
)
-
Tag
(
type: esriFieldTypeString, alias: Tag, length: 100
)
-
GroupName
(
type: esriFieldTypeString, alias: GroupName, length: 100
)
-
ProductName
(
type: esriFieldTypeString, alias: ProductName, length: 100
)
-
CenterX
(
type: esriFieldTypeDouble, alias: CenterX
)
-
CenterY
(
type: esriFieldTypeDouble, alias: CenterY
)
-
ZOrder
(
type: esriFieldTypeInteger, alias: ZOrder
)
-
Date
(
type: esriFieldTypeDateOnly, alias: Date
)
-
Shape_Length
(
type: esriFieldTypeDouble, alias: Shape_Length
)
-
Shape_Area
(
type: esriFieldTypeDouble, alias: Shape_Area
)
Default Mosaic Method: Northwest
Allowed Mosaic Methods: NorthWest,Center,LockRaster,ByAttribute,Nadir,Viewpoint,Seamline,None
SortField:
SortValue: null
Mosaic Operator: First
Default Compression Quality: 75
Default Resampling Method: Bilinear
Max Record Count: 1000
Max Image Height: 4100
Max Image Width: 15000
Max Download Image Count: 20
Max Mosaic Image Count: 20
Allow Raster Function: true
Allow Copy: true
Allow Analysis: true
Allow Compute TiePoints: false
Supports Statistics: true
Supports Advanced Queries: true
Use StandardizedQueries: true
Raster Type Infos:
Name: Raster Dataset
Description: Supports all ArcGIS Raster Datasets
Help:
Has Raster Attribute Table: false
Edit Fields Info: null
Ownership Based AccessControl For Rasters: null
Child Resources:
Info
Histograms
Statistics
Key Properties
Legend
Raster Function Infos
Supported Operations:
Export Image
Query
Identify
Compute Histograms
Compute Statistics Histograms
Get Samples
Compute Class Statistics
Query GPS Info
Find Images
Image to Map
Map to Image
Measure from Image
Image to Map Multiray
Query Boundary
Compute Pixel Location
Compute Angles
Validate
Project