View In:
ArcGIS JavaScript
ArcGIS Online Map Viewer
ArcGIS Earth
Service Description: C2389107206-ORNL_CLOUD/CMS_Global_Map_Mangrove_Canopy_1665
Name: C2389107206-ORNL_CLOUD/CMS_Global_Map_Mangrove_Canopy_1665
Description:
Single Fused Map Cache: false
Extent:
XMin: -180.0
YMin: -39.00028592190435
XMax: 180.0
YMax: 31.000269633651204
Spatial Reference: 4326
(4326)
LatestVCSWkid(0)
Initial Extent:
XMin: -180.0
YMin: -39.00028592190435
XMax: 180.0
YMax: 31.000269633651204
Spatial Reference: 4326
(4326)
LatestVCSWkid(0)
Full Extent:
XMin: -180.0
YMin: -39.00028592190435
XMax: 180.0
YMax: 31.000269633651204
Spatial Reference: 4326
(4326)
LatestVCSWkid(0)
Time Info:
Start Time Field: StdTime
End Time Field: StdTime
Time Extent:
[2009/12/31 00:00:00 UTC, 2009/12/31 00:00:00 UTC]
Time Reference:
N/A
Pixel Size X: 2.777777777777778E-4
Pixel Size Y: 2.777777777777778E-4
Band Count: 1
Pixel Type: F32
RasterFunction Infos: {"rasterFunctionInfos": [{
"name": "None",
"description": "Make a Raster or Raster Dataset into a Function Raster Dataset.",
"help": ""
}]}
Mensuration Capabilities: Basic
Inspection Capabilities:
Has Histograms: true
Has Colormap: false
Has Multi Dimensions : true
Rendering Rule:
Min Scale: 0
Max Scale: 0
Resampling: false
Copyright Text:
Service Data Type: esriImageServiceDataTypeGeneric
Min Values: 0.2844882905483246
Max Values: 910.4758911132812
Mean Values: 128.60425237758756
Standard Deviation Values: 108.20943235897344
Object ID Field:
Fields:
None
Default Mosaic Method: Center
Allowed Mosaic Methods:
SortField:
SortValue: null
Mosaic Operator: First
Default Compression Quality: 75
Default Resampling Method: Bilinear
Max Record Count: null
Max Image Height: 4100
Max Image Width: 15000
Max Download Image Count: null
Max Mosaic Image Count: null
Allow Raster Function: true
Allow Copy: true
Allow Analysis: true
Allow Compute TiePoints: false
Supports Statistics: false
Supports Advanced Queries: false
Use StandardizedQueries: true
Raster Type Infos:
Name: Raster Dataset
Description: Supports all ArcGIS Raster Datasets
Help:
Has Raster Attribute Table: false
Edit Fields Info: null
Ownership Based AccessControl For Rasters: null
Child Resources:
Info
Histograms
Statistics
Key Properties
Legend
Raster Function Infos
Multidimensional Info
Slices
Supported Operations:
Export Image
Identify
Measure
Compute Histograms
Compute Statistics Histograms
Get Samples
Compute Class Statistics
Query Boundary
Compute Pixel Location
Compute Angles
Validate
Project