View In:
ArcGIS JavaScript
ArcGIS Online Map Viewer
ArcGIS Earth
Service Description: C2930761273-LARC_CLOUD/TEMPO_HCHO_L3_V03_HOURLY_VERTICAL_COLUMN
Name: C2930761273-LARC_CLOUD/TEMPO_HCHO_L3_V03_HOURLY_VERTICAL_COLUMN
Description:
Single Fused Map Cache: false
Extent:
XMin: -168.00000549350375
YMin: 14.00000081336853
XMax: -13.00001324350373
YMax: 72.99999786336853
Spatial Reference: 4326
(4326)
LatestVCSWkid(0)
Initial Extent:
XMin: -168.00000549350375
YMin: 14.00000081336853
XMax: -13.00001324350373
YMax: 72.99999786336853
Spatial Reference: 4326
(4326)
LatestVCSWkid(0)
Full Extent:
XMin: -168.00000549350375
YMin: 14.00000081336853
XMax: -13.00001324350373
YMax: 72.99999786336853
Spatial Reference: 4326
(4326)
LatestVCSWkid(0)
Time Info:
Start Time Field: StdTime
End Time Field: StdTime
Time Extent:
[2023/08/02 15:12:49 UTC, 2025/09/16 21:03:09 UTC]
Time Reference:
N/A
Pixel Size X: 0.019999999
Pixel Size Y: 0.019999999
Band Count: 1
Pixel Type: F32
RasterFunction Infos: {"rasterFunctionInfos": [
{
"name": "None",
"description": "Make a Raster or Raster Dataset into a Function Raster Dataset.",
"help": ""
},
{
"name": "matter_RGB",
"description": "cmocean color palette \"matter\"",
"help": ""
},
{
"name": "torch_RGB",
"description": "cmasher color palette \"torch\"",
"help": ""
}
]}
Mensuration Capabilities: Basic
Inspection Capabilities:
Has Histograms: true
Has Colormap: false
Has Multi Dimensions : true
Rendering Rule:
Min Scale: 0
Max Scale: 0
Resampling: false
Copyright Text:
Service Data Type: esriImageServiceDataTypeScientific
Min Values: -6.214634219398859E21
Max Values: 5.8861533437899886E20
Mean Values: 5223419297342303
Standard Deviation Values: 36481178035204432
Object ID Field:
Fields:
None
Default Mosaic Method: Center
Allowed Mosaic Methods:
SortField:
SortValue: null
Mosaic Operator: First
Default Compression Quality: 75
Default Resampling Method: Bilinear
Max Record Count: null
Max Image Height: 4100
Max Image Width: 15000
Max Download Image Count: null
Max Mosaic Image Count: null
Allow Raster Function: true
Allow Copy: true
Allow Analysis: true
Allow Compute TiePoints: false
Supports Statistics: false
Supports Advanced Queries: false
Use StandardizedQueries: true
Raster Type Infos:
Name: Raster Dataset
Description: Supports all ArcGIS Raster Datasets
Help:
Has Raster Attribute Table: false
Edit Fields Info: null
Ownership Based AccessControl For Rasters: null
Child Resources:
Info
Histograms
Statistics
Key Properties
Legend
Raster Function Infos
Multidimensional Info
Slices
Supported Operations:
Export Image
Identify
Measure
Compute Histograms
Compute Statistics Histograms
Get Samples
Compute Class Statistics
Query Boundary
Compute Pixel Location
Compute Angles
Validate
Project