View In:
ArcGIS JavaScript
ArcGIS Online Map Viewer
ArcGIS Earth
Service Description: C96176-EAP-SATCORPS/REGCOMP_HOURLY_ROLLING
Name: C96176-EAP-SATCORPS/REGCOMP_HOURLY_ROLLING
Description:
Single Fused Map Cache: false
Extent:
XMin: -145.00000339
YMin: -69.99999569461541
XMax: 109.99999494269235
YMax: 70.00000339
Spatial Reference: 4326
(4326)
LatestVCSWkid(0)
Initial Extent:
XMin: -145.00000339
YMin: -69.99999569461541
XMax: 109.99999494269235
YMax: 70.00000339
Spatial Reference: 4326
(4326)
LatestVCSWkid(0)
Full Extent:
XMin: -145.00000339
YMin: -69.99999569461541
XMax: 109.99999494269235
YMax: 70.00000339
Spatial Reference: 4326
(4326)
LatestVCSWkid(0)
Time Info:
Start Time Field: StdTime
End Time Field: StdTime
Time Extent:
[2025/08/01 00:00:00 UTC, 2026/03/31 23:00:00 UTC]
Time Reference:
N/A
Pixel Size X: 0.02777777759615385
Pixel Size Y: 0.027777777596153852
Band Count: 1
Pixel Type: U16
RasterFunction Infos: {"rasterFunctionInfos": [
{
"name": "Cloud Top Height",
"description": "Cloud Top Height with Statistics - Stretch",
"help": ""
},
{
"name": "Cloud Top Height with Color Bar",
"description": "Cloud Top Height with Color Bar",
"help": ""
},
{
"name": "Brightness Temperature in 10.8um with Color Bar",
"description": "Brightness Temperature in 10.8um with Statistics and Color Bar",
"help": ""
},
{
"name": "Brightness Temperature in 10.8um",
"description": "Brightness Temperature in 10.8um with Statistics - Stretch",
"help": ""
},
{
"name": "Brightness Temperature in 6.75um",
"description": "Brightness Temperature in 6.75um with Statistics - Stretch",
"help": ""
},
{
"name": "Reflectance in 0.63um",
"description": "Reflectance in 0.63um with Statistics - Stretch",
"help": ""
},
{
"name": "Cloud Bottom Height",
"description": "Cloud Bottom Height with Statistics - Stretch",
"help": ""
},
{
"name": "Cloud Bottom Height with Color Bar",
"description": "Cloud Bottom Height with Color Bar",
"help": ""
},
{
"name": "Cloud Phase",
"description": "Cloud Phase with Statistics - Stretch",
"help": ""
},
{
"name": "Cloud Phase with Color Bar",
"description": "Cloud Phase with Color Bar",
"help": ""
},
{
"name": "Cloud Optical Depth",
"description": "Cloud Optical Depth with Statistics - Stretch",
"help": ""
},
{
"name": "Cloud Optical Depth with Color Bar",
"description": "Cloud Optical Depth with Color Bar",
"help": ""
},
{
"name": "Vertically Informed Ice Water Path",
"description": "Vertically Informed Ice Water Path with Statistics - Stretch",
"help": ""
},
{
"name": "Vertically Informed Liquid Water Path",
"description": "Vertically Informed Liquid Water Path with Statistics - Stretch",
"help": ""
},
{
"name": "Vertically Informed Liquid Water Path with Color Bar",
"description": "Vertically Informed Liquid Water Path with Color Bar",
"help": ""
},
{
"name": "Vertically Informed Ice Water Path with Color Bar",
"description": "Vertically Informed Ice Water Path with Color Bar",
"help": ""
},
{
"name": "Cloud Bottom Pressure",
"description": "Cloud Bottom Pressure with Statistics - Stretch",
"help": ""
},
{
"name": "Cloud Bottom Pressure with Color Bar",
"description": "Cloud Bottom Pressure with Color Bar",
"help": ""
},
{
"name": "Cloud Bottom Temperature",
"description": "Cloud Bottom Temperature with Statistics - Stretch",
"help": ""
},
{
"name": "Cloud Bottom Temperature with Color Bar",
"description": "Cloud Bottom Temperature with Color Bar",
"help": ""
},
{
"name": "SLW Aircraft Icing Index",
"description": "SLW Aircraft Icing Index with Statistics - Stretch",
"help": ""
},
{
"name": "SLW Aircraft Icing Index with Color Bar",
"description": "SLW Aircraft Icing Index with Color Bar",
"help": ""
},
{
"name": "Cloud Top Pressure",
"description": "Cloud Top Pressure with Statistics - Stretch",
"help": ""
},
{
"name": "Cloud Top Pressure with Color Bar",
"description": "Cloud Top Pressure with Color Bar",
"help": ""
},
{
"name": "Cloud Top Temperature",
"description": "Cloud Top Temperature with Statistics - Stretch",
"help": ""
},
{
"name": "Cloud Top Temperature with Color Bar",
"description": "Cloud Top Temperature with Color Bar",
"help": ""
},
{
"name": "Solar Zenith",
"description": "Solar Zenith with Statistics - Stretch",
"help": ""
},
{
"name": "Cloud Effective Height",
"description": "Cloud Effective Height with Statistics - Stretch",
"help": ""
},
{
"name": "Cloud Effective Height with Color Bar",
"description": "Cloud Effective Height with Color Bar",
"help": ""
},
{
"name": "Cloud Effective Pressure",
"description": "Cloud Effective Pressure with Statistics - Stretch",
"help": ""
},
{
"name": "Cloud Effective Pressure with Color Bar",
"description": "Cloud Effective Pressure with Color Bar",
"help": ""
},
{
"name": "Cloud Effective Temperature",
"description": "Cloud Effective Temperature with Statistics - Stretch",
"help": ""
},
{
"name": "Cloud Effective Temperature with Color Bar",
"description": "Cloud Effective Temperature with Color Bar",
"help": ""
},
{
"name": "Cloud Infrared Emittance",
"description": "Cloud Infrared Emittance with Statistics - Stretch",
"help": ""
},
{
"name": "Cloud Infrared Emittance with Color Bar",
"description": "Cloud Infrared Emittance with Color Bar",
"help": ""
},
{
"name": "Cloud Mask with Color Bar",
"description": "Cloud Mask with Color Bar",
"help": ""
},
{
"name": "Cloud Effective Particle Radius",
"description": "Cloud Effective Particle Radius with Statistics - Stretch",
"help": ""
},
{
"name": "Longwave Broadband Flux",
"description": "Longwave Broadband Flux with Statistics - Stretch",
"help": ""
},
{
"name": "Relative Azimuth Angle",
"description": "Relative Azimuth Angle with Statistics - Stretch",
"help": ""
},
{
"name": "Shortwave Broadband Albedo",
"description": "Shortwave Broadband Albedo with Statistics - Stretch",
"help": ""
},
{
"name": "Skin Temperature",
"description": "Skin Temperature with Statistics - Stretch",
"help": ""
},
{
"name": "Viewing Zenith Angle",
"description": "Viewing Zenith Angle with Statistics - Stretch",
"help": ""
},
{
"name": "None",
"description": "Make a Raster or Raster Dataset into a Function Raster Dataset.",
"help": ""
},
{
"name": "BT_10.8um",
"description": "A raster function template.",
"help": ""
},
{
"name": "BT_12.0um",
"description": "A raster function template.",
"help": ""
},
{
"name": "BT_3.75um",
"description": "A raster function template.",
"help": ""
},
{
"name": "BT_6.75um",
"description": "A raster function template.",
"help": ""
},
{
"name": "cloud_bottom_height",
"description": "A raster function template.",
"help": ""
},
{
"name": "cloud_bottom_pressure",
"description": "A raster function template.",
"help": ""
},
{
"name": "cloud_bottom_temperature",
"description": "A raster function template.",
"help": ""
},
{
"name": "cloud_eff_height",
"description": "A raster function template.",
"help": ""
},
{
"name": "cloud_eff_particle_size",
"description": "A raster function template.",
"help": ""
},
{
"name": "cloud_eff_pressure",
"description": "A raster function template.",
"help": ""
},
{
"name": "cloud_eff_temperature",
"description": "A raster function template.",
"help": ""
},
{
"name": "cloud_emittance",
"description": "A raster function template.",
"help": ""
},
{
"name": "cloud_lwp_iwp",
"description": "A raster function template.",
"help": ""
},
{
"name": "cloud_optical_depth",
"description": "A raster function template.",
"help": ""
},
{
"name": "cloud_phase",
"description": "A raster function template.",
"help": ""
},
{
"name": "cloud_top_height",
"description": "A raster function template.",
"help": ""
},
{
"name": "cloud_top_pressure",
"description": "A raster function template.",
"help": ""
},
{
"name": "cloud_top_temperature",
"description": "A raster function template.",
"help": ""
},
{
"name": "LW_broadband_flux",
"description": "A raster function template.",
"help": ""
},
{
"name": "ref_0.63um",
"description": "A raster function template.",
"help": ""
},
{
"name": "ref_0.86um",
"description": "A raster function template.",
"help": ""
},
{
"name": "relative_azimuth",
"description": "A raster function template.",
"help": ""
},
{
"name": "relative_time",
"description": "A raster function template.",
"help": ""
},
{
"name": "satellite_ID",
"description": "A raster function template.",
"help": ""
},
{
"name": "skin_temperature",
"description": "A raster function template.",
"help": ""
},
{
"name": "slw_icing_bottom_height",
"description": "A raster function template.",
"help": ""
},
{
"name": "slw_icing_index",
"description": "A raster function template.",
"help": ""
},
{
"name": "slw_icing_top_height",
"description": "A raster function template.",
"help": ""
},
{
"name": "slw_large_drop_index",
"description": "A raster function template.",
"help": ""
},
{
"name": "solar_zenith",
"description": "A raster function template.",
"help": ""
},
{
"name": "SW_broadband_albedo",
"description": "A raster function template.",
"help": ""
},
{
"name": "vi_iwp",
"description": "A raster function template.",
"help": ""
},
{
"name": "vi_lwp",
"description": "A raster function template.",
"help": ""
},
{
"name": "view_zenith",
"description": "A raster function template.",
"help": ""
}
]}
Mensuration Capabilities: Basic
Inspection Capabilities:
Has Histograms: false
Has Colormap: false
Has Multi Dimensions : true
Rendering Rule:
Min Scale: 0
Max Scale: 0
Resampling: false
Copyright Text:
Service Data Type: esriImageServiceDataTypeScientific
Min Values: N/A
Max Values: N/A
Mean Values: N/A
Standard Deviation Values: N/A
Object ID Field: OBJECTID
Fields:
-
OBJECTID
(
type: esriFieldTypeOID, alias: OBJECTID
)
-
Shape
(
type: esriFieldTypeGeometry, alias: Shape
)
-
Name
(
type: esriFieldTypeString, alias: Name, length: 200
)
-
MinPS
(
type: esriFieldTypeDouble, alias: MinPS
)
-
MaxPS
(
type: esriFieldTypeDouble, alias: MaxPS
)
-
LowPS
(
type: esriFieldTypeDouble, alias: LowPS
)
-
HighPS
(
type: esriFieldTypeDouble, alias: HighPS
)
-
Category
(
type: esriFieldTypeInteger, alias: Category
, Coded Values:
[0: Unknown]
, [1: Primary]
, [2: Overview]
, ...6 more...
)
-
Tag
(
type: esriFieldTypeString, alias: Tag, length: 100
)
-
GroupName
(
type: esriFieldTypeString, alias: GroupName, length: 100
)
-
ProductName
(
type: esriFieldTypeString, alias: ProductName, length: 100
)
-
CenterX
(
type: esriFieldTypeDouble, alias: CenterX
)
-
CenterY
(
type: esriFieldTypeDouble, alias: CenterY
)
-
ZOrder
(
type: esriFieldTypeInteger, alias: ZOrder
)
-
Variable
(
type: esriFieldTypeString, alias: Variable, length: 8000
)
-
Collection
(
type: esriFieldTypeString, alias: Collection, length: 8000
)
-
Dimensions
(
type: esriFieldTypeString, alias: Dimensions, length: 8000
)
-
StdTime
(
type: esriFieldTypeDate, alias: StdTime, length: 8
)
-
file
(
type: esriFieldTypeString, alias: file, length: 8000
)
-
key
(
type: esriFieldTypeString, alias: key, length: 8000
)
-
domain
(
type: esriFieldTypeString, alias: domain, length: 8000
)
-
satellite
(
type: esriFieldTypeString, alias: satellite, length: 8000
)
-
visst
(
type: esriFieldTypeString, alias: visst, length: 8000
)
-
ingested
(
type: esriFieldTypeDate, alias: ingested, length: 8
)
-
updated
(
type: esriFieldTypeDate, alias: updated, length: 8
)
-
units
(
type: esriFieldTypeString, alias: units, length: 8000
)
-
long_name
(
type: esriFieldTypeString, alias: long_name, length: 8000
)
-
uuid
(
type: esriFieldTypeString, alias: uuid, length: 8000
)
Default Mosaic Method: None
Allowed Mosaic Methods: None,NorthWest,Center,LockRaster,ByAttribute,Nadir,Viewpoint,Seamline
SortField: N/A
SortValue: N/A
Mosaic Operator: First
Default Compression Quality: 75
Default Resampling Method: Nearest
Max Record Count: 1000
Max Image Height: 4100
Max Image Width: 15000
Max Download Image Count: 20
Max Mosaic Image Count: 20
Allow Raster Function: true
Allow Copy: true
Allow Analysis: true
Allow Compute TiePoints: false
Supports Statistics: true
Supports Advanced Queries: true
Use StandardizedQueries: true
Raster Type Infos:
Name: Raster Dataset
Description: Supports all ArcGIS Raster Datasets
Help:
Has Raster Attribute Table: false
Edit Fields Info: null
Ownership Based AccessControl For Rasters: null
Child Resources:
Info
Statistics
Key Properties
Legend
Raster Function Infos
Multidimensional Info
Slices
Supported Operations:
Export Image
Query
Identify
Compute Histograms
Compute Statistics Histograms
Get Samples
Compute Class Statistics
Query GPS Info
Find Images
Image to Map
Map to Image
Measure from Image
Image to Map Multiray
Query Boundary
Compute Pixel Location
Compute Angles
Validate
Project