View In:
ArcGIS JavaScript
ArcGIS Online Map Viewer
ArcGIS Earth
Service Description: GESDISC/TROPOMI_NO2_Test
Name: GESDISC/TROPOMI_NO2_Test
Description:
Single Fused Map Cache: false
Extent:
XMin: -179.999816894531
YMin: -68.69999999999999
XMax: 180.000183105469
YMax: 90.0
Spatial Reference: 4326
(4326)
LatestVCSWkid(0)
Initial Extent:
XMin: -179.999816894531
YMin: -68.69999999999999
XMax: 180.000183105469
YMax: 90.0
Spatial Reference: 4326
(4326)
LatestVCSWkid(0)
Full Extent:
XMin: -179.999816894531
YMin: -68.69999999999999
XMax: 180.000183105469
YMax: 90.0
Spatial Reference: 4326
(4326)
LatestVCSWkid(0)
Pixel Size X: 0.06
Pixel Size Y: 0.06
Band Count: 1
Pixel Type: F32
RasterFunction Infos: {"rasterFunctionInfos": [
{
"name": "TROPOMI_NO2",
"description": "",
"help": ""
},
{
"name": "TROPOMI_NO2_GIBS",
"description": "GIB's Color",
"help": ""
},
{
"name": "None",
"description": "",
"help": ""
}
]}
Mensuration Capabilities: Basic
Inspection Capabilities:
Has Histograms: true
Has Colormap: false
Has Multi Dimensions : false
Rendering Rule:
Min Scale: 0
Max Scale: 0
Resampling: false
Copyright Text:
Service Data Type: esriImageServiceDataTypeGeneric
Min Values: -8.501270349370316E-5
Max Values: 6.506390054710209E-4
Mean Values: 7.3939880038156915E-6
Standard Deviation Values: 1.150326580529805E-5
Object ID Field:
Fields:
None
Default Mosaic Method: ByAttribute
Allowed Mosaic Methods: ByAttribute,Seamline,NorthWest,Center,LockRaster,Nadir,Viewpoint,None
SortField: Name
SortValue: 0
Mosaic Operator: First
Default Compression Quality: 85
Default Resampling Method: Bilinear
Max Record Count: 2000
Max Image Height: 4000
Max Image Width: 8000
Max Download Image Count: 50
Max Mosaic Image Count: 50
Allow Raster Function: true
Allow Copy: true
Allow Analysis: true
Allow Compute TiePoints: false
Supports Statistics: false
Supports Advanced Queries: false
Use StandardizedQueries: true
Raster Type Infos:
Name: Raster Dataset
Description: Supports all ArcGIS Raster Datasets
Help:
Has Raster Attribute Table: false
Edit Fields Info: null
Ownership Based AccessControl For Rasters: null
Child Resources:
Info
Histograms
Statistics
Key Properties
Legend
Raster Function Infos
Supported Operations:
Export Image
Query
Identify
Measure
Compute Histograms
Compute Statistics Histograms
Get Samples
Compute Class Statistics
Query GPS Info
Find Images
Image to Map
Map to Image
Measure from Image
Image to Map Multiray
Query Boundary
Compute Pixel Location
Compute Angles
Validate
Project