View In:
ArcGIS JavaScript
ArcGIS Online Map Viewer
ArcGIS Earth
Service Description: GESDISC/TROPOMI_SO2_DAILY
Name: GESDISC/TROPOMI_SO2_DAILY
Description:
Single Fused Map Cache: false
Extent:
XMin: -179.999877929688
YMin: -90.0
XMax: 180.0
YMax: 90.0
Spatial Reference: 4326
(4326)
LatestVCSWkid(0)
Initial Extent:
XMin: -179.999877929688
YMin: -90.0
XMax: 180.0
YMax: 90.0
Spatial Reference: 4326
(4326)
LatestVCSWkid(0)
Full Extent:
XMin: -179.999877929688
YMin: -90.0
XMax: 180.0
YMax: 90.0
Spatial Reference: 4326
(4326)
LatestVCSWkid(0)
Time Info:
Start Time Field: stdtime
End Time Field: stdtime
Time Extent:
[2018/05/07 00:00:00 UTC, 2026/06/26 00:00:00 UTC]
Time Reference:
N/A
Pixel Size X: 0.059999979654948
Pixel Size Y: 0.06
Band Count: 1
Pixel Type: F32
RasterFunction Infos: {"rasterFunctionInfos": [
{
"name": "TROPOMI-SO2_Remap",
"description": "",
"help": ""
},
{
"name": "TROPOMI_SO2_ColorMap",
"description": "TROPOMI SO2 Colormap",
"help": ""
},
{
"name": "None",
"description": "",
"help": ""
}
]}
Mensuration Capabilities: Basic
Inspection Capabilities:
Has Histograms: false
Has Colormap: false
Has Multi Dimensions : false
Rendering Rule:
Min Scale: 0
Max Scale: 0
Resampling: false
Copyright Text:
Service Data Type: esriImageServiceDataTypeGeneric
Min Values: N/A
Max Values: N/A
Mean Values: N/A
Standard Deviation Values: N/A
Object ID Field: objectid
Fields:
-
objectid
(
type: esriFieldTypeOID, alias: objectid
)
-
name
(
type: esriFieldTypeString, alias: name, length: 200
)
-
minps
(
type: esriFieldTypeDouble, alias: minps
)
-
maxps
(
type: esriFieldTypeDouble, alias: maxps
)
-
lowps
(
type: esriFieldTypeDouble, alias: lowps
)
-
highps
(
type: esriFieldTypeDouble, alias: highps
)
-
category
(
type: esriFieldTypeInteger, alias: category
, Coded Values:
[0: Unknown]
, [1: Primary]
, [2: Overview]
, ...6 more...
)
-
tag
(
type: esriFieldTypeString, alias: tag, length: 100
)
-
productname
(
type: esriFieldTypeString, alias: productname, length: 100
)
-
stdtime
(
type: esriFieldTypeDateOnly, alias: stdtime
)
-
dimensions
(
type: esriFieldTypeString, alias: dimensions, length: 32
)
-
variable
(
type: esriFieldTypeString, alias: variable, length: 128
)
-
shape
(
type: esriFieldTypeGeometry, alias: shape
)
Default Mosaic Method: ByAttribute
Allowed Mosaic Methods: ByAttribute,Seamline,NorthWest,Center,LockRaster,Nadir,Viewpoint,None
SortField: Name
SortValue: 0
Mosaic Operator: First
Default Compression Quality: 85
Default Resampling Method: Bilinear
Max Record Count: 1000
Max Image Height: 4000
Max Image Width: 8000
Max Download Image Count: 20
Max Mosaic Image Count: 20
Allow Raster Function: true
Allow Copy: true
Allow Analysis: true
Allow Compute TiePoints: false
Supports Statistics: true
Supports Advanced Queries: true
Use StandardizedQueries: true
Raster Type Infos:
Name: Raster Dataset
Description: Supports all ArcGIS Raster Datasets
Help:
Has Raster Attribute Table: false
Edit Fields Info: null
Ownership Based AccessControl For Rasters: null
Child Resources:
Info
Statistics
Key Properties
Legend
Raster Function Infos
Supported Operations:
Export Image
Query
Identify
Measure
Compute Histograms
Compute Statistics Histograms
Get Samples
Compute Class Statistics
Query GPS Info
Find Images
Image to Map
Map to Image
Measure from Image
Image to Map Multiray
Query Boundary
Compute Pixel Location
Compute Angles
Validate
Project