View In:
ArcGIS JavaScript
ArcGIS Online Map Viewer
ArcGIS Earth
Service Description: Global fall (September/October/November) median 6-day interferometric coherence (COH06) in HH polarization from the Global Seasonal Sentinel-1 Interferometric Coherence and Backscatter Data Set. Pixel values in source rasters are the coherence value (ranging from 0 to 1) multiplied by 100. A processing template is included with the service to provide the standard coherence values (0 to 1) along with the original source raster values.
The source rasters referenced in this service are available on the Registry of Open Data on AWS: https://registry.opendata.aws/ebd-sentinel-1-global-coherence-backscatter/
Name: GSSICB/GSSICB_Median_6_day_HH_Coherence_Sep_Oct_Nov
Description: Global fall (September/October/November) median 6-day interferometric coherence (COH06) in HH polarization from the Global Seasonal Sentinel-1 Interferometric Coherence and Backscatter Data Set. Pixel values in source rasters are the coherence value (ranging from 0 to 1) multiplied by 100. A processing template is included with the service to provide the standard coherence values (0 to 1) along with the original source raster values.
The source rasters referenced in this service are available on the Registry of Open Data on AWS: https://registry.opendata.aws/ebd-sentinel-1-global-coherence-backscatter/
Single Fused Map Cache: false
Extent:
XMin: -1.80337575085E7
YMin: -1.4927396056500003E7
XMax: 1.80337574915E7
YMax: 1.6967796943499997E7
Spatial Reference: 102100
(3857)
LatestVCSWkid(0)
Initial Extent:
XMin: -1.80337575085E7
YMin: -1.4927396056500003E7
XMax: 1.80337574915E7
YMax: 1.6967796943499997E7
Spatial Reference: 102100
(3857)
LatestVCSWkid(0)
Full Extent:
XMin: -1.80337575085E7
YMin: -1.4927396056500003E7
XMax: 1.80337574915E7
YMax: 1.6967796943499997E7
Spatial Reference: 102100
(3857)
LatestVCSWkid(0)
Pixel Size X: 3.0
Pixel Size Y: 3.0
Band Count: 1
Pixel Type: U8
RasterFunction Infos: {"rasterFunctionInfos": [
{
"name": "Unscaled Coherence",
"description": "Reverts the Scaled Coherence values to the original unscaled median seasonal coherence values, ranging from 0 to 1.",
"help": ""
},
{
"name": "Scaled Coherence",
"description": "Apply a min-max stretch to the coherence products, which are scaled to range from 0 to 100.",
"help": ""
},
{
"name": "None",
"description": "Make a Raster or Raster Dataset into a Function Raster Dataset.",
"help": ""
}
]}
Mensuration Capabilities: Basic
Inspection Capabilities:
Has Histograms: false
Has Colormap: false
Has Multi Dimensions : false
Rendering Rule:
Min Scale: 0
Max Scale: 0
Resampling: false
Copyright Text: Global Seasonal Sentinel-1 Interferometric Coherence and Backscatter Data Set was accessed on 11 November 2022 from https://registry.opendata.aws/ebd-sentinel-1-global-coherence-backscatter.
Service Data Type: esriImageServiceDataTypeGeneric
Min Values: N/A
Max Values: N/A
Mean Values: N/A
Standard Deviation Values: N/A
Object ID Field: OBJECTID
Fields:
-
OBJECTID
(
type: esriFieldTypeOID, alias: OBJECTID
)
-
Shape
(
type: esriFieldTypeGeometry, alias: Shape
)
-
Name
(
type: esriFieldTypeString, alias: Name, length: 200
)
-
MinPS
(
type: esriFieldTypeDouble, alias: MinPS
)
-
MaxPS
(
type: esriFieldTypeDouble, alias: MaxPS
)
-
LowPS
(
type: esriFieldTypeDouble, alias: LowPS
)
-
HighPS
(
type: esriFieldTypeDouble, alias: HighPS
)
-
Category
(
type: esriFieldTypeInteger, alias: Category
, Coded Values:
[0: Unknown]
, [1: Primary]
, [2: Overview]
, ...6 more...
)
-
Tag
(
type: esriFieldTypeString, alias: Tag, length: 100
)
-
GroupName
(
type: esriFieldTypeString, alias: GroupName, length: 100
)
-
CenterX
(
type: esriFieldTypeDouble, alias: CenterX
)
-
CenterY
(
type: esriFieldTypeDouble, alias: CenterY
)
-
ZOrder
(
type: esriFieldTypeInteger, alias: ZOrder
)
-
StartDate
(
type: esriFieldTypeDate, alias: StartDate, length: 8
)
-
EndDate
(
type: esriFieldTypeDate, alias: EndDate, length: 8
)
-
ProductType
(
type: esriFieldTypeString, alias: ProductType, length: 8000
)
-
Season
(
type: esriFieldTypeString, alias: Season, length: 8000
)
-
Polarization
(
type: esriFieldTypeString, alias: Polarization, length: 8000
)
-
Tile
(
type: esriFieldTypeString, alias: Tile, length: 8000
)
-
DownloadURL
(
type: esriFieldTypeString, alias: DownloadURL, length: 8000
)
-
URLDisplay
(
type: esriFieldTypeString, alias: URLDisplay, length: 8000
)
Default Mosaic Method: ByAttribute
Allowed Mosaic Methods: ByAttribute,Center,NorthWest,Nadir,LockRaster,Seamline,None
SortField: StartDate
SortValue: 1/1/2050 12:00:00 AM
Mosaic Operator: First
Default Compression Quality: 80
Default Resampling Method: Nearest
Max Record Count: 2000
Max Image Height: 5000
Max Image Width: 5000
Max Download Image Count: 50
Max Mosaic Image Count: 50
Allow Raster Function: true
Allow Copy: true
Allow Analysis: true
Allow Compute TiePoints: false
Supports Statistics: true
Supports Advanced Queries: true
Use StandardizedQueries: true
Raster Type Infos:
Name: Raster Dataset
Description: Supports all ArcGIS Raster Datasets
Help:
Has Raster Attribute Table: false
Edit Fields Info: null
Ownership Based AccessControl For Rasters: null
Child Resources:
Info
Statistics
Key Properties
Legend
Raster Function Infos
Supported Operations:
Export Image
Query
Identify
Measure
Compute Histograms
Compute Statistics Histograms
Get Samples
Compute Class Statistics
Query GPS Info
Find Images
Image to Map
Map to Image
Measure from Image
Image to Map Multiray
Query Boundary
Compute Pixel Location
Compute Angles
Validate
Project