View In:
ArcGIS JavaScript
ArcGIS Online Map Viewer
ArcGIS Earth
Service Description: SMASH/saf_seas_full_2005_2019_ir_ot_day_count
Name: SMASH/saf_seas_full_2005_2019_ir_ot_day_count
Description:
Single Fused Map Cache: false
Extent:
XMin: 13.241071292578455
YMin: -35.99107141524422
XMax: 35.499999454797035
YMax: -20.508928842726366
Spatial Reference: 4326
(4326)
LatestVCSWkid(0)
Initial Extent:
XMin: 13.241071292578455
YMin: -35.99107141524422
XMax: 35.499999454797035
YMax: -20.508928842726366
Spatial Reference: 4326
(4326)
LatestVCSWkid(0)
Full Extent:
XMin: 13.241071292578455
YMin: -35.99107141524422
XMax: 35.499999454797035
YMax: -20.508928842726366
Spatial Reference: 4326
(4326)
LatestVCSWkid(0)
Pixel Size X: 0.02678571379328349
Pixel Size Y: 0.026785713793283487
Band Count: 1
Pixel Type: F32
RasterFunction Infos: {"rasterFunctionInfos": [{
"name": "None",
"description": "Make a Raster or Raster Dataset into a Function Raster Dataset.",
"help": ""
}]}
Mensuration Capabilities: Basic
Inspection Capabilities:
Has Histograms: true
Has Colormap: false
Has Multi Dimensions : true
Rendering Rule:
Min Scale: 0
Max Scale: 0
Resampling: false
Copyright Text:
Service Data Type: esriImageServiceDataTypeScientific
Min Values: 0
Max Values: 1.1555556058883667
Mean Values: 0.13939891350672648
Standard Deviation Values: 0.15562063713768565
Object ID Field:
Fields:
None
Default Mosaic Method: Center
Allowed Mosaic Methods:
SortField:
SortValue: null
Mosaic Operator: First
Default Compression Quality: 75
Default Resampling Method: Bilinear
Max Record Count: null
Max Image Height: 4100
Max Image Width: 15000
Max Download Image Count: null
Max Mosaic Image Count: null
Allow Raster Function: true
Allow Copy: true
Allow Analysis: true
Allow Compute TiePoints: false
Supports Statistics: false
Supports Advanced Queries: false
Use StandardizedQueries: true
Raster Type Infos:
Name: Raster Dataset
Description: Supports all ArcGIS Raster Datasets
Help:
Has Raster Attribute Table: false
Edit Fields Info: null
Ownership Based AccessControl For Rasters: null
Child Resources:
Info
Histograms
Statistics
Key Properties
Legend
Raster Function Infos
Multidimensional Info
Slices
Supported Operations:
Export Image
Identify
Measure
Compute Histograms
Compute Statistics Histograms
Get Samples
Compute Class Statistics
Query Boundary
Compute Pixel Location
Compute Angles
Validate
Project