View In:
ArcGIS JavaScript
ArcGIS Online Map Viewer
ArcGIS Earth
Service Description: South America Monthly IR OT Day Count
Name: SMASH/sam_monthly_ir_ot_day_count
Description: South America Monthly IR OT Day Count properties.
Single Fused Map Cache: false
Extent:
XMin: -89.99999672999996
YMin: -45.00000053999998
XMax: -29.999996599999953
YMax: 14.99999959000003
Spatial Reference: 4326
(4326)
LatestVCSWkid(0)
Initial Extent:
XMin: -89.99999672999996
YMin: -45.00000053999998
XMax: -29.999996599999953
YMax: 14.99999959000003
Spatial Reference: 4326
(4326)
LatestVCSWkid(0)
Full Extent:
XMin: -89.99999672999996
YMin: -45.00000053999998
XMax: -29.999996599999953
YMax: 14.99999959000003
Spatial Reference: 4326
(4326)
LatestVCSWkid(0)
Time Info:
Start Time Field: StdTime
End Time Field: StdTime
Time Extent:
[1995/01/15 00:00:00 UTC, 2021/12/15 00:00:00 UTC]
Time Reference:
N/A
Pixel Size X: 0.035714285791666675
Pixel Size Y: 0.035714285791666675
Band Count: 1
Pixel Type: F64
RasterFunction Infos: {"rasterFunctionInfos": [{
"name": "None",
"description": "Make a Raster or Raster Dataset into a Function Raster Dataset.",
"help": ""
}]}
Mensuration Capabilities: Basic
Inspection Capabilities:
Has Histograms: true
Has Colormap: false
Has Multi Dimensions : true
Rendering Rule:
Min Scale: 0
Max Scale: 0
Resampling: false
Copyright Text: NASA POWER
Service Data Type: esriImageServiceDataTypeScientific
Min Values: 1
Max Values: 9
Mean Values: 1.075602084578051
Standard Deviation Values: 0.294944123557202
Object ID Field:
Fields:
None
Default Mosaic Method: Center
Allowed Mosaic Methods:
SortField:
SortValue: null
Mosaic Operator: First
Default Compression Quality: 75
Default Resampling Method: Bilinear
Max Record Count: null
Max Image Height: 4100
Max Image Width: 15000
Max Download Image Count: null
Max Mosaic Image Count: null
Allow Raster Function: true
Allow Copy: true
Allow Analysis: true
Allow Compute TiePoints: false
Supports Statistics: false
Supports Advanced Queries: false
Use StandardizedQueries: true
Raster Type Infos:
Name: Raster Dataset
Description: Supports all ArcGIS Raster Datasets
Help:
Has Raster Attribute Table: false
Edit Fields Info: null
Ownership Based AccessControl For Rasters: null
Child Resources:
Info
Histograms
Statistics
Key Properties
Legend
Raster Function Infos
Multidimensional Info
Slices
Supported Operations:
Export Image
Identify
Measure
Compute Histograms
Compute Statistics Histograms
Get Samples
Compute Class Statistics
Query Boundary
Compute Pixel Location
Compute Angles
Validate
Project