View In:
ArcGIS JavaScript
ArcGIS Online Map Viewer
ArcGIS Earth
Service Description: ulandsat/ulandsat_hbase_v1
Name: ulandsat/ulandsat_hbase_v1
Description:
Single Fused Map Cache: false
Extent:
XMin: -179.99999999999886
YMin: -59.48468202108927
XMax: 179.99999999999756
YMax: 83.62771068638642
Spatial Reference: 4326
(4326)
LatestVCSWkid(0)
Initial Extent:
XMin: -179.99999999999886
YMin: -59.48468202108927
XMax: 179.99999999999756
YMax: 83.62771068638642
Spatial Reference: 4326
(4326)
LatestVCSWkid(0)
Full Extent:
XMin: -179.99999999999886
YMin: -59.48468202108927
XMax: 179.99999999999756
YMax: 83.62771068638642
Spatial Reference: 4326
(4326)
LatestVCSWkid(0)
Time Info:
Start Time Field: StdTime
End Time Field: StdTime
Time Extent:
[2010/07/01 04:00:00 UTC, 2010/07/01 04:00:00 UTC]
Time Reference:
N/A
Pixel Size X: 2.6949456294718985E-4
Pixel Size Y: 2.6949456294718985E-4
Band Count: 1
Pixel Type: F32
RasterFunction Infos: {"rasterFunctionInfos": [{
"name": "None",
"description": "Make a Raster or Raster Dataset into a Function Raster Dataset.",
"help": ""
}]}
Mensuration Capabilities: Basic
Inspection Capabilities:
Has Histograms: true
Has Colormap: false
Has Multi Dimensions : true
Rendering Rule:
Min Scale: 0
Max Scale: 0
Resampling: false
Copyright Text:
Service Data Type: esriImageServiceDataTypeGeneric
Min Values: 0
Max Values: 255
Mean Values: 7.560529701070288
Standard Deviation Values: 32.88052751658728
Object ID Field:
Fields:
None
Default Mosaic Method: Center
Allowed Mosaic Methods:
SortField:
SortValue: null
Mosaic Operator: First
Default Compression Quality: 75
Default Resampling Method: Bilinear
Max Record Count: null
Max Image Height: 4100
Max Image Width: 15000
Max Download Image Count: null
Max Mosaic Image Count: null
Allow Raster Function: true
Allow Copy: true
Allow Analysis: true
Allow Compute TiePoints: false
Supports Statistics: false
Supports Advanced Queries: false
Use StandardizedQueries: true
Raster Type Infos:
Name: Raster Dataset
Description: Supports all ArcGIS Raster Datasets
Help:
Has Raster Attribute Table: false
Edit Fields Info: null
Ownership Based AccessControl For Rasters: null
Child Resources:
Info
Histograms
Statistics
Key Properties
Legend
Raster Function Infos
Multidimensional Info
Slices
Supported Operations:
Export Image
Identify
Measure
Compute Histograms
Compute Statistics Histograms
Get Samples
Compute Class Statistics
Query Boundary
Compute Pixel Location
Compute Angles
Validate
Project