View In:
  ArcGIS JavaScript
  ArcGIS Online Map Viewer
  ArcGIS Earth
Service Description:  wildareas-v3/wildareas_v3_1993_human_footprint
Name:  wildareas-v3/wildareas_v3_1993_human_footprint
Description:  
Single Fused Map Cache:  false
Extent: 
XMin: -179.999999909593
YMin: -55.791667932392016
XMax: 179.99661110853617
YMax: 83.66621130702998
Spatial Reference: 0
 (0)
 LatestVCSWkid(0)
Initial Extent: 
XMin: -179.999999909593
YMin: -55.791667932392016
XMax: 179.99661110853617
YMax: 83.66621130702998
Spatial Reference: 0
 (0)
 LatestVCSWkid(0)
Full Extent: 
XMin: -179.999999909593
YMin: -55.791667932392016
XMax: 179.99661110853617
YMax: 83.66621130702998
Spatial Reference: 0
 (0)
 LatestVCSWkid(0)
Pixel Size X:  0.009892734570434986
Pixel Size Y:  0.009892734570434986
Band Count: 1
Pixel Type: U8
RasterFunction Infos:  {"rasterFunctionInfos": [{
 "name": "None",
 "description": "Make a Raster or Raster Dataset into a Function Raster Dataset.",
 "help": ""
}]}
Mensuration Capabilities: Basic
Inspection Capabilities: 
Has Histograms:  true
Has Colormap:  false
Has Multi Dimensions :  false
Rendering Rule: 
Min Scale:  0
Max Scale:  0
Resampling:  false
Copyright Text:  
Service Data Type:  esriImageServiceDataTypeGeneric
Min Values:  0
Max Values:  128
Mean Values:  7.511054796519914
Standard Deviation Values:  19.876370955202752
Object ID Field:  
Fields: 
None
Default Mosaic Method:  Center
Allowed Mosaic Methods:  
SortField:  
SortValue:  null
Mosaic Operator:  First
Default Compression Quality:  75
Default Resampling Method:  Bilinear
Max Record Count:  null
Max Image Height:  4100
Max Image Width:  15000
Max Download Image Count:  null
Max Mosaic Image Count:  null
Allow Raster Function:  true
Allow Copy:  true
Allow Analysis:  true
Allow Compute TiePoints:  false
Supports Statistics:  false
Supports Advanced Queries:  false
Use StandardizedQueries:  true
Raster Type Infos: 
Name: Raster Dataset
Description: Supports all ArcGIS Raster Datasets
Help: 
Has Raster Attribute Table:  true
Edit Fields Info:  null
Ownership Based AccessControl For Rasters:  null
Child Resources:
  
Info
  Raster Attribute Table
  Histograms
  Statistics
  Key Properties
  Legend
  Raster Function Infos
Supported Operations:
  
Export Image
  Identify
  Measure
  Compute Histograms
  Compute Statistics Histograms
  Get Samples
  Compute Class Statistics
  Query Boundary
  Compute Pixel Location
  Compute Angles
  Validate
  Project