View In:
ArcGIS JavaScript
ArcGIS Enterprise Map Viewer
ArcGIS Earth
Service Description: The Tropospheric Emissions: Monitoring of Pollution (TEMPO) Cloud Fraction layer provides information on the effective cloud fraction at 466 nm derived from the O2-O2 cloud retrieval algorithm used in TEMPO data processing, available as approximately one-hour scans for daylight hours over North America, from September 17, 2025 to the present. These data are provisional products, which are potentially ready for testing by operational users and may be suitable for scientific publication. The data are obtained from NASA's Atmospheric Science Data Center (ASDC).
Name: C3685896149-LARC_CLOUD/TEMPO_CLDO4_L3_V04_HOURLY_CLOUD_FRACTION
Description:
Single Fused Map Cache: false
Extent:
XMin: -168.00000549350375
YMin: 14.00000081336853
XMax: -13.00001324350373
YMax: 72.99999786336853
Spatial Reference: 4326
(4326)
LatestVCSWkid(0)
Initial Extent:
XMin: -168.00000549350375
YMin: 14.00000081336853
XMax: -13.00001324350373
YMax: 72.99999786336853
Spatial Reference: 4326
(4326)
LatestVCSWkid(0)
Full Extent:
XMin: -168.00000549350375
YMin: 14.00000081336853
XMax: -13.00001324350373
YMax: 72.99999786336853
Spatial Reference: 4326
(4326)
LatestVCSWkid(0)
Time Info:
Start Time Field: StdTime
End Time Field: StdTime
Time Extent:
[2023/08/02 15:12:49 UTC, 2026/10/25 22:32:33 UTC]
Time Reference:
N/A
Pixel Size X: 0.019999999
Pixel Size Y: 0.019999999
Band Count: 1
Pixel Type: F32
RasterFunction Infos: {"rasterFunctionInfos": [{
"help": "",
"name": "None",
"description": "Make a Raster or Raster Dataset into a Function Raster Dataset."
}]}
Mensuration Capabilities: Basic
Inspection Capabilities:
Has Histograms: true
Has Colormap: false
Has Multi Dimensions : true
Rendering Rule:
Min Scale: 0
Max Scale: 0
Copyright Text:
Service Data Type: esriImageServiceDataTypeScientific
Min Values: 0
Max Values: 1
Mean Values: 0.30807205099992813
Standard Deviation Values: 0.3222919938503257
Object ID Field:
Fields:
None
Default Mosaic Method: Center
Allowed Mosaic Methods:
SortField:
SortValue: N/A
Mosaic Operator: First
Default Compression Quality: 75
Default Resampling Method: Bilinear
Max Record Count: 1000
Max Image Height: 4100
Max Image Width: 15000
Max Download Image Count: null
Max Mosaic Image Count: null
Allow Raster Function: true
Allow Copy: true
Allow Analysis: true
Allow Compute TiePoints: false
Supports Statistics: false
Supports Advanced Queries: false
Use StandardizedQueries: false
Raster Type Infos:
Name: Raster Dataset
Description: Supports all ArcGIS Raster Datasets
Help:
Has Raster Attribute Table: false
Edit Fields Info: N/A
Ownership Based AccessControl For Rasters: N/A
Child Resources:
Info
Histograms
Statistics
Key Properties
Legend
Raster Function Infos
Multidimensional Info
Slices
Supported Operations:
Export Image
Identify
Measure
Compute Histograms
Compute Statistics Histograms
Get Samples
Compute Class Statistics
Query Boundary
Compute Pixel Location
Compute Angles
Validate
Project