View In:
ArcGIS JavaScript
ArcGIS Enterprise Map Viewer
ArcGIS Earth
Service Description: C3685897141-LARC_CLOUD/TEMPO_HCHO_L3_V04_HOURLY_VERTICAL_COLUMN
Name: C3685897141-LARC_CLOUD/TEMPO_HCHO_L3_V04_HOURLY_VERTICAL_COLUMN
Description:
Single Fused Map Cache: false
Extent:
XMin: -168.00000549350375
YMin: 14.00000081336853
XMax: -13.00001324350373
YMax: 72.99999786336853
Spatial Reference: 4326
(4326)
LatestVCSWkid(0)
Initial Extent:
XMin: -168.00000549350375
YMin: 14.00000081336853
XMax: -13.00001324350373
YMax: 72.99999786336853
Spatial Reference: 4326
(4326)
LatestVCSWkid(0)
Full Extent:
XMin: -168.00000549350375
YMin: 14.00000081336853
XMax: -13.00001324350373
YMax: 72.99999786336853
Spatial Reference: 4326
(4326)
LatestVCSWkid(0)
Time Info:
Start Time Field: StdTime
End Time Field: StdTime
Time Extent:
[2023/08/02 15:12:49 UTC, 2026/10/30 22:32:09 UTC]
Time Reference:
N/A
Pixel Size X: 0.019999999
Pixel Size Y: 0.019999999
Band Count: 1
Pixel Type: F32
RasterFunction Infos: {"rasterFunctionInfos": [
{
"help": "",
"name": "None",
"description": "Make a Raster or Raster Dataset into a Function Raster Dataset."
},
{
"help": "",
"name": "TEMPO_HCHO_haline_colormap_RGB",
"description": "cm ocean colormap haline for TEMPO HCHO"
}
]}
Mensuration Capabilities: Basic
Inspection Capabilities:
Has Histograms: true
Has Colormap: false
Has Multi Dimensions : true
Rendering Rule:
Min Scale: 0
Max Scale: 0
Copyright Text:
Service Data Type: esriImageServiceDataTypeScientific
Min Values: -2.017355819796831E+24
Max Values: 8.8236116372270996E+23
Mean Values: 4512547376214167
Standard Deviation Values: 1.1317042182335998E+19
Object ID Field:
Fields:
None
Default Mosaic Method: Center
Allowed Mosaic Methods:
SortField:
SortValue: N/A
Mosaic Operator: First
Default Compression Quality: 75
Default Resampling Method: Bilinear
Max Record Count: 1000
Max Image Height: 4100
Max Image Width: 15000
Max Download Image Count: null
Max Mosaic Image Count: null
Allow Raster Function: true
Allow Copy: true
Allow Analysis: true
Allow Compute TiePoints: false
Supports Statistics: false
Supports Advanced Queries: false
Use StandardizedQueries: false
Raster Type Infos:
Name: Raster Dataset
Description: Supports all ArcGIS Raster Datasets
Help:
Has Raster Attribute Table: false
Edit Fields Info: N/A
Ownership Based AccessControl For Rasters: N/A
Child Resources:
Info
Histograms
Statistics
Key Properties
Legend
Raster Function Infos
Multidimensional Info
Slices
Supported Operations:
Export Image
Identify
Measure
Compute Histograms
Compute Statistics Histograms
Get Samples
Compute Class Statistics
Query Boundary
Compute Pixel Location
Compute Angles
Validate
Project