View In:
ArcGIS JavaScript
ArcGIS Enterprise Map Viewer
ArcGIS Earth
Service Description: Dates of Images:
10/11/2024, 10/12/2024, 10/13/2024, 10/14/2024
Date of Next Image:
None Expected
Summary:
These UAVSAR false color RGB images provide a unique look at the Earth's surface that can be used for identifying flooding and inundation under tree canopy. The overlay of the intensities of these three polarization channels allows user to visually classify a scene by its backscattering mechanism, such as surface scattering (strong HH and VV return), volume scattering (strong HV return) and double-bounce scattering (strong HH return). Areas dominated by green (HV) intensity are typically vegetated areas. Areas dominated by shades of pink (HH+HV) intensity are typically inundated forests or vegetated fields. Black and dark grey areas are usually smooth surface (roads, open water, smooth bare ground) where there is very little radar backscatter.
Suggested Use:
The polarimetric color composite is well suited for identifying inundation under tree canopies. This product is especially useful in mapping inundation extent in regions covered with vegetation where the ground is not visible in optical imagery.
RGB Images:
Open water can be seen as dark blue/black, areas with inundation under tree canopy can be seen in pink-like colors.
Satellite/Sensor:
UAVSAR airborne L-band synthetic aperture radar (SAR) aboard a NASA Gulfstream C-20A jet.
Resolution:
10 meters
Credits:
UAVSAR data courtesy of NASA/JPL-Caltech
Esri REST Endpoint:
Name: DISASTERS_202410_HURRICANE_MILTON/2428_uavsar_rgb
Description: Dates of Images:
10/11/2024, 10/12/2024, 10/13/2024, 10/14/2024
Date of Next Image:
None Expected
Summary:
These UAVSAR false color RGB images provide a unique look at the Earth's surface that can be used for identifying flooding and inundation under tree canopy. The overlay of the intensities of these three polarization channels allows user to visually classify a scene by its backscattering mechanism, such as surface scattering (strong HH and VV return), volume scattering (strong HV return) and double-bounce scattering (strong HH return). Areas dominated by green (HV) intensity are typically vegetated areas. Areas dominated by shades of pink (HH+HV) intensity are typically inundated forests or vegetated fields. Black and dark grey areas are usually smooth surface (roads, open water, smooth bare ground) where there is very little radar backscatter.
Suggested Use:
The polarimetric color composite is well suited for identifying inundation under tree canopies. This product is especially useful in mapping inundation extent in regions covered with vegetation where the ground is not visible in optical imagery.
RGB Images:
Open water can be seen as dark blue/black, areas with inundation under tree canopy can be seen in pink-like colors.
Satellite/Sensor:
UAVSAR airborne L-band synthetic aperture radar (SAR) aboard a NASA Gulfstream C-20A jet.
Resolution:
10 meters
Credits:
UAVSAR data courtesy of NASA/JPL-Caltech
Esri REST Endpoint:
Single Fused Map Cache: false
Extent:
XMin: -83.12549672999998
YMin: 26.515357170000012
XMax: -80.47133996999999
YMax: 30.21404193
Spatial Reference: 4326
(4326)
LatestVCSWkid(0)
Initial Extent:
XMin: -83.12549672999998
YMin: 26.515357170000012
XMax: -80.47133996999999
YMax: 30.21404193
Spatial Reference: 4326
(4326)
LatestVCSWkid(0)
Full Extent:
XMin: -83.12549672999998
YMin: 26.515357170000012
XMax: -80.47133996999999
YMax: 30.21404193
Spatial Reference: 4326
(4326)
LatestVCSWkid(0)
Pixel Size X: 5.555999999999984E-5
Pixel Size Y: 5.555999999999983E-5
Band Count: 4
Pixel Type: U8
RasterFunction Infos: {"rasterFunctionInfos": [{
"help": "",
"name": "None",
"description": ""
}]}
Mensuration Capabilities: Basic
Inspection Capabilities:
Has Histograms: false
Has Colormap: false
Has Multi Dimensions : false
Rendering Rule:
Min Scale: 0
Max Scale: 0
Copyright Text: NASA/JPL-Caltech UAVSAR Team
Service Data Type: esriImageServiceDataTypeGeneric
Min Values: N/A
Max Values: N/A
Mean Values: N/A
Standard Deviation Values: N/A
Object ID Field: objectid
Fields:
-
objectid
(
alias: OBJECTID
, type: esriFieldTypeOID
)
-
name
(
length: 200
, alias: Name
, type: esriFieldTypeString
)
-
minps
(
alias: MinPS
, type: esriFieldTypeDouble
)
-
maxps
(
alias: MaxPS
, type: esriFieldTypeDouble
)
-
lowps
(
alias: LowPS
, type: esriFieldTypeDouble
)
-
highps
(
alias: HighPS
, type: esriFieldTypeDouble
)
-
category
(
alias: Category
, type: esriFieldTypeInteger
, Coded Values:
[0: Unknown]
, [1: Primary]
, [2: Overview]
, ...6 more...
)
-
tag
(
length: 100
, alias: Tag
, type: esriFieldTypeString
)
-
groupname
(
length: 100
, alias: GroupName
, type: esriFieldTypeString
)
-
productname
(
length: 100
, alias: ProductName
, type: esriFieldTypeString
)
-
centerx
(
alias: CenterX
, type: esriFieldTypeDouble
)
-
centery
(
alias: CenterY
, type: esriFieldTypeDouble
)
-
zorder
(
alias: ZOrder
, type: esriFieldTypeInteger
)
-
date
(
alias: Date
, type: esriFieldTypeDateOnly
)
-
shape
(
alias: Shape
, type: esriFieldTypeGeometry
)
Default Mosaic Method: Northwest
Allowed Mosaic Methods: NorthWest,Center,LockRaster,ByAttribute,Nadir,Viewpoint,Seamline,None
SortField:
SortValue: N/A
Mosaic Operator: First
Default Compression Quality: 75
Default Resampling Method: Bilinear
Max Record Count: 1000
Max Image Height: 4100
Max Image Width: 15000
Max Download Image Count: 20
Max Mosaic Image Count: 20
Allow Raster Function: true
Allow Copy: true
Allow Analysis: true
Allow Compute TiePoints: false
Supports Statistics: true
Supports Advanced Queries: true
Use StandardizedQueries: true
Raster Type Infos:
Name: Raster Dataset
Description: Supports all ArcGIS Raster Datasets
Help:
Has Raster Attribute Table: false
Edit Fields Info: N/A
Ownership Based AccessControl For Rasters: N/A
Child Resources:
Info
Statistics
Key Properties
Legend
Raster Function Infos
Supported Operations:
Export Image
Query
Identify
Measure
Compute Histograms
Compute Statistics Histograms
Get Samples
Compute Class Statistics
Query GPS Info
Find Images
Image to Map
Map to Image
Measure from Image
Image to Map Multiray
Query Boundary
Compute Pixel Location
Compute Angles
Validate
Project