View In:
ArcGIS JavaScript
ArcGIS Enterprise Map Viewer
ArcGIS Earth
Service Description: Dates of Images:
Post-Event: March 18, 2025; March 17, 2025; March 16, 2025
Pre-Event: March 13, 2025; March 12, 2025; ; March 11, 2025; March 10, 2025; March 1, 2025
Date of Next Image:
Unknown
Summary:
The True Color RGB composite provides a product of how the surface would look to the naked eye from space. The RGB is created using the red, green, and blue channels of the respective instrument.
Suggested Use:
The True Color RGB provides a product of how the surface would look to the naked eye from space and may show damage caused by severe weather. The True Color RGB is produced using the 3 visible wavelength bands (red, green, and blue) from the respective sensor. Some minor atmospheric corrections have occurred.
Satellite/Sensor:
PlanetScope. This product includes copyrighted material of Planet Labs PBC. All rights reserved.
Resolution:
3 Meters
Credits:
NASA Disasters Program, Includes copyrighted material of Planet Labs PBC. All rights reserved.
Name: DISASTERS_202503_SEVEREWX_SOUTHEASTUS/202504_planet
Description: Dates of Images:
Post-Event: March 18, 2025; March 17, 2025; March 16, 2025
Pre-Event: March 13, 2025; March 12, 2025; ; March 11, 2025; March 10, 2025; March 1, 2025
Date of Next Image:
Unknown
Summary:
The True Color RGB composite provides a product of how the surface would look to the naked eye from space. The RGB is created using the red, green, and blue channels of the respective instrument.
Suggested Use:
The True Color RGB provides a product of how the surface would look to the naked eye from space and may show damage caused by severe weather. The True Color RGB is produced using the 3 visible wavelength bands (red, green, and blue) from the respective sensor. Some minor atmospheric corrections have occurred.
Satellite/Sensor:
PlanetScope. This product includes copyrighted material of Planet Labs PBC. All rights reserved.
Resolution:
3 Meters
Credits:
NASA Disasters Program, Includes copyrighted material of Planet Labs PBC. All rights reserved.
Single Fused Map Cache: false
Extent:
XMin: -1.04221835129E7
YMin: 3417977.365199998
XMax: -9733485.5129
YMax: 4631714.365199998
Spatial Reference: 102100
(3857)
LatestVCSWkid(0)
Initial Extent:
XMin: -1.04221835129E7
YMin: 3417977.365199998
XMax: -9733485.5129
YMax: 4631714.365199998
Spatial Reference: 102100
(3857)
LatestVCSWkid(0)
Full Extent:
XMin: -1.04221835129E7
YMin: 3417977.365199998
XMax: -9733485.5129
YMax: 4631714.365199998
Spatial Reference: 102100
(3857)
LatestVCSWkid(0)
Pixel Size X: 3.0
Pixel Size Y: 3.0
Band Count: 3
Pixel Type: U8
RasterFunction Infos: {"rasterFunctionInfos": [{
"help": "",
"name": "None",
"description": ""
}]}
Mensuration Capabilities: Basic
Inspection Capabilities:
Has Histograms: false
Has Colormap: false
Has Multi Dimensions : false
Rendering Rule:
Min Scale: 0
Max Scale: 0
Copyright Text: NASA Disasters Program, Includes copyrighted material of Planet Labs PBC. All rights reserved.
Service Data Type: esriImageServiceDataTypeRGB
Min Values: N/A
Max Values: N/A
Mean Values: N/A
Standard Deviation Values: N/A
Object ID Field: objectid
Fields:
-
objectid
(
alias: OBJECTID
, type: esriFieldTypeOID
)
-
name
(
length: 200
, alias: Name
, type: esriFieldTypeString
)
-
minps
(
alias: MinPS
, type: esriFieldTypeDouble
)
-
maxps
(
alias: MaxPS
, type: esriFieldTypeDouble
)
-
lowps
(
alias: LowPS
, type: esriFieldTypeDouble
)
-
highps
(
alias: HighPS
, type: esriFieldTypeDouble
)
-
category
(
alias: Category
, type: esriFieldTypeInteger
, Coded Values:
[0: Unknown]
, [1: Primary]
, [2: Overview]
, ...6 more...
)
-
tag
(
length: 100
, alias: Tag
, type: esriFieldTypeString
)
-
groupname
(
length: 100
, alias: GroupName
, type: esriFieldTypeString
)
-
productname
(
length: 100
, alias: ProductName
, type: esriFieldTypeString
)
-
centerx
(
alias: CenterX
, type: esriFieldTypeDouble
)
-
centery
(
alias: CenterY
, type: esriFieldTypeDouble
)
-
zorder
(
alias: ZOrder
, type: esriFieldTypeInteger
)
-
date
(
alias: Date
, type: esriFieldTypeDateOnly
)
-
shape
(
alias: Shape
, type: esriFieldTypeGeometry
)
Default Mosaic Method: Northwest
Allowed Mosaic Methods: NorthWest,Center,LockRaster,ByAttribute,Nadir,Viewpoint,Seamline,None
SortField:
SortValue: N/A
Mosaic Operator: First
Default Compression Quality: 75
Default Resampling Method: Bilinear
Max Record Count: 1000
Max Image Height: 4100
Max Image Width: 15000
Max Download Image Count: 20
Max Mosaic Image Count: 20
Allow Raster Function: true
Allow Copy: true
Allow Analysis: true
Allow Compute TiePoints: false
Supports Statistics: true
Supports Advanced Queries: true
Use StandardizedQueries: true
Raster Type Infos:
Name: Raster Dataset
Description: Supports all ArcGIS Raster Datasets
Help:
Has Raster Attribute Table: false
Edit Fields Info: N/A
Ownership Based AccessControl For Rasters: N/A
Child Resources:
Info
Statistics
Key Properties
Legend
Raster Function Infos
Supported Operations:
Export Image
Query
Identify
Measure
Compute Histograms
Compute Statistics Histograms
Get Samples
Compute Class Statistics
Query GPS Info
Find Images
Image to Map
Map to Image
Measure from Image
Image to Map Multiray
Query Boundary
Compute Pixel Location
Compute Angles
Validate
Project