View In:
ArcGIS JavaScript
ArcGIS Enterprise Map Viewer
ArcGIS Earth
Service Description: Date of Images:
Post-Event: June 26, 2025 at 00:59 UTC (about 6:59PM MT)
Pre-Event: June 20, 2025
Summary:
We developed a rapid-response workflow to map flooded areas during this emergency event using multi-temporal Sentinel-1 SAR data. Sentinel-1’s SAR backscatter characteristics are particularly effective for detecting surface water: water surfaces typically exhibit low backscatter, whereas non-water areas show higher backscatter. Leveraging this physical property, we distinguished between water and non-water surfaces from both pre- and post-flood observations.
To highlight flood-induced surface changes, we computed the differenced co-polarized VV backscatter (dVV = VV_post – VV_pre). This change detection technique enhances the visibility of newly inundated areas. We then applied a simple threshold to the dVV image to separate flooded from non-flooded areas.
Suggested Use:
The final output is a binary raster product, where pixels with a value of 1 represent flooded areas (dark blue color).
Satellite/Sensor:
Sentinel-1 /Synthetic Aperture Radar (SAR)
Resolution:
10 meters
Credits:
Dr. Khuong H. Tran (Khuong.tran@nasa.gov)
Service URL:
WMS Endpoint:
Name: DISASTERS_202506_FIRE_NM/2506_sentinel1_flood
Description: Date of Images:
Post-Event: June 26, 2025 at 00:59 UTC (about 6:59PM MT)
Pre-Event: June 20, 2025
Summary:
We developed a rapid-response workflow to map flooded areas during this emergency event using multi-temporal Sentinel-1 SAR data. Sentinel-1’s SAR backscatter characteristics are particularly effective for detecting surface water: water surfaces typically exhibit low backscatter, whereas non-water areas show higher backscatter. Leveraging this physical property, we distinguished between water and non-water surfaces from both pre- and post-flood observations.
To highlight flood-induced surface changes, we computed the differenced co-polarized VV backscatter (dVV = VV_post – VV_pre). This change detection technique enhances the visibility of newly inundated areas. We then applied a simple threshold to the dVV image to separate flooded from non-flooded areas.
Suggested Use:
The final output is a binary raster product, where pixels with a value of 1 represent flooded areas (dark blue color).
Satellite/Sensor:
Sentinel-1 /Synthetic Aperture Radar (SAR)
Resolution:
10 meters
Credits:
Dr. Khuong H. Tran (Khuong.tran@nasa.gov)
Service URL:
WMS Endpoint:
Single Fused Map Cache: false
Extent:
XMin: -105.35405719542383
YMin: 32.51874379054144
XMax: -103.50972608559805
YMax: 34.08881924412554
Spatial Reference: 4326
(4326)
LatestVCSWkid(0)
Initial Extent:
XMin: -105.35405719542383
YMin: 32.51874379054144
XMax: -103.50972608559805
YMax: 34.08881924412554
Spatial Reference: 4326
(4326)
LatestVCSWkid(0)
Full Extent:
XMin: -105.35405719542383
YMin: 32.51874379054144
XMax: -103.50972608559805
YMax: 34.08881924412554
Spatial Reference: 4326
(4326)
LatestVCSWkid(0)
Pixel Size X: 8.983152841195207E-5
Pixel Size Y: 8.983152841195192E-5
Band Count: 1
Pixel Type: U8
RasterFunction Infos: {"rasterFunctionInfos": [{
"help": "",
"name": "None",
"description": ""
}]}
Mensuration Capabilities: Basic
Inspection Capabilities:
Has Histograms: false
Has Colormap: false
Has Multi Dimensions : false
Rendering Rule:
Min Scale: 0
Max Scale: 0
Copyright Text: Dr. Khuong H. Tran (Khuong.tran@nasa.gov)
Service Data Type: esriImageServiceDataTypeGeneric
Min Values: N/A
Max Values: N/A
Mean Values: N/A
Standard Deviation Values: N/A
Object ID Field: objectid
Fields:
-
objectid
(
alias: OBJECTID
, type: esriFieldTypeOID
)
-
name
(
length: 200
, alias: Name
, type: esriFieldTypeString
)
-
minps
(
alias: MinPS
, type: esriFieldTypeDouble
)
-
maxps
(
alias: MaxPS
, type: esriFieldTypeDouble
)
-
lowps
(
alias: LowPS
, type: esriFieldTypeDouble
)
-
highps
(
alias: HighPS
, type: esriFieldTypeDouble
)
-
category
(
alias: Category
, type: esriFieldTypeInteger
, Coded Values:
[0: Unknown]
, [1: Primary]
, [2: Overview]
, ...6 more...
)
-
tag
(
length: 100
, alias: Tag
, type: esriFieldTypeString
)
-
groupname
(
length: 100
, alias: GroupName
, type: esriFieldTypeString
)
-
productname
(
length: 100
, alias: ProductName
, type: esriFieldTypeString
)
-
centerx
(
alias: CenterX
, type: esriFieldTypeDouble
)
-
centery
(
alias: CenterY
, type: esriFieldTypeDouble
)
-
zorder
(
alias: ZOrder
, type: esriFieldTypeInteger
)
-
date
(
alias: Date
, type: esriFieldTypeDateOnly
)
-
shape
(
alias: Shape
, type: esriFieldTypeGeometry
)
Default Mosaic Method: Northwest
Allowed Mosaic Methods: NorthWest,Center,LockRaster,ByAttribute,Nadir,Viewpoint,Seamline,None
SortField:
SortValue: N/A
Mosaic Operator: First
Default Compression Quality: 75
Default Resampling Method: Bilinear
Max Record Count: 1000
Max Image Height: 4100
Max Image Width: 15000
Max Download Image Count: 20
Max Mosaic Image Count: 20
Allow Raster Function: true
Allow Copy: true
Allow Analysis: true
Allow Compute TiePoints: false
Supports Statistics: true
Supports Advanced Queries: true
Use StandardizedQueries: true
Raster Type Infos:
Name: Raster Dataset
Description: Supports all ArcGIS Raster Datasets
Help:
Has Raster Attribute Table: false
Edit Fields Info: N/A
Ownership Based AccessControl For Rasters: N/A
Child Resources:
Info
Statistics
Key Properties
Legend
Raster Function Infos
Supported Operations:
Export Image
Query
Identify
Measure
Compute Histograms
Compute Statistics Histograms
Get Samples
Compute Class Statistics
Query GPS Info
Find Images
Image to Map
Map to Image
Measure from Image
Image to Map Multiray
Query Boundary
Compute Pixel Location
Compute Angles
Validate
Project