View In:
ArcGIS JavaScript
ArcGIS Enterprise Map Viewer
ArcGIS Earth
Service Description: DISASTERS_202507_FLOOD_TX/202507_uavsar
Name: DISASTERS_202507_FLOOD_TX/202507_uavsar
Description:
Single Fused Map Cache: false
Extent:
XMin: -99.89713002
YMin: 29.45738418
XMax: -96.87744402
YMax: 31.02084258
Spatial Reference: 4326
(4326)
LatestVCSWkid(0)
Initial Extent:
XMin: -99.89713002
YMin: 29.45738418
XMax: -96.87744402
YMax: 31.02084258
Spatial Reference: 4326
(4326)
LatestVCSWkid(0)
Full Extent:
XMin: -99.89713002
YMin: 29.45738418
XMax: -96.87744402
YMax: 31.02084258
Spatial Reference: 4326
(4326)
LatestVCSWkid(0)
Pixel Size X: 2.778000000000007E-4
Pixel Size Y: 2.778000000000003E-4
Band Count: 1
Pixel Type: U8
RasterFunction Infos: {"rasterFunctionInfos": [{
"help": "",
"name": "None",
"description": ""
}]}
Mensuration Capabilities: Basic
Inspection Capabilities:
Has Histograms: true
Has Colormap: false
Has Multi Dimensions : false
Rendering Rule:
Min Scale: 0
Max Scale: 0
Copyright Text:
Service Data Type: esriImageServiceDataTypeGeneric
Min Values: 0
Max Values: 173
Mean Values: 2.1322579506208998
Standard Deviation Values: 18.211584079843998
Object ID Field:
Fields:
None
Default Mosaic Method: Center
Allowed Mosaic Methods:
SortField:
SortValue: N/A
Mosaic Operator: First
Default Compression Quality: 75
Default Resampling Method: Bilinear
Max Record Count: 1000
Max Image Height: 4100
Max Image Width: 15000
Max Download Image Count: null
Max Mosaic Image Count: null
Allow Raster Function: true
Allow Copy: true
Allow Analysis: true
Allow Compute TiePoints: false
Supports Statistics: false
Supports Advanced Queries: false
Use StandardizedQueries: false
Raster Type Infos:
Name: Raster Dataset
Description: Supports all ArcGIS Raster Datasets
Help:
Has Raster Attribute Table: true
Edit Fields Info: N/A
Ownership Based AccessControl For Rasters: N/A
Child Resources:
Info
Raster Attribute Table
Histograms
Statistics
Key Properties
Legend
Raster Function Infos
Supported Operations:
Export Image
Identify
Measure
Compute Histograms
Compute Statistics Histograms
Get Samples
Compute Class Statistics
Query Boundary
Compute Pixel Location
Compute Angles
Validate
Project