View In:
ArcGIS JavaScript
ArcGIS Enterprise Map Viewer
ArcGIS Earth
Service Description: Date(s) of Images:
Post-Event: 01/26/2026
Summary:
BlackSky’s nighttime product utilizes the panchromatic band aboard the BlackSky Gen-2 constellation to collect imagery during the nighttime hours. These nighttime images typically show features that radiate artificial illumination such as bright lights from cities and roadway streetlights. The average sensitivity is 0.2 W/m2/str/µm meaning features brighter than this limit would be detectable. This nighttime product is more sensitive to noise in forms of lines and/or pixels because the panchromatic band is detecting features that are dimmer than daylight imagery. Blacksky will works to remove as much noise as possible, but noise may continue through to the final products. Nighttime imagery by Blacksky is not georeferenced or orthorectified due to current collection methodology.
Suggested Use:
The image shows nighttime lights in brighter colors. Darker colors represent less luminosity.
Resolution:
~1 m (may vary be between 0.8 m and 1.1 m dependent on viewing angels)
Credits:
BlackSky
Name: DISASTERS_202601_WINTERWX_US/202601_BlackSky
Description: Date(s) of Images:
Post-Event: 01/26/2026
Summary:
BlackSky’s nighttime product utilizes the panchromatic band aboard the BlackSky Gen-2 constellation to collect imagery during the nighttime hours. These nighttime images typically show features that radiate artificial illumination such as bright lights from cities and roadway streetlights. The average sensitivity is 0.2 W/m2/str/µm meaning features brighter than this limit would be detectable. This nighttime product is more sensitive to noise in forms of lines and/or pixels because the panchromatic band is detecting features that are dimmer than daylight imagery. Blacksky will works to remove as much noise as possible, but noise may continue through to the final products. Nighttime imagery by Blacksky is not georeferenced or orthorectified due to current collection methodology.
Suggested Use:
The image shows nighttime lights in brighter colors. Darker colors represent less luminosity.
Resolution:
~1 m (may vary be between 0.8 m and 1.1 m dependent on viewing angels)
Credits:
BlackSky
Single Fused Map Cache: false
Extent:
XMin: -1.01402605836E7
YMin: 3939812.8500316087
XMax: -9903492.847317958
YMax: 4099492.277900003
Spatial Reference: 102100
(3857)
LatestVCSWkid(0)
Initial Extent:
XMin: -1.01402605836E7
YMin: 3939812.8500316087
XMax: -9903492.847317958
YMax: 4099492.277900003
Spatial Reference: 102100
(3857)
LatestVCSWkid(0)
Full Extent:
XMin: -1.01402605836E7
YMin: 3939812.8500316087
XMax: -9903492.847317958
YMax: 4099492.277900003
Spatial Reference: 102100
(3857)
LatestVCSWkid(0)
Pixel Size X: 0.9990579232208873
Pixel Size Y: 0.9990579232208858
Band Count: 4
Pixel Type: U8
RasterFunction Infos: {"rasterFunctionInfos": [
{
"help": "",
"name": "None",
"description": "Make a Raster or Raster Dataset into a Function Raster Dataset."
},
{
"help": "",
"name": "umbra_RFT",
"description": "umbra RFT"
}
]}
Mensuration Capabilities: Basic
Inspection Capabilities:
Has Histograms: true
Has Colormap: false
Has Multi Dimensions : false
Rendering Rule:
Min Scale: 0
Max Scale: 0
Copyright Text: NASA Disasters Program, Includes copyrighted material of BlackSky.
Service Data Type: esriImageServiceDataTypeGeneric
Min Values: 0, 0, 0, 0
Max Values: 176, 176, 176, 255
Mean Values: 2.8293551834699024, 2.8293551834699024, 2.8293551834699024, 138.00748129675807
Standard Deviation Values: 7.1889644198429634, 7.1889644198429634, 7.1889644198429634, 125.99391670299522
Object ID Field: objectid
Fields:
-
objectid
(
alias: OBJECTID
, type: esriFieldTypeOID
)
-
name
(
length: 200
, alias: Name
, type: esriFieldTypeString
)
-
minps
(
alias: MinPS
, type: esriFieldTypeDouble
)
-
maxps
(
alias: MaxPS
, type: esriFieldTypeDouble
)
-
lowps
(
alias: LowPS
, type: esriFieldTypeDouble
)
-
highps
(
alias: HighPS
, type: esriFieldTypeDouble
)
-
category
(
alias: Category
, type: esriFieldTypeInteger
, Coded Values:
[0: Unknown]
, [1: Primary]
, [2: Overview]
, ...6 more...
)
-
tag
(
length: 100
, alias: Tag
, type: esriFieldTypeString
)
-
groupname
(
length: 100
, alias: GroupName
, type: esriFieldTypeString
)
-
productname
(
length: 100
, alias: ProductName
, type: esriFieldTypeString
)
-
centerx
(
alias: CenterX
, type: esriFieldTypeDouble
)
-
centery
(
alias: CenterY
, type: esriFieldTypeDouble
)
-
zorder
(
alias: ZOrder
, type: esriFieldTypeInteger
)
-
date
(
alias: Date
, type: esriFieldTypeDateOnly
)
-
shape
(
alias: Shape
, type: esriFieldTypeGeometry
)
Default Mosaic Method: Northwest
Allowed Mosaic Methods: NorthWest,Center,LockRaster,ByAttribute,Nadir,Viewpoint,Seamline,None
SortField:
SortValue: N/A
Mosaic Operator: First
Default Compression Quality: 75
Default Resampling Method: Bilinear
Max Record Count: 1000
Max Image Height: 4100
Max Image Width: 15000
Max Download Image Count: 20
Max Mosaic Image Count: 20
Allow Raster Function: true
Allow Copy: true
Allow Analysis: true
Allow Compute TiePoints: false
Supports Statistics: true
Supports Advanced Queries: true
Use StandardizedQueries: true
Raster Type Infos:
Name: Raster Dataset
Description: Supports all ArcGIS Raster Datasets
Help:
Has Raster Attribute Table: false
Edit Fields Info: N/A
Ownership Based AccessControl For Rasters: N/A
Child Resources:
Info
Histograms
Statistics
Key Properties
Legend
Raster Function Infos
Supported Operations:
Export Image
Query
Identify
Measure
Compute Histograms
Compute Statistics Histograms
Get Samples
Compute Class Statistics
Query GPS Info
Find Images
Image to Map
Map to Image
Measure from Image
Image to Map Multiray
Query Boundary
Compute Pixel Location
Compute Angles
Validate
Project