View In:
ArcGIS JavaScript
ArcGIS Enterprise Map Viewer
ArcGIS Earth
Service Description: DISASTERS_202601_WINTERWX_US/202601_umbra_1
Name: DISASTERS_202601_WINTERWX_US/202601_umbra_1
Description:
Single Fused Map Cache: false
Extent:
XMin: -1.01389611402E7
YMin: 3941564.506680688
XMax: -9904405.376845114
YMax: 4098332.769199997
Spatial Reference: 102100
(3857)
LatestVCSWkid(0)
Initial Extent:
XMin: -1.01389611402E7
YMin: 3941564.506680688
XMax: -9904405.376845114
YMax: 4098332.769199997
Spatial Reference: 102100
(3857)
LatestVCSWkid(0)
Full Extent:
XMin: -1.01389611402E7
YMin: 3941564.506680688
XMax: -9904405.376845114
YMax: 4098332.769199997
Spatial Reference: 102100
(3857)
LatestVCSWkid(0)
Pixel Size X: 0.3181180613583007
Pixel Size Y: 0.31811806135830084
Band Count: 1
Pixel Type: F32
RasterFunction Infos: {"rasterFunctionInfos": [{
"help": "",
"name": "None",
"description": ""
}]}
Mensuration Capabilities: Basic
Inspection Capabilities:
Has Histograms: false
Has Colormap: false
Has Multi Dimensions : false
Rendering Rule:
Min Scale: 0
Max Scale: 0
Copyright Text:
Service Data Type: esriImageServiceDataTypeGeneric
Min Values: N/A
Max Values: N/A
Mean Values: N/A
Standard Deviation Values: N/A
Object ID Field: objectid
Fields:
-
objectid
(
alias: OBJECTID
, type: esriFieldTypeOID
)
-
name
(
length: 200
, alias: Name
, type: esriFieldTypeString
)
-
minps
(
alias: MinPS
, type: esriFieldTypeDouble
)
-
maxps
(
alias: MaxPS
, type: esriFieldTypeDouble
)
-
lowps
(
alias: LowPS
, type: esriFieldTypeDouble
)
-
highps
(
alias: HighPS
, type: esriFieldTypeDouble
)
-
category
(
alias: Category
, type: esriFieldTypeInteger
, Coded Values:
[0: Unknown]
, [1: Primary]
, [2: Overview]
, ...6 more...
)
-
tag
(
length: 100
, alias: Tag
, type: esriFieldTypeString
)
-
groupname
(
length: 100
, alias: GroupName
, type: esriFieldTypeString
)
-
productname
(
length: 100
, alias: ProductName
, type: esriFieldTypeString
)
-
centerx
(
alias: CenterX
, type: esriFieldTypeDouble
)
-
centery
(
alias: CenterY
, type: esriFieldTypeDouble
)
-
zorder
(
alias: ZOrder
, type: esriFieldTypeInteger
)
-
shape
(
alias: Shape
, type: esriFieldTypeGeometry
)
Default Mosaic Method: Northwest
Allowed Mosaic Methods: NorthWest,Center,LockRaster,ByAttribute,Nadir,Viewpoint,Seamline,None
SortField:
SortValue: N/A
Mosaic Operator: First
Default Compression Quality: 75
Default Resampling Method: Bilinear
Max Record Count: 1000
Max Image Height: 4100
Max Image Width: 15000
Max Download Image Count: 20
Max Mosaic Image Count: 20
Allow Raster Function: true
Allow Copy: true
Allow Analysis: true
Allow Compute TiePoints: false
Supports Statistics: true
Supports Advanced Queries: true
Use StandardizedQueries: true
Raster Type Infos:
Name: Raster Dataset
Description: Supports all ArcGIS Raster Datasets
Help:
Has Raster Attribute Table: false
Edit Fields Info: N/A
Ownership Based AccessControl For Rasters: N/A
Child Resources:
Info
Statistics
Key Properties
Legend
Raster Function Infos
Supported Operations:
Export Image
Query
Identify
Measure
Compute Histograms
Compute Statistics Histograms
Get Samples
Compute Class Statistics
Query GPS Info
Find Images
Image to Map
Map to Image
Measure from Image
Image to Map Multiray
Query Boundary
Compute Pixel Location
Compute Angles
Validate
Project