View In:
ArcGIS JavaScript
ArcGIS Enterprise Map Viewer
ArcGIS Earth
Service Description: DISASTERS_202603_FLOOD_HI/202605_capella
Name: DISASTERS_202603_FLOOD_HI/202605_capella
Description:
Single Fused Map Cache: false
Extent:
XMin: -158.16212862664042
YMin: 21.534399103278396
XMax: -158.07146895132564
YMax: 21.619544281339135
Spatial Reference: 4326
(4326)
LatestVCSWkid(0)
Initial Extent:
XMin: -158.16212862664042
YMin: 21.534399103278396
XMax: -158.07146895132564
YMax: 21.619544281339135
Spatial Reference: 4326
(4326)
LatestVCSWkid(0)
Full Extent:
XMin: -158.16212862664042
YMin: 21.534399103278396
XMax: -158.07146895132564
YMax: 21.619544281339135
Spatial Reference: 4326
(4326)
LatestVCSWkid(0)
Pixel Size X: 3.7234957826015426E-6
Pixel Size Y: 3.7234957826010586E-6
Band Count: 1
Pixel Type: F32
RasterFunction Infos: {"rasterFunctionInfos": [{
"help": "",
"name": "None",
"description": ""
}]}
Mensuration Capabilities: Basic
Inspection Capabilities:
Has Histograms: false
Has Colormap: false
Has Multi Dimensions : false
Rendering Rule:
Min Scale: 0
Max Scale: 0
Copyright Text:
Service Data Type: esriImageServiceDataTypeGeneric
Min Values: N/A
Max Values: N/A
Mean Values: N/A
Standard Deviation Values: N/A
Object ID Field:
Fields:
None
Default Mosaic Method: Center
Allowed Mosaic Methods:
SortField:
SortValue: N/A
Mosaic Operator: First
Default Compression Quality: 75
Default Resampling Method: Bilinear
Max Record Count: null
Max Image Height: 4100
Max Image Width: 15000
Max Download Image Count: null
Max Mosaic Image Count: null
Allow Raster Function: true
Allow Copy: true
Allow Analysis: true
Allow Compute TiePoints: false
Supports Statistics: false
Supports Advanced Queries: false
Use StandardizedQueries: false
Raster Type Infos:
Name: Raster Dataset
Description: Supports all ArcGIS Raster Datasets
Help:
Has Raster Attribute Table: false
Edit Fields Info: N/A
Ownership Based AccessControl For Rasters: N/A
Child Resources:
Info
Statistics
Key Properties
Legend
Raster Function Infos
Supported Operations:
Export Image
Identify
Measure
Compute Histograms
Compute Statistics Histograms
Get Samples
Compute Class Statistics
Query Boundary
Compute Pixel Location
Compute Angles
Validate
Project