View In:
ArcGIS JavaScript
ArcGIS Enterprise Map Viewer
ArcGIS Earth
Service Description: Date(s) of Image:
3/21/2026
Summary
Umbra backscatter is derived from scaling factors provided within the Umbra Geo-Ellipsoid Corrected geotiff. The GEC product has been projected to a surface with a constant height above the WGS-84 ellipsoid, with the projection height determined by the elevation at scene center. Values correspond to the return strength of the radar signal from the surface. The units for this product are decibels (dB). Debris may manifest in images via nonuniform shapes or with significant backscatter.
Resolution:
0.5 m
Credits:
NASA Disasters Program, Umbra. For derived products: “Includes copyrighted material of Umbra. All rights reserved.” This work utilized data made available through the NASA Commercial Satellite Data Acquisition (CSDA) program."
Name: DISASTERS_202603_FLOOD_HI/202605_umbra
Description: Date(s) of Image:
3/21/2026
Summary
Umbra backscatter is derived from scaling factors provided within the Umbra Geo-Ellipsoid Corrected geotiff. The GEC product has been projected to a surface with a constant height above the WGS-84 ellipsoid, with the projection height determined by the elevation at scene center. Values correspond to the return strength of the radar signal from the surface. The units for this product are decibels (dB). Debris may manifest in images via nonuniform shapes or with significant backscatter.
Resolution:
0.5 m
Credits:
NASA Disasters Program, Umbra. For derived products: “Includes copyrighted material of Umbra. All rights reserved.” This work utilized data made available through the NASA Commercial Satellite Data Acquisition (CSDA) program."
Single Fused Map Cache: false
Extent:
XMin: -1.76045518815E7
YMin: 2447950.735046433
XMax: -1.7590568095233325E7
YMax: 2464192.8709000014
Spatial Reference: 102100
(3857)
LatestVCSWkid(0)
Initial Extent:
XMin: -1.76045518815E7
YMin: 2447950.735046433
XMax: -1.7590568095233325E7
YMax: 2464192.8709000014
Spatial Reference: 102100
(3857)
LatestVCSWkid(0)
Full Extent:
XMin: -1.76045518815E7
YMin: 2447950.735046433
XMax: -1.7590568095233325E7
YMax: 2464192.8709000014
Spatial Reference: 102100
(3857)
LatestVCSWkid(0)
Pixel Size X: 0.4281231444347842
Pixel Size Y: 0.4281231444348294
Band Count: 1
Pixel Type: F32
RasterFunction Infos: {"rasterFunctionInfos": [
{
"help": "",
"name": "umbra",
"description": "umbra_hiflood"
},
{
"help": "",
"name": "None",
"description": "Make a Raster or Raster Dataset into a Function Raster Dataset."
}
]}
Mensuration Capabilities: None
Inspection Capabilities:
Has Histograms: true
Has Colormap: false
Has Multi Dimensions : false
Rendering Rule:
Min Scale: 0
Max Scale: 0
Copyright Text: NASA Disasters Program, Umbra. For derived products: “Includes copyrighted material of Umbra. All rights reserved.” This work utilized data made available through the NASA Commercial Satellite Data Acquisition (CSDA) program."
Service Data Type: esriImageServiceDataTypeGeneric
Min Values: -28.031452178955078
Max Values: 16.781135559082031
Mean Values: -6.3993470283150486
Standard Deviation Values: 6.4944278169294156
Object ID Field: objectid
Fields:
-
objectid
(
alias: OBJECTID
, type: esriFieldTypeOID
)
-
name
(
length: 200
, alias: Name
, type: esriFieldTypeString
)
-
minps
(
alias: MinPS
, type: esriFieldTypeDouble
)
-
maxps
(
alias: MaxPS
, type: esriFieldTypeDouble
)
-
lowps
(
alias: LowPS
, type: esriFieldTypeDouble
)
-
highps
(
alias: HighPS
, type: esriFieldTypeDouble
)
-
category
(
alias: Category
, type: esriFieldTypeInteger
, Coded Values:
[0: Unknown]
, [1: Primary]
, [2: Overview]
, ...6 more...
)
-
tag
(
length: 100
, alias: Tag
, type: esriFieldTypeString
)
-
groupname
(
length: 100
, alias: GroupName
, type: esriFieldTypeString
)
-
productname
(
length: 100
, alias: ProductName
, type: esriFieldTypeString
)
-
centerx
(
alias: CenterX
, type: esriFieldTypeDouble
)
-
centery
(
alias: CenterY
, type: esriFieldTypeDouble
)
-
zorder
(
alias: ZOrder
, type: esriFieldTypeInteger
)
-
shape
(
alias: Shape
, type: esriFieldTypeGeometry
)
Default Mosaic Method: Northwest
Allowed Mosaic Methods: NorthWest,Center,LockRaster,ByAttribute,Nadir,Viewpoint,Seamline,None
SortField:
SortValue: N/A
Mosaic Operator: First
Default Compression Quality: 75
Default Resampling Method: Bilinear
Max Record Count: 1000
Max Image Height: 4100
Max Image Width: 15000
Max Download Image Count: 20
Max Mosaic Image Count: 20
Allow Raster Function: true
Allow Copy: true
Allow Analysis: true
Allow Compute TiePoints: false
Supports Statistics: true
Supports Advanced Queries: true
Use StandardizedQueries: true
Raster Type Infos:
Name: Raster Dataset
Description: Supports all ArcGIS Raster Datasets
Help:
Has Raster Attribute Table: false
Edit Fields Info: N/A
Ownership Based AccessControl For Rasters: N/A
Child Resources:
Info
Histograms
Statistics
Key Properties
Legend
Raster Function Infos
Supported Operations:
Export Image
Query
Identify
Compute Histograms
Compute Statistics Histograms
Get Samples
Compute Class Statistics
Query GPS Info
Find Images
Image to Map
Map to Image
Measure from Image
Image to Map Multiray
Query Boundary
Compute Pixel Location
Compute Angles
Validate
Project