View In:
ArcGIS JavaScript
ArcGIS Enterprise Map Viewer
ArcGIS Earth
Service Description: Dates of Image:
Post-Event: Forthcoming
Pre-Event: 4/14/2026
Summary:
Capella Space backscatter is derived from scaling factors provided within the Capella Geocoded Terrain Corrected (GEO) product. The GEO product is geocoded and terrain height corrected using a high-resolution Digital Elevation Model (DEM). The SAR image is multi-looked, range compressed and focused. The units for this product are decibels (dB).
Resolution:
Sub 1 meter
Credits
NASA Disasters Program, processing by MSFC, Capella Space. For derived products: “Includes copyrighted material of Capella Space. All rights reserved.” This work utilized data made available through the NASA Commercial Satellite Data Acquisition (CSDA) program.
Name: DISASTERS_202604_TYPHON_SINLAKU/202606_capella
Description: Dates of Image:
Post-Event: Forthcoming
Pre-Event: 4/14/2026
Summary:
Capella Space backscatter is derived from scaling factors provided within the Capella Geocoded Terrain Corrected (GEO) product. The GEO product is geocoded and terrain height corrected using a high-resolution Digital Elevation Model (DEM). The SAR image is multi-looked, range compressed and focused. The units for this product are decibels (dB).
Resolution:
Sub 1 meter
Credits
NASA Disasters Program, processing by MSFC, Capella Space. For derived products: “Includes copyrighted material of Capella Space. All rights reserved.” This work utilized data made available through the NASA Commercial Satellite Data Acquisition (CSDA) program.
Single Fused Map Cache: false
Extent:
XMin: 1.61135191461E7
YMin: 1513413.8365406136
XMax: 1.6228468980010929E7
YMax: 1720816.7719999999
Spatial Reference: 102100
(3857)
LatestVCSWkid(0)
Initial Extent:
XMin: 1.61135191461E7
YMin: 1513413.8365406136
XMax: 1.6228468980010929E7
YMax: 1720816.7719999999
Spatial Reference: 102100
(3857)
LatestVCSWkid(0)
Full Extent:
XMin: 1.61135191461E7
YMin: 1513413.8365406136
XMax: 1.6228468980010929E7
YMax: 1720816.7719999999
Spatial Reference: 102100
(3857)
LatestVCSWkid(0)
Pixel Size X: 0.9295786274315373
Pixel Size Y: 0.9295786274315323
Band Count: 1
Pixel Type: F32
RasterFunction Infos: {"rasterFunctionInfos": [
{
"help": "",
"name": "capella_sinlaku",
"description": "capella_sinlaku"
},
{
"help": "",
"name": "None",
"description": "Make a Raster or Raster Dataset into a Function Raster Dataset."
}
]}
Mensuration Capabilities:
Inspection Capabilities:
Has Histograms: true
Has Colormap: false
Has Multi Dimensions : false
Rendering Rule:
Min Scale: 0
Max Scale: 0
Copyright Text: NASA Disasters Program, MSFC, Commercial Satellite Data Acquisition (CSDA) Program, Capella Space.
Service Data Type: esriImageServiceDataTypeGeneric
Min Values: -60
Max Values: 11.106523513793945
Mean Values: -45.255523109944555
Standard Deviation Values: 24.7860278204436
Object ID Field: objectid
Fields:
-
objectid
(
alias: OBJECTID
, type: esriFieldTypeOID
)
-
name
(
length: 200
, alias: Name
, type: esriFieldTypeString
)
-
minps
(
alias: MinPS
, type: esriFieldTypeDouble
)
-
maxps
(
alias: MaxPS
, type: esriFieldTypeDouble
)
-
lowps
(
alias: LowPS
, type: esriFieldTypeDouble
)
-
highps
(
alias: HighPS
, type: esriFieldTypeDouble
)
-
category
(
alias: Category
, type: esriFieldTypeInteger
, Coded Values:
[0: Unknown]
, [1: Primary]
, [2: Overview]
, ...6 more...
)
-
tag
(
length: 100
, alias: Tag
, type: esriFieldTypeString
)
-
groupname
(
length: 100
, alias: GroupName
, type: esriFieldTypeString
)
-
productname
(
length: 100
, alias: ProductName
, type: esriFieldTypeString
)
-
centerx
(
alias: CenterX
, type: esriFieldTypeDouble
)
-
centery
(
alias: CenterY
, type: esriFieldTypeDouble
)
-
zorder
(
alias: ZOrder
, type: esriFieldTypeInteger
)
-
shape
(
alias: Shape
, type: esriFieldTypeGeometry
)
Default Mosaic Method: Northwest
Allowed Mosaic Methods: NorthWest,Center,LockRaster,ByAttribute,Nadir,Viewpoint,Seamline,None
SortField:
SortValue: N/A
Mosaic Operator: First
Default Compression Quality: 75
Default Resampling Method: Bilinear
Max Record Count: 1000
Max Image Height: 4100
Max Image Width: 15000
Max Download Image Count: 20
Max Mosaic Image Count: 20
Allow Raster Function: true
Allow Copy: true
Allow Analysis: true
Allow Compute TiePoints: false
Supports Statistics: true
Supports Advanced Queries: true
Use StandardizedQueries: true
Raster Type Infos:
Name: Raster Dataset
Description: Supports all ArcGIS Raster Datasets
Help:
Has Raster Attribute Table: false
Edit Fields Info: N/A
Ownership Based AccessControl For Rasters: N/A
Child Resources:
Info
Histograms
Statistics
Key Properties
Legend
Raster Function Infos
Supported Operations:
Export Image
Query
Identify
Compute Histograms
Compute Statistics Histograms
Get Samples
Compute Class Statistics
Query GPS Info
Find Images
Image to Map
Map to Image
Measure from Image
Image to Map Multiray
Query Boundary
Compute Pixel Location
Compute Angles
Validate
Project