View In:
ArcGIS JavaScript
ArcGIS Enterprise Map Viewer
ArcGIS Earth
Service Description: Dates of Images:
Post-Event: May 20, 2026
Pre-Event: May 20, 2026
Date of Next Image:
None
Summary:
The True Color RGB composite provides a product of how the surface would look to the naked eye from space. The RGB is created using the red, green, and blue channels of the respective instrument.
The Color Infrared composite is created using the near-infrared, red, and green channels. The near-infrared gives the ability to see through thin clouds. Healthy vegetation is shown as red, water is in blue.
Suggested Use:
The True Color RGB provides a product of how the surface would look to the naked eye from space. The True Color RGB is produced using the 3 visible wavelength bands (red, green, and blue) from the respective sensor. Some minor atmospheric corrections have occurred.
A Color Infrared composite depicts healthy vegetation as red, water as blue. Some minor atmospheric corrections have occurred.
Satellite/Sensor:
MultiSpectral Instrument (MSI) on European Space Agency's (ESA) Copernicus Sentinel-2A/2B satellites
Resolution:
10 meters
Credits:
NASA Disasters/MSFC, USGS, ESA Copernicus
Esri REST Endpoint:
See URL section on right side of page
WMS Endpoint:
Name: DISASTERS_202605_FIRE_CA/202609_sentinel2
Description: Dates of Images:
Post-Event: May 20, 2026
Pre-Event: May 20, 2026
Date of Next Image:
None
Summary:
The True Color RGB composite provides a product of how the surface would look to the naked eye from space. The RGB is created using the red, green, and blue channels of the respective instrument.
The Color Infrared composite is created using the near-infrared, red, and green channels. The near-infrared gives the ability to see through thin clouds. Healthy vegetation is shown as red, water is in blue.
Suggested Use:
The True Color RGB provides a product of how the surface would look to the naked eye from space. The True Color RGB is produced using the 3 visible wavelength bands (red, green, and blue) from the respective sensor. Some minor atmospheric corrections have occurred.
A Color Infrared composite depicts healthy vegetation as red, water as blue. Some minor atmospheric corrections have occurred.
Satellite/Sensor:
MultiSpectral Instrument (MSI) on European Space Agency's (ESA) Copernicus Sentinel-2A/2B satellites
Resolution:
10 meters
Credits:
NASA Disasters/MSFC, USGS, ESA Copernicus
Esri REST Endpoint:
See URL section on right side of page
WMS Endpoint:
Single Fused Map Cache: false
Extent:
XMin: -1.33931603533E7
YMin: 4004196.669893533
XMax: -1.3202532597971974E7
YMax: 4070354.114
Spatial Reference: 102100
(3857)
LatestVCSWkid(0)
Initial Extent:
XMin: -1.33931603533E7
YMin: 4004196.669893533
XMax: -1.3202532597971974E7
YMax: 4070354.114
Spatial Reference: 102100
(3857)
LatestVCSWkid(0)
Full Extent:
XMin: -1.33931603533E7
YMin: 4004196.669893533
XMax: -1.3202532597971974E7
YMax: 4070354.114
Spatial Reference: 102100
(3857)
LatestVCSWkid(0)
Pixel Size X: 11.336093918174695
Pixel Size Y: 11.336093918174617
Band Count: 3
Pixel Type: U8
RasterFunction Infos: {"rasterFunctionInfos": [{
"help": "",
"name": "None",
"description": ""
}]}
Mensuration Capabilities:
Inspection Capabilities:
Has Histograms: true
Has Colormap: false
Has Multi Dimensions : false
Rendering Rule:
Min Scale: 0
Max Scale: 0
Copyright Text: NASA Disasters/MSFC, USGS, ESA Copernicus
Service Data Type: esriImageServiceDataTypeRGB
Min Values: 1, 1, 1
Max Values: 255, 255, 255
Mean Values: 107.07604539624619, 104.66989368233442, 93.619988207193913
Standard Deviation Values: 21.499968273302443, 17.902641772637711, 17.186187044315897
Object ID Field: objectid
Fields:
-
objectid
(
alias: OBJECTID
, type: esriFieldTypeOID
)
-
name
(
length: 200
, alias: Name
, type: esriFieldTypeString
)
-
minps
(
alias: MinPS
, type: esriFieldTypeDouble
)
-
maxps
(
alias: MaxPS
, type: esriFieldTypeDouble
)
-
lowps
(
alias: LowPS
, type: esriFieldTypeDouble
)
-
highps
(
alias: HighPS
, type: esriFieldTypeDouble
)
-
category
(
alias: Category
, type: esriFieldTypeInteger
, Coded Values:
[0: Unknown]
, [1: Primary]
, [2: Overview]
, ...6 more...
)
-
tag
(
length: 100
, alias: Tag
, type: esriFieldTypeString
)
-
groupname
(
length: 100
, alias: GroupName
, type: esriFieldTypeString
)
-
productname
(
length: 100
, alias: ProductName
, type: esriFieldTypeString
)
-
centerx
(
alias: CenterX
, type: esriFieldTypeDouble
)
-
centery
(
alias: CenterY
, type: esriFieldTypeDouble
)
-
zorder
(
alias: ZOrder
, type: esriFieldTypeInteger
)
-
date
(
alias: Date
, type: esriFieldTypeDateOnly
)
-
shape
(
alias: Shape
, type: esriFieldTypeGeometry
)
Default Mosaic Method: Northwest
Allowed Mosaic Methods: NorthWest,Center,LockRaster,ByAttribute,Nadir,Viewpoint,Seamline,None
SortField:
SortValue: N/A
Mosaic Operator: First
Default Compression Quality: 75
Default Resampling Method: Bilinear
Max Record Count: 1000
Max Image Height: 4100
Max Image Width: 15000
Max Download Image Count: 20
Max Mosaic Image Count: 20
Allow Raster Function: true
Allow Copy: true
Allow Analysis: true
Allow Compute TiePoints: false
Supports Statistics: true
Supports Advanced Queries: true
Use StandardizedQueries: true
Raster Type Infos:
Name: Raster Dataset
Description: Supports all ArcGIS Raster Datasets
Help:
Has Raster Attribute Table: false
Edit Fields Info: N/A
Ownership Based AccessControl For Rasters: N/A
Child Resources:
Info
Histograms
Statistics
Key Properties
Legend
Raster Function Infos
Supported Operations:
Export Image
Query
Identify
Compute Histograms
Compute Statistics Histograms
Get Samples
Compute Class Statistics
Query GPS Info
Find Images
Image to Map
Map to Image
Measure from Image
Image to Map Multiray
Query Boundary
Compute Pixel Location
Compute Angles
Validate
Project