View In:
ArcGIS JavaScript
ArcGIS Enterprise Map Viewer
ArcGIS Earth
Service Description: DISASTERS_202605_FIRE_CA/202609_tempo_pm25_exceedancehrs
Name: DISASTERS_202605_FIRE_CA/202609_tempo_pm25_exceedancehrs
Description:
Single Fused Map Cache: false
Extent:
XMin: -119.49654418230057
YMin: 33.51353146737082
XMax: -117.52178925275803
YMax: 34.99450991446512
Spatial Reference: 4326
(4326)
LatestVCSWkid(0)
Initial Extent:
XMin: -119.49654418230057
YMin: 33.51353146737082
XMax: -117.52178925275803
YMax: 34.99450991446512
Spatial Reference: 4326
(4326)
LatestVCSWkid(0)
Full Extent:
XMin: -119.49654418230057
YMin: 33.51353146737082
XMax: -117.52178925275803
YMax: 34.99450991446512
Spatial Reference: 4326
(4326)
LatestVCSWkid(0)
Pixel Size X: 0.030380845069885254
Pixel Size Y: 0.0255341111567983
Band Count: 1
Pixel Type: F32
RasterFunction Infos: {"rasterFunctionInfos": [{
"help": "",
"name": "None",
"description": ""
}]}
Mensuration Capabilities: Basic
Inspection Capabilities:
Has Histograms: false
Has Colormap: false
Has Multi Dimensions : false
Rendering Rule:
Min Scale: 0
Max Scale: 0
Copyright Text:
Service Data Type: esriImageServiceDataTypeGeneric
Min Values: N/A
Max Values: N/A
Mean Values: N/A
Standard Deviation Values: N/A
Object ID Field:
Fields:
None
Default Mosaic Method: Center
Allowed Mosaic Methods:
SortField:
SortValue: N/A
Mosaic Operator: First
Default Compression Quality: 75
Default Resampling Method: Bilinear
Max Record Count: 1000
Max Image Height: 4100
Max Image Width: 15000
Max Download Image Count: null
Max Mosaic Image Count: null
Allow Raster Function: true
Allow Copy: true
Allow Analysis: true
Allow Compute TiePoints: false
Supports Statistics: false
Supports Advanced Queries: false
Use StandardizedQueries: false
Raster Type Infos:
Name: Raster Dataset
Description: Supports all ArcGIS Raster Datasets
Help:
Has Raster Attribute Table: false
Edit Fields Info: N/A
Ownership Based AccessControl For Rasters: N/A
Child Resources:
Info
Statistics
Key Properties
Legend
Raster Function Infos
Supported Operations:
Export Image
Identify
Measure
Compute Histograms
Compute Statistics Histograms
Get Samples
Compute Class Statistics
Query Boundary
Compute Pixel Location
Compute Angles
Validate
Project